BEGIN:VCALENDAR
VERSION:2.0
PRODID:-//CBC-roysecity - ECPv6.15.6//NONSGML v1.0//EN
CALSCALE:GREGORIAN
METHOD:PUBLISH
X-WR-CALNAME:CBC-roysecity
X-ORIGINAL-URL:https://cbc-roysecity.com
X-WR-CALDESC:Events for CBC-roysecity
REFRESH-INTERVAL;VALUE=DURATION:PT1H
X-Robots-Tag:noindex
X-PUBLISHED-TTL:PT1H
BEGIN:VTIMEZONE
TZID:UTC
BEGIN:STANDARD
TZOFFSETFROM:+0000
TZOFFSETTO:+0000
TZNAME:UTC
DTSTART:20230101T000000
END:STANDARD
END:VTIMEZONE
BEGIN:VEVENT
DTSTART;VALUE=DATE:20241225
DTEND;VALUE=DATE:20241226
DTSTAMP:20260426T010041
CREATED:20241101T220857Z
LAST-MODIFIED:20241101T220857Z
UID:3212-1735084800-1735171199@cbc-roysecity.com
SUMMARY:Merry Christmas
DESCRIPTION:Celebrate the birth of our Savior\, Jesus\, the Christ child.
URL:https://cbc-roysecity.com/event/merry-christmas/
LOCATION:TX
END:VEVENT
BEGIN:VEVENT
DTSTART;VALUE=DATE:20241225
DTEND;VALUE=DATE:20241226
DTSTAMP:20260426T010041
CREATED:20241101T221701Z
LAST-MODIFIED:20241101T222646Z
UID:3236-1735084800-1735171199@cbc-roysecity.com
SUMMARY:No Wednesday Night Bible Study
DESCRIPTION:Merry Christmas!
URL:https://cbc-roysecity.com/event/no-wednesday-night-bible-study/
LOCATION:Community Baptist Church – Royse City\, 6012 State Highway 276\, Royse City\, TX\, 75189\, United States
END:VEVENT
BEGIN:VEVENT
DTSTART;VALUE=DATE:20241224
DTEND;VALUE=DATE:20241225
DTSTAMP:20260426T010041
CREATED:20241101T221540Z
LAST-MODIFIED:20241101T222631Z
UID:3234-1734998400-1735084799@cbc-roysecity.com
SUMMARY:No Young Adult Bible Study
DESCRIPTION:Happy Christmas Eve!
URL:https://cbc-roysecity.com/event/no-young-adult-bible-study/
LOCATION:TX
END:VEVENT
BEGIN:VEVENT
DTSTART;VALUE=DATE:20241224
DTEND;VALUE=DATE:20241225
DTSTAMP:20260426T010041
CREATED:20241101T221458Z
LAST-MODIFIED:20241101T221458Z
UID:3232-1734998400-1735084799@cbc-roysecity.com
SUMMARY:No Women's Bible Study
DESCRIPTION:Happy Christmas Eve!
URL:https://cbc-roysecity.com/event/no-womens-bible-study/
LOCATION:Community Baptist Church – Royse City\, 6012 State Highway 276\, Royse City\, TX\, 75189\, United States
END:VEVENT
BEGIN:VEVENT
DTSTART;TZID=UTC:20241222T180000
DTEND;TZID=UTC:20241222T190000
DTSTAMP:20260426T010041
CREATED:20241101T221355Z
LAST-MODIFIED:20241119T205323Z
UID:3230-1734890400-1734894000@cbc-roysecity.com
SUMMARY:Sunday Night - Business Meeting / Bible Studies
DESCRIPTION:We will start the evening out in the Worship Center for a quick Business Meeting (the budget for 2025 will be presented). \nAfter the business meeting\, we will have Bible Studies for all. \nWomen’s Bible Study \nMen’s Bible Study \nStudents’ \nChildren’s
URL:https://cbc-roysecity.com/event/sunday-night-bible-studies-50/
LOCATION:Community Baptist Church – Royse City\, 6012 State Highway 276\, Royse City\, TX\, 75189\, United States
END:VEVENT
BEGIN:VEVENT
DTSTART;TZID=UTC:20241222T104500
DTEND;TZID=UTC:20241222T114500
DTSTAMP:20260426T010041
CREATED:20241101T221332Z
LAST-MODIFIED:20241119T205117Z
UID:3228-1734864300-1734867900@cbc-roysecity.com
SUMMARY:Christmas Candlelight Church Service
DESCRIPTION:Our service this morning will be our Christmas Candlelight Service.  Come sing carols\, pray\, and light a candle to celebrate the birth of the Light to the World\, Jesus. \nWe would love to have you join us this Sunday for our church service. \nHere is a link for what to expect.
URL:https://cbc-roysecity.com/event/church-service-92/
LOCATION:Community Baptist Church – Royse City\, 6012 State Highway 276\, Royse City\, TX\, 75189\, United States
END:VEVENT
BEGIN:VEVENT
DTSTART;TZID=UTC:20241222T094500
DTEND;TZID=UTC:20241222T104500
DTSTAMP:20260426T010041
CREATED:20241101T221306Z
LAST-MODIFIED:20241101T221306Z
UID:3226-1734860700-1734864300@cbc-roysecity.com
SUMMARY:Sunday School
DESCRIPTION:We have Sunday Schools available for all ages and groups. \nChildren \nStudents \nAdults
URL:https://cbc-roysecity.com/event/sunday-school-88/
LOCATION:Community Baptist Church – Royse City\, 6012 State Highway 276\, Royse City\, TX\, 75189\, United States
END:VEVENT
BEGIN:VEVENT
DTSTART;TZID=UTC:20241218T190000
DTEND;TZID=UTC:20241218T200000
DTSTAMP:20260426T010041
CREATED:20241101T221246Z
LAST-MODIFIED:20241101T221246Z
UID:3224-1734548400-1734552000@cbc-roysecity.com
SUMMARY:Wednesday Night Bible Study
DESCRIPTION:We have Bible studies for all. \nAdult Bible Study \nStudents \nChildren
URL:https://cbc-roysecity.com/event/wednesday-night-bible-study-6/
LOCATION:Community Baptist Church – Royse City\, 6012 State Highway 276\, Royse City\, TX\, 75189\, United States
END:VEVENT
BEGIN:VEVENT
DTSTART;TZID=UTC:20241218T190000
DTEND;TZID=UTC:20241218T200000
DTSTAMP:20260426T010041
CREATED:20240821T160840Z
LAST-MODIFIED:20240821T160840Z
UID:3010-1734548400-1734552000@cbc-roysecity.com
SUMMARY:Youth Event - Christmas Party
DESCRIPTION:Cost – $1 gift
URL:https://cbc-roysecity.com/event/youth-event-christmas-party/
LOCATION:Community Baptist Church – Royse City\, 6012 State Highway 276\, Royse City\, TX\, 75189\, United States
END:VEVENT
BEGIN:VEVENT
DTSTART;TZID=UTC:20241217T183000
DTEND;TZID=UTC:20241217T200000
DTSTAMP:20260426T010041
CREATED:20241101T221218Z
LAST-MODIFIED:20241101T221218Z
UID:3222-1734460200-1734465600@cbc-roysecity.com
SUMMARY:Young Adult Bible Study
DESCRIPTION:Tuesday evening at 6:30 pm join with the pastor and his wife at Fuzzy’s /Golden Chick in Royse City. Reach out to Bro. Les at 214-534-0353 for more info.
URL:https://cbc-roysecity.com/event/young-adult-bible-study-37/
LOCATION:TX
END:VEVENT
BEGIN:VEVENT
DTSTART;TZID=UTC:20241217T110000
DTEND;TZID=UTC:20241217T120000
DTSTAMP:20260426T010041
CREATED:20241101T221156Z
LAST-MODIFIED:20241101T221156Z
UID:3220-1734433200-1734436800@cbc-roysecity.com
SUMMARY:Women's Bible Study
DESCRIPTION:Check out what we are studying here.
URL:https://cbc-roysecity.com/event/womens-bible-study-88/
LOCATION:Community Baptist Church – Royse City\, 6012 State Highway 276\, Royse City\, TX\, 75189\, United States
END:VEVENT
BEGIN:VEVENT
DTSTART;TZID=UTC:20241215T180000
DTEND;TZID=UTC:20241215T200000
DTSTAMP:20260426T010041
CREATED:20241101T221131Z
LAST-MODIFIED:20241119T204922Z
UID:3218-1734285600-1734292800@cbc-roysecity.com
SUMMARY:Children's Christmas Program and Shepherds' Dinner
DESCRIPTION:Come celebrate together as our children tell the story and sing songs of the birth of our Savior\, Jesus\, the Christ. \nAfter the program we will enjoy a Shepard’s Dinner together.  It will be a Chili dinner (there will be a list to sign up to bring chili\, cornbread\, toppings\, sides\, etc.)\, as well as a spread of the types of foods that the shepherds may have been eating while tending their flocks.
URL:https://cbc-roysecity.com/event/sunday-night-bible-studies-49/
LOCATION:Community Baptist Church – Royse City\, 6012 State Highway 276\, Royse City\, TX\, 75189\, United States
END:VEVENT
BEGIN:VEVENT
DTSTART;TZID=UTC:20241215T104500
DTEND;TZID=UTC:20241215T114500
DTSTAMP:20260426T010041
CREATED:20241101T221100Z
LAST-MODIFIED:20241119T204612Z
UID:3216-1734259500-1734263100@cbc-roysecity.com
SUMMARY:Church Service - Mission Speaker
DESCRIPTION:Join us this Sunday as the Fleetwood Family\, missionaries to Peru\, join us to let us know how God is working to fulfill his Great Commission. \nWe would love to have you join us this Sunday for our church service. \nHere is a link for what to expect.
URL:https://cbc-roysecity.com/event/church-service-91/
LOCATION:Community Baptist Church – Royse City\, 6012 State Highway 276\, Royse City\, TX\, 75189\, United States
END:VEVENT
BEGIN:VEVENT
DTSTART;TZID=UTC:20241215T094500
DTEND;TZID=UTC:20241215T104500
DTSTAMP:20260426T010041
CREATED:20241101T220540Z
LAST-MODIFIED:20241101T220540Z
UID:3208-1734255900-1734259500@cbc-roysecity.com
SUMMARY:Sunday School
DESCRIPTION:We have Sunday Schools available for all ages and groups. \nChildren \nStudents \nAdults
URL:https://cbc-roysecity.com/event/sunday-school-87/
LOCATION:Community Baptist Church – Royse City\, 6012 State Highway 276\, Royse City\, TX\, 75189\, United States
END:VEVENT
BEGIN:VEVENT
DTSTART;TZID=UTC:20241211T190000
DTEND;TZID=UTC:20241211T200000
DTSTAMP:20260426T010041
CREATED:20241101T220508Z
LAST-MODIFIED:20241101T220508Z
UID:3206-1733943600-1733947200@cbc-roysecity.com
SUMMARY:Wednesday Night Bible Study
DESCRIPTION:We have Bible studies for all. \nAdult Bible Study \nStudents \nChildren
URL:https://cbc-roysecity.com/event/wednesday-night-bible-study-5/
LOCATION:Community Baptist Church – Royse City\, 6012 State Highway 276\, Royse City\, TX\, 75189\, United States
END:VEVENT
BEGIN:VEVENT
DTSTART;TZID=UTC:20241210T183000
DTEND;TZID=UTC:20241210T200000
DTSTAMP:20260426T010041
CREATED:20241101T220445Z
LAST-MODIFIED:20241101T220445Z
UID:3204-1733855400-1733860800@cbc-roysecity.com
SUMMARY:Young Adult Bible Study
DESCRIPTION:Tuesday evening at 6:30 pm join with the pastor and his wife at Fuzzy’s /Golden Chick in Royse City. Reach out to Bro. Les at 214-534-0353 for more info.
URL:https://cbc-roysecity.com/event/young-adult-bible-study-36/
LOCATION:TX
END:VEVENT
BEGIN:VEVENT
DTSTART;TZID=UTC:20241210T110000
DTEND;TZID=UTC:20241210T120000
DTSTAMP:20260426T010041
CREATED:20241101T220421Z
LAST-MODIFIED:20241101T220421Z
UID:3202-1733828400-1733832000@cbc-roysecity.com
SUMMARY:Women's Bible Study
DESCRIPTION:Check out what we are studying here.
URL:https://cbc-roysecity.com/event/womens-bible-study-87/
LOCATION:Community Baptist Church – Royse City\, 6012 State Highway 276\, Royse City\, TX\, 75189\, United States
END:VEVENT
BEGIN:VEVENT
DTSTART;TZID=UTC:20241208T180000
DTEND;TZID=UTC:20241208T190000
DTSTAMP:20260426T010041
CREATED:20241101T220356Z
LAST-MODIFIED:20241101T220356Z
UID:3200-1733680800-1733684400@cbc-roysecity.com
SUMMARY:Sunday Night - Bible Studies
DESCRIPTION:We have Bible Studies for all. \nWomen’s Bible Study \nMen’s Bible Study \nStudents’ \nChildren’s
URL:https://cbc-roysecity.com/event/sunday-night-bible-studies-48/
LOCATION:Community Baptist Church – Royse City\, 6012 State Highway 276\, Royse City\, TX\, 75189\, United States
END:VEVENT
BEGIN:VEVENT
DTSTART;TZID=UTC:20241208T120000
DTEND;TZID=UTC:20241208T150000
DTSTAMP:20260426T010041
CREATED:20240821T160744Z
LAST-MODIFIED:20240821T160744Z
UID:3008-1733659200-1733670000@cbc-roysecity.com
SUMMARY:Youth Event - Mario Cart Party
DESCRIPTION:
URL:https://cbc-roysecity.com/event/youth-event-mario-cart-party/
LOCATION:Community Baptist Church – Royse City\, 6012 State Highway 276\, Royse City\, TX\, 75189\, United States
END:VEVENT
BEGIN:VEVENT
DTSTART;TZID=UTC:20241208T104500
DTEND;TZID=UTC:20241208T114500
DTSTAMP:20260426T010041
CREATED:20241101T220326Z
LAST-MODIFIED:20241119T204131Z
UID:3198-1733654700-1733658300@cbc-roysecity.com
SUMMARY:Church Service - Manger Sunday
DESCRIPTION:We will have our Manger Sunday Missions Offering celebration during service this morning.  This is a time when we can bring our special offering toward missions\, and lay it in the manger for our Lord to use to spread His message of Good News to the world. \n  \nWe would love to have you join us this Sunday for our church service. \nHere is a link for what to expect.
URL:https://cbc-roysecity.com/event/church-service-90/
LOCATION:Community Baptist Church – Royse City\, 6012 State Highway 276\, Royse City\, TX\, 75189\, United States
END:VEVENT
BEGIN:VEVENT
DTSTART;TZID=UTC:20241208T094500
DTEND;TZID=UTC:20241208T104500
DTSTAMP:20260426T010041
CREATED:20241031T145822Z
LAST-MODIFIED:20241031T145822Z
UID:3196-1733651100-1733654700@cbc-roysecity.com
SUMMARY:Sunday School
DESCRIPTION:We have Sunday Schools available for all ages and groups. \nChildren \nStudents \nAdults
URL:https://cbc-roysecity.com/event/sunday-school-86/
LOCATION:Community Baptist Church – Royse City\, 6012 State Highway 276\, Royse City\, TX\, 75189\, United States
END:VEVENT
BEGIN:VEVENT
DTSTART;TZID=UTC:20241204T190000
DTEND;TZID=UTC:20241204T200000
DTSTAMP:20260426T010041
CREATED:20241031T145758Z
LAST-MODIFIED:20241031T145758Z
UID:3194-1733338800-1733342400@cbc-roysecity.com
SUMMARY:Wednesday Night Bible Study
DESCRIPTION:We have Bible studies for all. \nAdult Bible Study \nStudents \nChildren
URL:https://cbc-roysecity.com/event/wednesday-night-bible-study-4/
LOCATION:Community Baptist Church – Royse City\, 6012 State Highway 276\, Royse City\, TX\, 75189\, United States
END:VEVENT
BEGIN:VEVENT
DTSTART;TZID=UTC:20241203T183000
DTEND;TZID=UTC:20241203T200000
DTSTAMP:20260426T010041
CREATED:20241031T145717Z
LAST-MODIFIED:20241031T145717Z
UID:3190-1733250600-1733256000@cbc-roysecity.com
SUMMARY:Young Adult Bible Study
DESCRIPTION:Tuesday evening at 6:30 pm join with the pastor and his wife at Fuzzy’s /Golden Chick in Royse City. Reach out to Bro. Les at 214-534-0353 for more info.
URL:https://cbc-roysecity.com/event/young-adult-bible-study-35/
LOCATION:TX
END:VEVENT
BEGIN:VEVENT
DTSTART;TZID=UTC:20241203T110000
DTEND;TZID=UTC:20241203T120000
DTSTAMP:20260426T010041
CREATED:20241031T145653Z
LAST-MODIFIED:20241031T145653Z
UID:3188-1733223600-1733227200@cbc-roysecity.com
SUMMARY:Women's Bible Study
DESCRIPTION:Check out what we are studying here.
URL:https://cbc-roysecity.com/event/womens-bible-study-86/
LOCATION:Community Baptist Church – Royse City\, 6012 State Highway 276\, Royse City\, TX\, 75189\, United States
END:VEVENT
BEGIN:VEVENT
DTSTART;TZID=UTC:20241201T180000
DTEND;TZID=UTC:20241201T190000
DTSTAMP:20260426T010041
CREATED:20241031T145618Z
LAST-MODIFIED:20241031T145618Z
UID:3186-1733076000-1733079600@cbc-roysecity.com
SUMMARY:Sunday Night - Bible Studies
DESCRIPTION:We have Bible Studies for all. \nWomen’s Bible Study \nMen’s Bible Study \nStudents’ \nChildren’s
URL:https://cbc-roysecity.com/event/sunday-night-bible-studies-47/
LOCATION:Community Baptist Church – Royse City\, 6012 State Highway 276\, Royse City\, TX\, 75189\, United States
END:VEVENT
BEGIN:VEVENT
DTSTART;TZID=UTC:20241201T173000
DTEND;TZID=UTC:20241201T190000
DTSTAMP:20260426T010041
CREATED:20241119T202438Z
LAST-MODIFIED:20241119T202510Z
UID:3296-1733074200-1733079600@cbc-roysecity.com
SUMMARY:Sunday Night - Ladies' Christmas Party
DESCRIPTION:CBC Women’s Fellowship on Sunday\, Dec 1st at 5:30 pm. \nWomen will engage in a craft \, games\, food and fellowship. It’s a time to rejoice in the birth of our Savior. Meet new friends and learn about others. We will also do a small service project. \nEach should bring a finger food – sandwiches\, chips\, dip\, veggies\, cheese crackers\, desserts and anything else you can think of for this fun event. \nClick HERE to be taken to the Facebook Event.  Join in by accepting the invite so we have plenty of crafts. \nOh\, I hear there will be some fun giveaways. Invite a friend\, invite your daughter\, and join with us for this fun evening. \n 
URL:https://cbc-roysecity.com/event/sunday-night-ladies-christmas-party/
LOCATION:Community Baptist Church – Royse City\, 6012 State Highway 276\, Royse City\, TX\, 75189\, United States
END:VEVENT
BEGIN:VEVENT
DTSTART;TZID=UTC:20241201T104500
DTEND;TZID=UTC:20241201T114500
DTSTAMP:20260426T010041
CREATED:20241031T145552Z
LAST-MODIFIED:20241031T145552Z
UID:3184-1733049900-1733053500@cbc-roysecity.com
SUMMARY:Church Service
DESCRIPTION:We would love to have you join us this Sunday for our church service. \nHere is a link for what to expect.
URL:https://cbc-roysecity.com/event/church-service-89/
LOCATION:Community Baptist Church – Royse City\, 6012 State Highway 276\, Royse City\, TX\, 75189\, United States
END:VEVENT
BEGIN:VEVENT
DTSTART;TZID=UTC:20241201T094500
DTEND;TZID=UTC:20241201T104500
DTSTAMP:20260426T010041
CREATED:20241031T145528Z
LAST-MODIFIED:20241031T145528Z
UID:3182-1733046300-1733049900@cbc-roysecity.com
SUMMARY:Sunday School
DESCRIPTION:We have Sunday Schools available for all ages and groups. \nChildren \nStudents \nAdults
URL:https://cbc-roysecity.com/event/sunday-school-85/
LOCATION:Community Baptist Church – Royse City\, 6012 State Highway 276\, Royse City\, TX\, 75189\, United States
END:VEVENT
BEGIN:VEVENT
DTSTART;VALUE=DATE:20241128
DTEND;VALUE=DATE:20241129
DTSTAMP:20260426T010041
CREATED:20241101T220748Z
LAST-MODIFIED:20241101T220748Z
UID:3210-1732752000-1732838399@cbc-roysecity.com
SUMMARY:Happy Thanksgiving
DESCRIPTION:Amidst all the turkey and pumpkin pie\, remember to take time to thank God for all that he has done for you this year.
URL:https://cbc-roysecity.com/event/happy-thanksgiving/
LOCATION:TX
END:VEVENT
BEGIN:VEVENT
DTSTART;VALUE=DATE:20241127
DTEND;VALUE=DATE:20241128
DTSTAMP:20260426T010041
CREATED:20241031T145423Z
LAST-MODIFIED:20241031T145446Z
UID:3180-1732665600-1732751999@cbc-roysecity.com
SUMMARY:Wednesday Night - No Bible Study
DESCRIPTION:We will not be having Bible Study this evening so that families can gather together and begin to thank God for all of the ways He has blessed them this year. \nDo join us next week as we pick back up with our study of the Bible\, and join us during the upcoming Christmas season as we celebrate the birth of our LORD.
URL:https://cbc-roysecity.com/event/wednesday-night-no-bible-study/
LOCATION:Community Baptist Church – Royse City\, 6012 State Highway 276\, Royse City\, TX\, 75189\, United States
END:VEVENT
END:VCALENDAR