BEGIN:VCALENDAR
VERSION:2.0
PRODID:-//CBC-roysecity - ECPv6.15.6//NONSGML v1.0//EN
CALSCALE:GREGORIAN
METHOD:PUBLISH
X-WR-CALNAME:CBC-roysecity
X-ORIGINAL-URL:https://cbc-roysecity.com
X-WR-CALDESC:Events for CBC-roysecity
REFRESH-INTERVAL;VALUE=DURATION:PT1H
X-Robots-Tag:noindex
X-PUBLISHED-TTL:PT1H
BEGIN:VTIMEZONE
TZID:UTC
BEGIN:STANDARD
TZOFFSETFROM:+0000
TZOFFSETTO:+0000
TZNAME:UTC
DTSTART:20240101T000000
END:STANDARD
END:VTIMEZONE
BEGIN:VEVENT
DTSTART;TZID=UTC:20250202T094500
DTEND;TZID=UTC:20250202T104500
DTSTAMP:20260425T190718
CREATED:20241119T214007Z
LAST-MODIFIED:20241119T214007Z
UID:3357-1738489500-1738493100@cbc-roysecity.com
SUMMARY:Sunday School
DESCRIPTION:We have Sunday Schools available for all ages and groups. \nChildren \nStudents \nAdults
URL:https://cbc-roysecity.com/event/sunday-school-94/
LOCATION:Community Baptist Church – Royse City\, 6012 State Highway 276\, Royse City\, TX\, 75189\, United States
END:VEVENT
BEGIN:VEVENT
DTSTART;TZID=UTC:20250129T190000
DTEND;TZID=UTC:20250129T200000
DTSTAMP:20260425T190718
CREATED:20250121T210436Z
LAST-MODIFIED:20250121T210436Z
UID:3545-1738177200-1738180800@cbc-roysecity.com
SUMMARY:Youth Event - Outreach night
DESCRIPTION:Bring a friend and enjoy S’mores.
URL:https://cbc-roysecity.com/event/youth-event-outreach-night-5/
LOCATION:Community Baptist Church – Royse City\, 6012 State Highway 276\, Royse City\, TX\, 75189\, United States
END:VEVENT
BEGIN:VEVENT
DTSTART;TZID=UTC:20250129T190000
DTEND;TZID=UTC:20250129T200000
DTSTAMP:20260425T190718
CREATED:20241119T213343Z
LAST-MODIFIED:20241119T213343Z
UID:3355-1738177200-1738180800@cbc-roysecity.com
SUMMARY:Wednesday Night Bible Study
DESCRIPTION:We have Bible studies for all. \nAdult Bible Study \nStudents \nChildren
URL:https://cbc-roysecity.com/event/wednesday-night-bible-study-10/
LOCATION:Community Baptist Church – Royse City\, 6012 State Highway 276\, Royse City\, TX\, 75189\, United States
END:VEVENT
BEGIN:VEVENT
DTSTART;TZID=UTC:20250128T183000
DTEND;TZID=UTC:20250128T200000
DTSTAMP:20260425T190718
CREATED:20241119T213305Z
LAST-MODIFIED:20241119T213305Z
UID:3353-1738089000-1738094400@cbc-roysecity.com
SUMMARY:Young Adult Bible Study
DESCRIPTION:Tuesday evening at 6:30 pm join with the pastor and his wife at Fuzzy’s /Golden Chick in Royse City. Reach out to Bro. Les at 214-534-0353 for more info.
URL:https://cbc-roysecity.com/event/young-adult-bible-study-41/
LOCATION:TX
END:VEVENT
BEGIN:VEVENT
DTSTART;TZID=UTC:20250128T110000
DTEND;TZID=UTC:20250128T120000
DTSTAMP:20260425T190718
CREATED:20241119T213206Z
LAST-MODIFIED:20241119T213206Z
UID:3351-1738062000-1738065600@cbc-roysecity.com
SUMMARY:Women's Bible Study
DESCRIPTION:Check out what we are studying here.
URL:https://cbc-roysecity.com/event/womens-bible-study-91/
LOCATION:Community Baptist Church – Royse City\, 6012 State Highway 276\, Royse City\, TX\, 75189\, United States
END:VEVENT
BEGIN:VEVENT
DTSTART;TZID=UTC:20250126T180000
DTEND;TZID=UTC:20250126T200000
DTSTAMP:20260425T190718
CREATED:20250121T210321Z
LAST-MODIFIED:20250121T210321Z
UID:3542-1737914400-1737921600@cbc-roysecity.com
SUMMARY:Youth bowling night
DESCRIPTION:We will be taking the van immediately after church. \nThis event should cost around $20-25.  ($13 to bowl\, and $7-12 for lunch)
URL:https://cbc-roysecity.com/event/youth-bowling-night-2/
LOCATION:Shenaniganz\, Greenville\, 1908 Joe Ramsey Blvd E\, Greenville\, 75401\, United States
END:VEVENT
BEGIN:VEVENT
DTSTART;TZID=UTC:20250126T180000
DTEND;TZID=UTC:20250126T190000
DTSTAMP:20260425T190718
CREATED:20241119T213140Z
LAST-MODIFIED:20241119T213140Z
UID:3349-1737914400-1737918000@cbc-roysecity.com
SUMMARY:Sunday Night - Bible Studies
DESCRIPTION:We have Bible Studies for all. \nWomen’s Bible Study \nMen’s Bible Study \nStudents’ \nChildren’s
URL:https://cbc-roysecity.com/event/sunday-night-bible-studies-55/
LOCATION:Community Baptist Church – Royse City\, 6012 State Highway 276\, Royse City\, TX\, 75189\, United States
END:VEVENT
BEGIN:VEVENT
DTSTART;TZID=UTC:20250126T104500
DTEND;TZID=UTC:20250126T114500
DTSTAMP:20260425T190718
CREATED:20241119T211132Z
LAST-MODIFIED:20241119T211132Z
UID:3347-1737888300-1737891900@cbc-roysecity.com
SUMMARY:Church Service
DESCRIPTION:We would love to have you join us this Sunday for our church service. \nHere is a link for what to expect.
URL:https://cbc-roysecity.com/event/church-service-97/
LOCATION:Community Baptist Church – Royse City\, 6012 State Highway 276\, Royse City\, TX\, 75189\, United States
END:VEVENT
BEGIN:VEVENT
DTSTART;TZID=UTC:20250126T094500
DTEND;TZID=UTC:20250126T104500
DTSTAMP:20260425T190718
CREATED:20241119T211105Z
LAST-MODIFIED:20241119T211105Z
UID:3345-1737884700-1737888300@cbc-roysecity.com
SUMMARY:Sunday School
DESCRIPTION:We have Sunday Schools available for all ages and groups. \nChildren \nStudents \nAdults
URL:https://cbc-roysecity.com/event/sunday-school-93/
LOCATION:Community Baptist Church – Royse City\, 6012 State Highway 276\, Royse City\, TX\, 75189\, United States
END:VEVENT
BEGIN:VEVENT
DTSTART;TZID=UTC:20250125T090000
DTEND;TZID=UTC:20250125T110000
DTSTAMP:20260425T190718
CREATED:20250121T204450Z
LAST-MODIFIED:20250121T204450Z
UID:3524-1737795600-1737802800@cbc-roysecity.com
SUMMARY:Men's Breakfast
DESCRIPTION:Men come together to enjoy breakfast and fellowship together.
URL:https://cbc-roysecity.com/event/mens-breakfast-3/
LOCATION:Community Baptist Church – Royse City\, 6012 State Highway 276\, Royse City\, TX\, 75189\, United States
END:VEVENT
BEGIN:VEVENT
DTSTART;TZID=UTC:20250122T190000
DTEND;TZID=UTC:20250122T200000
DTSTAMP:20260425T190718
CREATED:20241119T211018Z
LAST-MODIFIED:20241119T211018Z
UID:3343-1737572400-1737576000@cbc-roysecity.com
SUMMARY:Wednesday Night Bible Study
DESCRIPTION:We have Bible studies for all. \nAdult Bible Study \nStudents \nChildren
URL:https://cbc-roysecity.com/event/wednesday-night-bible-study-9/
LOCATION:Community Baptist Church – Royse City\, 6012 State Highway 276\, Royse City\, TX\, 75189\, United States
END:VEVENT
BEGIN:VEVENT
DTSTART;TZID=UTC:20250121T183000
DTEND;TZID=UTC:20250121T200000
DTSTAMP:20260425T190718
CREATED:20241119T210957Z
LAST-MODIFIED:20241119T210957Z
UID:3341-1737484200-1737489600@cbc-roysecity.com
SUMMARY:Young Adult Bible Study
DESCRIPTION:Tuesday evening at 6:30 pm join with the pastor and his wife at Fuzzy’s /Golden Chick in Royse City. Reach out to Bro. Les at 214-534-0353 for more info.
URL:https://cbc-roysecity.com/event/young-adult-bible-study-40/
LOCATION:TX
END:VEVENT
BEGIN:VEVENT
DTSTART;TZID=UTC:20250121T110000
DTEND;TZID=UTC:20250121T120000
DTSTAMP:20260425T190718
CREATED:20241119T210935Z
LAST-MODIFIED:20241119T210935Z
UID:3339-1737457200-1737460800@cbc-roysecity.com
SUMMARY:Women's Bible Study
DESCRIPTION:Check out what we are studying here.
URL:https://cbc-roysecity.com/event/womens-bible-study-90/
LOCATION:Community Baptist Church – Royse City\, 6012 State Highway 276\, Royse City\, TX\, 75189\, United States
END:VEVENT
BEGIN:VEVENT
DTSTART;TZID=UTC:20250119T180000
DTEND;TZID=UTC:20250119T190000
DTSTAMP:20260425T190718
CREATED:20241119T210905Z
LAST-MODIFIED:20241119T210905Z
UID:3337-1737309600-1737313200@cbc-roysecity.com
SUMMARY:Sunday Night - Bible Studies
DESCRIPTION:We have Bible Studies for all. \nWomen’s Bible Study \nMen’s Bible Study \nStudents’ \nChildren’s
URL:https://cbc-roysecity.com/event/sunday-night-bible-studies-54/
LOCATION:Community Baptist Church – Royse City\, 6012 State Highway 276\, Royse City\, TX\, 75189\, United States
END:VEVENT
BEGIN:VEVENT
DTSTART;TZID=UTC:20250119T104500
DTEND;TZID=UTC:20250119T114500
DTSTAMP:20260425T190718
CREATED:20241119T210654Z
LAST-MODIFIED:20241119T210842Z
UID:3335-1737283500-1737287100@cbc-roysecity.com
SUMMARY:Church Service
DESCRIPTION:We would love to have you join us this Sunday for our church service. \nHere is a link for what to expect.
URL:https://cbc-roysecity.com/event/church-service-96/
LOCATION:Community Baptist Church – Royse City\, 6012 State Highway 276\, Royse City\, TX\, 75189\, United States
END:VEVENT
BEGIN:VEVENT
DTSTART;TZID=UTC:20250119T094500
DTEND;TZID=UTC:20250119T104500
DTSTAMP:20260425T190718
CREATED:20241119T210625Z
LAST-MODIFIED:20241119T210625Z
UID:3333-1737279900-1737283500@cbc-roysecity.com
SUMMARY:Sunday School
DESCRIPTION:We have Sunday Schools available for all ages and groups. \nChildren \nStudents \nAdults
URL:https://cbc-roysecity.com/event/sunday-school-92/
LOCATION:Community Baptist Church – Royse City\, 6012 State Highway 276\, Royse City\, TX\, 75189\, United States
END:VEVENT
BEGIN:VEVENT
DTSTART;TZID=UTC:20250115T190000
DTEND;TZID=UTC:20250115T200000
DTSTAMP:20260425T190718
CREATED:20241119T210604Z
LAST-MODIFIED:20241119T210604Z
UID:3331-1736967600-1736971200@cbc-roysecity.com
SUMMARY:Wednesday Night Bible Study
DESCRIPTION:We have Bible studies for all. \nAdult Bible Study \nStudents \nChildren
URL:https://cbc-roysecity.com/event/wednesday-night-bible-study-8/
LOCATION:Community Baptist Church – Royse City\, 6012 State Highway 276\, Royse City\, TX\, 75189\, United States
END:VEVENT
BEGIN:VEVENT
DTSTART;TZID=UTC:20250114T183000
DTEND;TZID=UTC:20250114T200000
DTSTAMP:20260425T190718
CREATED:20241119T210540Z
LAST-MODIFIED:20241119T210540Z
UID:3329-1736879400-1736884800@cbc-roysecity.com
SUMMARY:Young Adult Bible Study
DESCRIPTION:Tuesday evening at 6:30 pm join with the pastor and his wife at Fuzzy’s /Golden Chick in Royse City. Reach out to Bro. Les at 214-534-0353 for more info.
URL:https://cbc-roysecity.com/event/young-adult-bible-study-39/
LOCATION:TX
END:VEVENT
BEGIN:VEVENT
DTSTART;TZID=UTC:20250114T110000
DTEND;TZID=UTC:20250114T120000
DTSTAMP:20260425T190718
CREATED:20241119T210515Z
LAST-MODIFIED:20241119T210515Z
UID:3327-1736852400-1736856000@cbc-roysecity.com
SUMMARY:Women's Bible Study
DESCRIPTION:Check out what we are studying here.
URL:https://cbc-roysecity.com/event/womens-bible-study-85/
LOCATION:Community Baptist Church – Royse City\, 6012 State Highway 276\, Royse City\, TX\, 75189\, United States
END:VEVENT
BEGIN:VEVENT
DTSTART;TZID=UTC:20250112T180000
DTEND;TZID=UTC:20250112T190000
DTSTAMP:20260425T190718
CREATED:20241101T222454Z
LAST-MODIFIED:20241101T222454Z
UID:3268-1736704800-1736708400@cbc-roysecity.com
SUMMARY:Sunday Night - Bible Studies
DESCRIPTION:We have Bible Studies for all. \nWomen’s Bible Study \nMen’s Bible Study \nStudents’ \nChildren’s
URL:https://cbc-roysecity.com/event/sunday-night-bible-studies-53/
LOCATION:Community Baptist Church – Royse City\, 6012 State Highway 276\, Royse City\, TX\, 75189\, United States
END:VEVENT
BEGIN:VEVENT
DTSTART;TZID=UTC:20250112T104500
DTEND;TZID=UTC:20250112T114500
DTSTAMP:20260425T190718
CREATED:20241101T222431Z
LAST-MODIFIED:20241101T222431Z
UID:3266-1736678700-1736682300@cbc-roysecity.com
SUMMARY:Church Service
DESCRIPTION:We would love to have you join us this Sunday for our church service. \nHere is a link for what to expect.
URL:https://cbc-roysecity.com/event/church-service-95/
LOCATION:Community Baptist Church – Royse City\, 6012 State Highway 276\, Royse City\, TX\, 75189\, United States
END:VEVENT
BEGIN:VEVENT
DTSTART;TZID=UTC:20250112T094500
DTEND;TZID=UTC:20250112T104500
DTSTAMP:20260425T190718
CREATED:20241101T222411Z
LAST-MODIFIED:20241101T222411Z
UID:3264-1736675100-1736678700@cbc-roysecity.com
SUMMARY:Sunday School
DESCRIPTION:We have Sunday Schools available for all ages and groups. \nChildren \nStudents \nAdults
URL:https://cbc-roysecity.com/event/sunday-school-91/
LOCATION:Community Baptist Church – Royse City\, 6012 State Highway 276\, Royse City\, TX\, 75189\, United States
END:VEVENT
BEGIN:VEVENT
DTSTART;TZID=UTC:20250108T190000
DTEND;TZID=UTC:20250108T200000
DTSTAMP:20260425T190718
CREATED:20241101T222343Z
LAST-MODIFIED:20241101T222343Z
UID:3262-1736362800-1736366400@cbc-roysecity.com
SUMMARY:Wednesday Night Bible Study
DESCRIPTION:We have Bible studies for all. \nAdult Bible Study \nStudents \nChildren
URL:https://cbc-roysecity.com/event/wednesday-night-bible-study-7/
LOCATION:Community Baptist Church – Royse City\, 6012 State Highway 276\, Royse City\, TX\, 75189\, United States
END:VEVENT
BEGIN:VEVENT
DTSTART;TZID=UTC:20250107T183000
DTEND;TZID=UTC:20250107T200000
DTSTAMP:20260425T190718
CREATED:20241101T222240Z
LAST-MODIFIED:20241101T222240Z
UID:3258-1736274600-1736280000@cbc-roysecity.com
SUMMARY:Young Adult Bible Study
DESCRIPTION:Tuesday evening at 6:30 pm join with the pastor and his wife at Fuzzy’s /Golden Chick in Royse City. Reach out to Bro. Les at 214-534-0353 for more info.
URL:https://cbc-roysecity.com/event/young-adult-bible-study-38/
LOCATION:TX
END:VEVENT
BEGIN:VEVENT
DTSTART;TZID=UTC:20250107T110000
DTEND;TZID=UTC:20250107T120000
DTSTAMP:20260425T190718
CREATED:20241101T222317Z
LAST-MODIFIED:20241101T222317Z
UID:3260-1736247600-1736251200@cbc-roysecity.com
SUMMARY:Women's Bible Study
DESCRIPTION:Check out what we are studying here.
URL:https://cbc-roysecity.com/event/womens-bible-study-89/
LOCATION:Community Baptist Church – Royse City\, 6012 State Highway 276\, Royse City\, TX\, 75189\, United States
END:VEVENT
BEGIN:VEVENT
DTSTART;TZID=UTC:20250105T180000
DTEND;TZID=UTC:20250105T190000
DTSTAMP:20260425T190718
CREATED:20241101T222203Z
LAST-MODIFIED:20241101T222203Z
UID:3256-1736100000-1736103600@cbc-roysecity.com
SUMMARY:Sunday Night - Bible Studies
DESCRIPTION:We have Bible Studies for all. \nWomen’s Bible Study \nMen’s Bible Study \nStudents’ \nChildren’s
URL:https://cbc-roysecity.com/event/sunday-night-bible-studies-52/
LOCATION:Community Baptist Church – Royse City\, 6012 State Highway 276\, Royse City\, TX\, 75189\, United States
END:VEVENT
BEGIN:VEVENT
DTSTART;TZID=UTC:20250105T104500
DTEND;TZID=UTC:20250105T114500
DTSTAMP:20260425T190718
CREATED:20241101T222141Z
LAST-MODIFIED:20241101T222141Z
UID:3254-1736073900-1736077500@cbc-roysecity.com
SUMMARY:Church Service
DESCRIPTION:We would love to have you join us this Sunday for our church service. \nHere is a link for what to expect.
URL:https://cbc-roysecity.com/event/church-service-94/
LOCATION:Community Baptist Church – Royse City\, 6012 State Highway 276\, Royse City\, TX\, 75189\, United States
END:VEVENT
BEGIN:VEVENT
DTSTART;TZID=UTC:20250105T094500
DTEND;TZID=UTC:20250105T104500
DTSTAMP:20260425T190718
CREATED:20241101T222100Z
LAST-MODIFIED:20241101T222119Z
UID:3252-1736070300-1736073900@cbc-roysecity.com
SUMMARY:Sunday School
DESCRIPTION:We have Sunday Schools available for all ages and groups. \nChildren \nStudents \nAdults
URL:https://cbc-roysecity.com/event/sunday-school-90/
LOCATION:Community Baptist Church – Royse City\, 6012 State Highway 276\, Royse City\, TX\, 75189\, United States
END:VEVENT
BEGIN:VEVENT
DTSTART;VALUE=DATE:20250101
DTEND;VALUE=DATE:20250102
DTSTAMP:20260425T190718
CREATED:20241101T221031Z
LAST-MODIFIED:20241101T221031Z
UID:3214-1735689600-1735775999@cbc-roysecity.com
SUMMARY:Happy New Year
DESCRIPTION:Take a minute today to remember all that God has done for you this year\, and think about all that you can do for him in 2025.
URL:https://cbc-roysecity.com/event/happy-new-year/
LOCATION:TX
END:VEVENT
BEGIN:VEVENT
DTSTART;VALUE=DATE:20250101
DTEND;VALUE=DATE:20250102
DTSTAMP:20260425T190718
CREATED:20241101T222031Z
LAST-MODIFIED:20241101T222716Z
UID:3250-1735689600-1735775999@cbc-roysecity.com
SUMMARY:No Wednesday Night Bible Study
DESCRIPTION:Happy New Year!
URL:https://cbc-roysecity.com/event/no-wednesday-night-bible-study-2/
LOCATION:Community Baptist Church – Royse City\, 6012 State Highway 276\, Royse City\, TX\, 75189\, United States
END:VEVENT
END:VCALENDAR