BEGIN:VCALENDAR
VERSION:2.0
PRODID:-//CBC-roysecity - ECPv6.15.6//NONSGML v1.0//EN
CALSCALE:GREGORIAN
METHOD:PUBLISH
X-WR-CALNAME:CBC-roysecity
X-ORIGINAL-URL:https://cbc-roysecity.com
X-WR-CALDESC:Events for CBC-roysecity
REFRESH-INTERVAL;VALUE=DURATION:PT1H
X-Robots-Tag:noindex
X-PUBLISHED-TTL:PT1H
BEGIN:VTIMEZONE
TZID:UTC
BEGIN:STANDARD
TZOFFSETFROM:+0000
TZOFFSETTO:+0000
TZNAME:UTC
DTSTART:20240101T000000
END:STANDARD
END:VTIMEZONE
BEGIN:VEVENT
DTSTART;TZID=UTC:20250223T094500
DTEND;TZID=UTC:20250223T104500
DTSTAMP:20260425T153728
CREATED:20241229T032851Z
LAST-MODIFIED:20241229T032851Z
UID:3484-1740303900-1740307500@cbc-roysecity.com
SUMMARY:Sunday School
DESCRIPTION:We have Sunday Schools available for all ages and groups. \nChildren \nStudents \nAdults
URL:https://cbc-roysecity.com/event/sunday-school-97/
LOCATION:Community Baptist Church – Royse City\, 6012 State Highway 276\, Royse City\, TX\, 75189\, United States
END:VEVENT
BEGIN:VEVENT
DTSTART;TZID=UTC:20250222T100000
DTEND;TZID=UTC:20250222T140000
DTSTAMP:20260425T153728
CREATED:20250121T205038Z
LAST-MODIFIED:20250121T205038Z
UID:3526-1740218400-1740232800@cbc-roysecity.com
SUMMARY:Men's Fellowship- trip to the gun range
DESCRIPTION:Ammo Depot at 10 am.  We will meet for lunch together afterward. \nThe cost will partly depend on you\, but expect a $20 minimum.
URL:https://cbc-roysecity.com/event/mens-fellowship-trip-to-the-gun-range/
LOCATION:Ammo Depot\, 2308 Co Rd 2226\, Caddo Mills\, TX\, 75135\, United States
END:VEVENT
BEGIN:VEVENT
DTSTART;TZID=UTC:20250219T190000
DTEND;TZID=UTC:20250219T200000
DTSTAMP:20260425T153728
CREATED:20250121T211556Z
LAST-MODIFIED:20250121T211556Z
UID:3552-1739991600-1739995200@cbc-roysecity.com
SUMMARY:Youth Event - Outreach night
DESCRIPTION:Bring a friend and enjoy Pizza
URL:https://cbc-roysecity.com/event/youth-event-outreach-night-6/
LOCATION:Community Baptist Church – Royse City\, 6012 State Highway 276\, Royse City\, TX\, 75189\, United States
END:VEVENT
BEGIN:VEVENT
DTSTART;TZID=UTC:20250219T190000
DTEND;TZID=UTC:20250219T200000
DTSTAMP:20260425T153728
CREATED:20241229T032824Z
LAST-MODIFIED:20241229T032824Z
UID:3482-1739991600-1739995200@cbc-roysecity.com
SUMMARY:Wednesday Night Bible Study
DESCRIPTION:We have Bible studies for all. \nAdult Bible Study \nStudents \nChildren
URL:https://cbc-roysecity.com/event/wednesday-night-bible-study-13/
LOCATION:Community Baptist Church – Royse City\, 6012 State Highway 276\, Royse City\, TX\, 75189\, United States
END:VEVENT
BEGIN:VEVENT
DTSTART;TZID=UTC:20250218T183000
DTEND;TZID=UTC:20250218T200000
DTSTAMP:20260425T153728
CREATED:20241229T032759Z
LAST-MODIFIED:20241229T032759Z
UID:3480-1739903400-1739908800@cbc-roysecity.com
SUMMARY:Young Adult Bible Study
DESCRIPTION:Tuesday evening at 6:30 pm join with the pastor and his wife at Fuzzy’s /Golden Chick in Royse City. Reach out to Bro. Les at 214-534-0353 for more info.
URL:https://cbc-roysecity.com/event/young-adult-bible-study-44/
LOCATION:TX
END:VEVENT
BEGIN:VEVENT
DTSTART;TZID=UTC:20250218T110000
DTEND;TZID=UTC:20250218T120000
DTSTAMP:20260425T153728
CREATED:20241229T032733Z
LAST-MODIFIED:20241229T032733Z
UID:3478-1739876400-1739880000@cbc-roysecity.com
SUMMARY:Women's Bible Study
DESCRIPTION:Check out what we are studying here.
URL:https://cbc-roysecity.com/event/womens-bible-study-94/
LOCATION:Community Baptist Church – Royse City\, 6012 State Highway 276\, Royse City\, TX\, 75189\, United States
END:VEVENT
BEGIN:VEVENT
DTSTART;TZID=UTC:20250216T180000
DTEND;TZID=UTC:20250216T190000
DTSTAMP:20260425T153728
CREATED:20241229T032709Z
LAST-MODIFIED:20241229T032709Z
UID:3476-1739728800-1739732400@cbc-roysecity.com
SUMMARY:Sunday Night - Bible Studies
DESCRIPTION:We have Bible Studies for all. \nWomen’s Bible Study \nMen’s Bible Study \nStudents’ \nChildren’s
URL:https://cbc-roysecity.com/event/sunday-night-bible-studies-58/
LOCATION:Community Baptist Church – Royse City\, 6012 State Highway 276\, Royse City\, TX\, 75189\, United States
END:VEVENT
BEGIN:VEVENT
DTSTART;TZID=UTC:20250216T160000
DTEND;TZID=UTC:20250216T180000
DTSTAMP:20260425T153728
CREATED:20250128T003629Z
LAST-MODIFIED:20250128T003629Z
UID:3673-1739721600-1739728800@cbc-roysecity.com
SUMMARY:Women's Galentine's Event
DESCRIPTION:You are invited to have a wonderful evening with your sisters in Christ. \nFood theme is Chocolate. \nOur Bible Study will be about the woman at the Well. \nOur Learning will be about how to write and share your 5 minute testimony.
URL:https://cbc-roysecity.com/event/womens-galentines-event/
LOCATION:TX
END:VEVENT
BEGIN:VEVENT
DTSTART;TZID=UTC:20250216T104500
DTEND;TZID=UTC:20250216T114500
DTSTAMP:20260425T153728
CREATED:20241229T032648Z
LAST-MODIFIED:20241229T032648Z
UID:3474-1739702700-1739706300@cbc-roysecity.com
SUMMARY:Church Service
DESCRIPTION:We would love to have you join us this Sunday for our church service. \nHere is a link for what to expect.
URL:https://cbc-roysecity.com/event/church-service-100/
LOCATION:Community Baptist Church – Royse City\, 6012 State Highway 276\, Royse City\, TX\, 75189\, United States
END:VEVENT
BEGIN:VEVENT
DTSTART;TZID=UTC:20250216T094500
DTEND;TZID=UTC:20250216T104500
DTSTAMP:20260425T153728
CREATED:20241229T032626Z
LAST-MODIFIED:20241229T032626Z
UID:3472-1739699100-1739702700@cbc-roysecity.com
SUMMARY:Sunday School
DESCRIPTION:We have Sunday Schools available for all ages and groups. \nChildren \nStudents \nAdults
URL:https://cbc-roysecity.com/event/sunday-school-96/
LOCATION:Community Baptist Church – Royse City\, 6012 State Highway 276\, Royse City\, TX\, 75189\, United States
END:VEVENT
BEGIN:VEVENT
DTSTART;TZID=UTC:20250212T190000
DTEND;TZID=UTC:20250212T200000
DTSTAMP:20260425T153728
CREATED:20241229T032604Z
LAST-MODIFIED:20241229T032604Z
UID:3470-1739386800-1739390400@cbc-roysecity.com
SUMMARY:Wednesday Night Bible Study
DESCRIPTION:We have Bible studies for all. \nAdult Bible Study \nStudents \nChildren
URL:https://cbc-roysecity.com/event/wednesday-night-bible-study-12/
LOCATION:Community Baptist Church – Royse City\, 6012 State Highway 276\, Royse City\, TX\, 75189\, United States
END:VEVENT
BEGIN:VEVENT
DTSTART;TZID=UTC:20250211T183000
DTEND;TZID=UTC:20250211T200000
DTSTAMP:20260425T153728
CREATED:20241229T032542Z
LAST-MODIFIED:20241229T032542Z
UID:3468-1739298600-1739304000@cbc-roysecity.com
SUMMARY:Young Adult Bible Study
DESCRIPTION:Tuesday evening at 6:30 pm join with the pastor and his wife at Fuzzy’s /Golden Chick in Royse City. Reach out to Bro. Les at 214-534-0353 for more info.
URL:https://cbc-roysecity.com/event/young-adult-bible-study-43/
LOCATION:TX
END:VEVENT
BEGIN:VEVENT
DTSTART;TZID=UTC:20250211T110000
DTEND;TZID=UTC:20250211T120000
DTSTAMP:20260425T153728
CREATED:20241229T032517Z
LAST-MODIFIED:20241229T032517Z
UID:3466-1739271600-1739275200@cbc-roysecity.com
SUMMARY:Women's Bible Study
DESCRIPTION:Check out what we are studying here.
URL:https://cbc-roysecity.com/event/womens-bible-study-93/
LOCATION:Community Baptist Church – Royse City\, 6012 State Highway 276\, Royse City\, TX\, 75189\, United States
END:VEVENT
BEGIN:VEVENT
DTSTART;TZID=UTC:20250209T180000
DTEND;TZID=UTC:20250209T190000
DTSTAMP:20260425T153728
CREATED:20241229T032452Z
LAST-MODIFIED:20241229T032452Z
UID:3464-1739124000-1739127600@cbc-roysecity.com
SUMMARY:Sunday Night - Bible Studies
DESCRIPTION:We have Bible Studies for all. \nWomen’s Bible Study \nMen’s Bible Study \nStudents’ \nChildren’s
URL:https://cbc-roysecity.com/event/sunday-night-bible-studies-57/
LOCATION:Community Baptist Church – Royse City\, 6012 State Highway 276\, Royse City\, TX\, 75189\, United States
END:VEVENT
BEGIN:VEVENT
DTSTART;TZID=UTC:20250209T104500
DTEND;TZID=UTC:20250209T114500
DTSTAMP:20260425T153728
CREATED:20241229T032418Z
LAST-MODIFIED:20241229T032418Z
UID:3462-1739097900-1739101500@cbc-roysecity.com
SUMMARY:Church Service
DESCRIPTION:We would love to have you join us this Sunday for our church service. \nHere is a link for what to expect.
URL:https://cbc-roysecity.com/event/church-service-99/
LOCATION:Community Baptist Church – Royse City\, 6012 State Highway 276\, Royse City\, TX\, 75189\, United States
END:VEVENT
BEGIN:VEVENT
DTSTART;TZID=UTC:20250209T094500
DTEND;TZID=UTC:20250209T104500
DTSTAMP:20260425T153728
CREATED:20241229T032347Z
LAST-MODIFIED:20241229T032347Z
UID:3460-1739094300-1739097900@cbc-roysecity.com
SUMMARY:Sunday School
DESCRIPTION:We have Sunday Schools available for all ages and groups. \nChildren \nStudents \nAdults
URL:https://cbc-roysecity.com/event/sunday-school-95/
LOCATION:Community Baptist Church – Royse City\, 6012 State Highway 276\, Royse City\, TX\, 75189\, United States
END:VEVENT
BEGIN:VEVENT
DTSTART;TZID=UTC:20250208T100000
DTEND;TZID=UTC:20250208T120000
DTSTAMP:20260425T153728
CREATED:20250128T002312Z
LAST-MODIFIED:20250131T180805Z
UID:3659-1739008800-1739016000@cbc-roysecity.com
SUMMARY:Women's Brunch
DESCRIPTION:Meet us at 10am – Cracker Barrel in Rockwall – 845 E Interstate 30\, Rockwall\, TX 75087 \nWe will enjoy a meal and socialize. \nWe will have a lesson about the Spiritual Gifts\, take an assessment to see what your gifts are\, then start to find the places in our church where we can all use our gifts.
URL:https://cbc-roysecity.com/event/womens-brunch/
LOCATION:Cracker Barrel – Rockwall\, 845 E Interstate 30\, Rockwall\,\, TX\, 75087\, United States
END:VEVENT
BEGIN:VEVENT
DTSTART;VALUE=DATE:20250208
DTEND;VALUE=DATE:20250210
DTSTAMP:20260425T153728
CREATED:20250121T211427Z
LAST-MODIFIED:20250121T211427Z
UID:3549-1738972800-1739145599@cbc-roysecity.com
SUMMARY:Youth Winter Retreat
DESCRIPTION:The van will leave at 8 am on Feb 8th.
URL:https://cbc-roysecity.com/event/youth-winter-retreat/
LOCATION:Falls Creek\, 6714 HWY 77D\, Davis\, OK\, 73030\, United States
END:VEVENT
BEGIN:VEVENT
DTSTART;TZID=UTC:20250205T190000
DTEND;TZID=UTC:20250205T200000
DTSTAMP:20260425T153728
CREATED:20241229T032324Z
LAST-MODIFIED:20241229T032324Z
UID:3458-1738782000-1738785600@cbc-roysecity.com
SUMMARY:Wednesday Night Bible Study
DESCRIPTION:We have Bible studies for all. \nAdult Bible Study \nStudents \nChildren
URL:https://cbc-roysecity.com/event/wednesday-night-bible-study-11/
LOCATION:Community Baptist Church – Royse City\, 6012 State Highway 276\, Royse City\, TX\, 75189\, United States
END:VEVENT
BEGIN:VEVENT
DTSTART;TZID=UTC:20250204T183000
DTEND;TZID=UTC:20250204T200000
DTSTAMP:20260425T153728
CREATED:20241229T032256Z
LAST-MODIFIED:20241229T032256Z
UID:3456-1738693800-1738699200@cbc-roysecity.com
SUMMARY:Young Adult Bible Study
DESCRIPTION:Tuesday evening at 6:30 pm join with the pastor and his wife at Fuzzy’s /Golden Chick in Royse City. Reach out to Bro. Les at 214-534-0353 for more info.
URL:https://cbc-roysecity.com/event/young-adult-bible-study-42/
LOCATION:TX
END:VEVENT
BEGIN:VEVENT
DTSTART;TZID=UTC:20250204T110000
DTEND;TZID=UTC:20250204T120000
DTSTAMP:20260425T153728
CREATED:20241229T032228Z
LAST-MODIFIED:20241229T032228Z
UID:3454-1738666800-1738670400@cbc-roysecity.com
SUMMARY:Women's Bible Study
DESCRIPTION:Check out what we are studying here.
URL:https://cbc-roysecity.com/event/womens-bible-study-92/
LOCATION:Community Baptist Church – Royse City\, 6012 State Highway 276\, Royse City\, TX\, 75189\, United States
END:VEVENT
BEGIN:VEVENT
DTSTART;TZID=UTC:20250202T180000
DTEND;TZID=UTC:20250202T190000
DTSTAMP:20260425T153728
CREATED:20241119T214113Z
LAST-MODIFIED:20241119T214113Z
UID:3361-1738519200-1738522800@cbc-roysecity.com
SUMMARY:Sunday Night - Bible Studies
DESCRIPTION:We have Bible Studies for all. \nWomen’s Bible Study \nMen’s Bible Study \nStudents’ \nChildren’s
URL:https://cbc-roysecity.com/event/sunday-night-bible-studies-56/
LOCATION:Community Baptist Church – Royse City\, 6012 State Highway 276\, Royse City\, TX\, 75189\, United States
END:VEVENT
BEGIN:VEVENT
DTSTART;TZID=UTC:20250202T120000
DTEND;TZID=UTC:20250202T123000
DTSTAMP:20260425T153728
CREATED:20250121T210719Z
LAST-MODIFIED:20250121T210719Z
UID:3547-1738497600-1738499400@cbc-roysecity.com
SUMMARY:Youth Retreat Meeting
DESCRIPTION:This meeting will be right after church. \nThe cost of retreat will be $35.  This meeting will provide all the info.
URL:https://cbc-roysecity.com/event/youth-retreat-meeting/
LOCATION:Community Baptist Church – Royse City\, 6012 State Highway 276\, Royse City\, TX\, 75189\, United States
END:VEVENT
BEGIN:VEVENT
DTSTART;TZID=UTC:20250202T104500
DTEND;TZID=UTC:20250202T114500
DTSTAMP:20260425T153728
CREATED:20241119T214047Z
LAST-MODIFIED:20241119T214047Z
UID:3359-1738493100-1738496700@cbc-roysecity.com
SUMMARY:Church Service
DESCRIPTION:We would love to have you join us this Sunday for our church service. \nHere is a link for what to expect.
URL:https://cbc-roysecity.com/event/church-service-98/
LOCATION:Community Baptist Church – Royse City\, 6012 State Highway 276\, Royse City\, TX\, 75189\, United States
END:VEVENT
BEGIN:VEVENT
DTSTART;TZID=UTC:20250202T094500
DTEND;TZID=UTC:20250202T104500
DTSTAMP:20260425T153728
CREATED:20241119T214007Z
LAST-MODIFIED:20241119T214007Z
UID:3357-1738489500-1738493100@cbc-roysecity.com
SUMMARY:Sunday School
DESCRIPTION:We have Sunday Schools available for all ages and groups. \nChildren \nStudents \nAdults
URL:https://cbc-roysecity.com/event/sunday-school-94/
LOCATION:Community Baptist Church – Royse City\, 6012 State Highway 276\, Royse City\, TX\, 75189\, United States
END:VEVENT
BEGIN:VEVENT
DTSTART;TZID=UTC:20250129T190000
DTEND;TZID=UTC:20250129T200000
DTSTAMP:20260425T153728
CREATED:20250121T210436Z
LAST-MODIFIED:20250121T210436Z
UID:3545-1738177200-1738180800@cbc-roysecity.com
SUMMARY:Youth Event - Outreach night
DESCRIPTION:Bring a friend and enjoy S’mores.
URL:https://cbc-roysecity.com/event/youth-event-outreach-night-5/
LOCATION:Community Baptist Church – Royse City\, 6012 State Highway 276\, Royse City\, TX\, 75189\, United States
END:VEVENT
BEGIN:VEVENT
DTSTART;TZID=UTC:20250129T190000
DTEND;TZID=UTC:20250129T200000
DTSTAMP:20260425T153728
CREATED:20241119T213343Z
LAST-MODIFIED:20241119T213343Z
UID:3355-1738177200-1738180800@cbc-roysecity.com
SUMMARY:Wednesday Night Bible Study
DESCRIPTION:We have Bible studies for all. \nAdult Bible Study \nStudents \nChildren
URL:https://cbc-roysecity.com/event/wednesday-night-bible-study-10/
LOCATION:Community Baptist Church – Royse City\, 6012 State Highway 276\, Royse City\, TX\, 75189\, United States
END:VEVENT
BEGIN:VEVENT
DTSTART;TZID=UTC:20250128T183000
DTEND;TZID=UTC:20250128T200000
DTSTAMP:20260425T153728
CREATED:20241119T213305Z
LAST-MODIFIED:20241119T213305Z
UID:3353-1738089000-1738094400@cbc-roysecity.com
SUMMARY:Young Adult Bible Study
DESCRIPTION:Tuesday evening at 6:30 pm join with the pastor and his wife at Fuzzy’s /Golden Chick in Royse City. Reach out to Bro. Les at 214-534-0353 for more info.
URL:https://cbc-roysecity.com/event/young-adult-bible-study-41/
LOCATION:TX
END:VEVENT
BEGIN:VEVENT
DTSTART;TZID=UTC:20250128T110000
DTEND;TZID=UTC:20250128T120000
DTSTAMP:20260425T153728
CREATED:20241119T213206Z
LAST-MODIFIED:20241119T213206Z
UID:3351-1738062000-1738065600@cbc-roysecity.com
SUMMARY:Women's Bible Study
DESCRIPTION:Check out what we are studying here.
URL:https://cbc-roysecity.com/event/womens-bible-study-91/
LOCATION:Community Baptist Church – Royse City\, 6012 State Highway 276\, Royse City\, TX\, 75189\, United States
END:VEVENT
BEGIN:VEVENT
DTSTART;TZID=UTC:20250126T180000
DTEND;TZID=UTC:20250126T200000
DTSTAMP:20260425T153728
CREATED:20250121T210321Z
LAST-MODIFIED:20250121T210321Z
UID:3542-1737914400-1737921600@cbc-roysecity.com
SUMMARY:Youth bowling night
DESCRIPTION:We will be taking the van immediately after church. \nThis event should cost around $20-25.  ($13 to bowl\, and $7-12 for lunch)
URL:https://cbc-roysecity.com/event/youth-bowling-night-2/
LOCATION:Shenaniganz\, Greenville\, 1908 Joe Ramsey Blvd E\, Greenville\, 75401\, United States
END:VEVENT
END:VCALENDAR