BEGIN:VCALENDAR
VERSION:2.0
PRODID:-//CBC-roysecity - ECPv6.15.6//NONSGML v1.0//EN
CALSCALE:GREGORIAN
METHOD:PUBLISH
X-WR-CALNAME:CBC-roysecity
X-ORIGINAL-URL:https://cbc-roysecity.com
X-WR-CALDESC:Events for CBC-roysecity
REFRESH-INTERVAL;VALUE=DURATION:PT1H
X-Robots-Tag:noindex
X-PUBLISHED-TTL:PT1H
BEGIN:VTIMEZONE
TZID:UTC
BEGIN:STANDARD
TZOFFSETFROM:+0000
TZOFFSETTO:+0000
TZNAME:UTC
DTSTART:20230101T000000
END:STANDARD
END:VTIMEZONE
BEGIN:VEVENT
DTSTART;TZID=UTC:20240813T110000
DTEND;TZID=UTC:20240813T120000
DTSTAMP:20260426T034846
CREATED:20240723T135828Z
LAST-MODIFIED:20240723T135828Z
UID:2779-1723546800-1723550400@cbc-roysecity.com
SUMMARY:Women's Bible Study
DESCRIPTION:Check out what we are studying here.
URL:https://cbc-roysecity.com/event/womens-bible-study-70/
LOCATION:Community Baptist Church – Royse City\, 6012 State Highway 276\, Royse City\, TX\, 75189\, United States
END:VEVENT
BEGIN:VEVENT
DTSTART;TZID=UTC:20240811T180000
DTEND;TZID=UTC:20240811T190000
DTSTAMP:20260426T034846
CREATED:20240602T210122Z
LAST-MODIFIED:20240602T210122Z
UID:2631-1723399200-1723402800@cbc-roysecity.com
SUMMARY:Sunday Night - Bible Studies
DESCRIPTION:We have Bible Studies for all. \nWomen’s Bible Study \nMen’s Bible Study \nStudents’ \nChildren’s
URL:https://cbc-roysecity.com/event/sunday-night-bible-studies-32/
LOCATION:Community Baptist Church – Royse City\, 6012 State Highway 276\, Royse City\, TX\, 75189\, United States
END:VEVENT
BEGIN:VEVENT
DTSTART;TZID=UTC:20240811T104500
DTEND;TZID=UTC:20240811T114500
DTSTAMP:20260426T034846
CREATED:20240602T210100Z
LAST-MODIFIED:20240602T210100Z
UID:2629-1723373100-1723376700@cbc-roysecity.com
SUMMARY:Church Service
DESCRIPTION:We would love to have you join us this Sunday for our church service. \nHere is a link for what to expect.
URL:https://cbc-roysecity.com/event/church-service-74/
LOCATION:Community Baptist Church – Royse City\, 6012 State Highway 276\, Royse City\, TX\, 75189\, United States
END:VEVENT
BEGIN:VEVENT
DTSTART;TZID=UTC:20240811T094500
DTEND;TZID=UTC:20240811T104500
DTSTAMP:20260426T034846
CREATED:20240602T210042Z
LAST-MODIFIED:20240602T210042Z
UID:2627-1723369500-1723373100@cbc-roysecity.com
SUMMARY:Sunday School
DESCRIPTION:We have Sunday Schools available for all ages and groups. \nChildren \nStudents \nAdults
URL:https://cbc-roysecity.com/event/sunday-school-70/
LOCATION:Community Baptist Church – Royse City\, 6012 State Highway 276\, Royse City\, TX\, 75189\, United States
END:VEVENT
BEGIN:VEVENT
DTSTART;TZID=UTC:20240807T190000
DTEND;TZID=UTC:20240807T200000
DTSTAMP:20260426T034846
CREATED:20240806T184344Z
LAST-MODIFIED:20240806T184349Z
UID:2843-1723057200-1723060800@cbc-roysecity.com
SUMMARY:Wednesday Night
DESCRIPTION:We have Bible studies for all. \nAdult Bible Study \nStudents \nChildren
URL:https://cbc-roysecity.com/event/wednesday-night-74/
LOCATION:Community Baptist Church – Royse City\, 6012 State Highway 276\, Royse City\, TX\, 75189\, United States
END:VEVENT
BEGIN:VEVENT
DTSTART;TZID=UTC:20240807T180000
DTEND;TZID=UTC:20240807T200000
DTSTAMP:20260426T034846
CREATED:20240602T210021Z
LAST-MODIFIED:20240801T134441Z
UID:2625-1723053600-1723060800@cbc-roysecity.com
SUMMARY:Back 2 School Bash
DESCRIPTION:Back to school bash for all kids preschool through 12th grade.\nThis is a free event. Wear clothes for play and that you can get wet. (Bring a towel.)\nDinner will be provided. Parents are welcome to stay and fellowship.\nKids\, bring a friend!
URL:https://cbc-roysecity.com/event/wednesday-night-70/
LOCATION:Community Baptist Church – Royse City\, 6012 State Highway 276\, Royse City\, TX\, 75189\, United States
END:VEVENT
BEGIN:VEVENT
DTSTART;TZID=UTC:20240806T183000
DTEND;TZID=UTC:20240806T200000
DTSTAMP:20260426T034846
CREATED:20240723T135801Z
LAST-MODIFIED:20240723T135801Z
UID:2777-1722969000-1722974400@cbc-roysecity.com
SUMMARY:Young Adult Bible Study
DESCRIPTION:Tuesday evening at 6:30 pm join with the pastor and his wife at Fuzzy’s /Golden Chick in Royse City. Reach out to Bro. Les at 214-534-0353 for more info.
URL:https://cbc-roysecity.com/event/young-adult-bible-study-18/
LOCATION:TX
END:VEVENT
BEGIN:VEVENT
DTSTART;TZID=UTC:20240806T110000
DTEND;TZID=UTC:20240806T120000
DTSTAMP:20260426T034846
CREATED:20240602T205949Z
LAST-MODIFIED:20240602T205949Z
UID:2623-1722942000-1722945600@cbc-roysecity.com
SUMMARY:Women's Bible Study
DESCRIPTION:Check out what we are studying here.
URL:https://cbc-roysecity.com/event/womens-bible-study-69/
LOCATION:Community Baptist Church – Royse City\, 6012 State Highway 276\, Royse City\, TX\, 75189\, United States
END:VEVENT
BEGIN:VEVENT
DTSTART;TZID=UTC:20240804T180000
DTEND;TZID=UTC:20240804T190000
DTSTAMP:20260426T034846
CREATED:20240602T205929Z
LAST-MODIFIED:20240602T205929Z
UID:2621-1722794400-1722798000@cbc-roysecity.com
SUMMARY:Sunday Night - Bible Studies
DESCRIPTION:We have Bible Studies for all. \nWomen’s Bible Study \nMen’s Bible Study \nStudents’ \nChildren’s
URL:https://cbc-roysecity.com/event/sunday-night-bible-studies-31/
LOCATION:Community Baptist Church – Royse City\, 6012 State Highway 276\, Royse City\, TX\, 75189\, United States
END:VEVENT
BEGIN:VEVENT
DTSTART;TZID=UTC:20240804T104500
DTEND;TZID=UTC:20240804T114500
DTSTAMP:20260426T034846
CREATED:20240602T205904Z
LAST-MODIFIED:20240602T205904Z
UID:2619-1722768300-1722771900@cbc-roysecity.com
SUMMARY:Church Service
DESCRIPTION:We would love to have you join us this Sunday for our church service. \nHere is a link for what to expect.
URL:https://cbc-roysecity.com/event/church-service-73/
LOCATION:Community Baptist Church – Royse City\, 6012 State Highway 276\, Royse City\, TX\, 75189\, United States
END:VEVENT
BEGIN:VEVENT
DTSTART;TZID=UTC:20240804T094500
DTEND;TZID=UTC:20240804T104500
DTSTAMP:20260426T034846
CREATED:20240602T205841Z
LAST-MODIFIED:20240602T205841Z
UID:2617-1722764700-1722768300@cbc-roysecity.com
SUMMARY:Sunday School
DESCRIPTION:We have Sunday Schools available for all ages and groups. \nChildren \nStudents \nAdults
URL:https://cbc-roysecity.com/event/sunday-school-69/
LOCATION:Community Baptist Church – Royse City\, 6012 State Highway 276\, Royse City\, TX\, 75189\, United States
END:VEVENT
BEGIN:VEVENT
DTSTART;TZID=UTC:20240803T090000
DTEND;TZID=UTC:20240803T110000
DTSTAMP:20260426T034846
CREATED:20240723T135457Z
LAST-MODIFIED:20240801T134614Z
UID:2769-1722675600-1722682800@cbc-roysecity.com
SUMMARY:School Supplies Giveaway
DESCRIPTION:We have been collecting school supplies all year long.  Now is the time to give them out to the kids!
URL:https://cbc-roysecity.com/event/school-supplies-giveaway/
LOCATION:TX
END:VEVENT
BEGIN:VEVENT
DTSTART;TZID=UTC:20240731T190000
DTEND;TZID=UTC:20240731T200000
DTSTAMP:20260426T034846
CREATED:20240602T205739Z
LAST-MODIFIED:20240602T205739Z
UID:2615-1722452400-1722456000@cbc-roysecity.com
SUMMARY:Wednesday Night
DESCRIPTION:We have Bible studies for all. \nAdult Bible Study \nStudents \nChildren
URL:https://cbc-roysecity.com/event/wednesday-night-69/
LOCATION:Community Baptist Church – Royse City\, 6012 State Highway 276\, Royse City\, TX\, 75189\, United States
END:VEVENT
BEGIN:VEVENT
DTSTART;TZID=UTC:20240730T183000
DTEND;TZID=UTC:20240730T200000
DTSTAMP:20260426T034846
CREATED:20240723T135729Z
LAST-MODIFIED:20240723T135729Z
UID:2775-1722364200-1722369600@cbc-roysecity.com
SUMMARY:Young Adult Bible Study
DESCRIPTION:Tuesday evening at 6:30 pm join with the pastor and his wife at Fuzzy’s /Golden Chick in Royse City. Reach out to Bro. Les at 214-534-0353 for more info.
URL:https://cbc-roysecity.com/event/young-adult-bible-study-17/
LOCATION:TX
END:VEVENT
BEGIN:VEVENT
DTSTART;TZID=UTC:20240730T110000
DTEND;TZID=UTC:20240730T120000
DTSTAMP:20260426T034846
CREATED:20240602T205720Z
LAST-MODIFIED:20240602T205720Z
UID:2613-1722337200-1722340800@cbc-roysecity.com
SUMMARY:Women's Bible Study
DESCRIPTION:Check out what we are studying here.
URL:https://cbc-roysecity.com/event/womens-bible-study-68/
LOCATION:Community Baptist Church – Royse City\, 6012 State Highway 276\, Royse City\, TX\, 75189\, United States
END:VEVENT
BEGIN:VEVENT
DTSTART;TZID=UTC:20240728T180000
DTEND;TZID=UTC:20240728T190000
DTSTAMP:20260426T034846
CREATED:20240602T205701Z
LAST-MODIFIED:20240602T205701Z
UID:2611-1722189600-1722193200@cbc-roysecity.com
SUMMARY:Sunday Night - Bible Studies
DESCRIPTION:We have Bible Studies for all. \nWomen’s Bible Study \nMen’s Bible Study \nStudents’ \nChildren’s
URL:https://cbc-roysecity.com/event/sunday-night-bible-studies-30/
LOCATION:Community Baptist Church – Royse City\, 6012 State Highway 276\, Royse City\, TX\, 75189\, United States
END:VEVENT
BEGIN:VEVENT
DTSTART;TZID=UTC:20240728T180000
DTEND;TZID=UTC:20240728T181000
DTSTAMP:20260426T034846
CREATED:20240723T135317Z
LAST-MODIFIED:20240723T135317Z
UID:2767-1722189600-1722190200@cbc-roysecity.com
SUMMARY:Monthly Business Meeting
DESCRIPTION:We will have a quick monthly business meeting before Bible Studies this evening.
URL:https://cbc-roysecity.com/event/monthly-business-meeting/
LOCATION:Community Baptist Church – Royse City\, 6012 State Highway 276\, Royse City\, TX\, 75189\, United States
END:VEVENT
BEGIN:VEVENT
DTSTART;TZID=UTC:20240728T104500
DTEND;TZID=UTC:20240728T114500
DTSTAMP:20260426T034846
CREATED:20240602T205637Z
LAST-MODIFIED:20240723T135040Z
UID:2609-1722163500-1722167100@cbc-roysecity.com
SUMMARY:Church Service - Gideons
DESCRIPTION:We would love to have you join us this Sunday for our church service. \nHere is a link for what to expect. \nThe Gideons will be at church this Sunday.  If you would like to\, bring a love offering to support their very important mission.
URL:https://cbc-roysecity.com/event/church-service-72/
LOCATION:Community Baptist Church – Royse City\, 6012 State Highway 276\, Royse City\, TX\, 75189\, United States
END:VEVENT
BEGIN:VEVENT
DTSTART;TZID=UTC:20240728T094500
DTEND;TZID=UTC:20240728T104500
DTSTAMP:20260426T034846
CREATED:20240602T205619Z
LAST-MODIFIED:20240602T205619Z
UID:2603-1722159900-1722163500@cbc-roysecity.com
SUMMARY:Sunday School
DESCRIPTION:We have Sunday Schools available for all ages and groups. \nChildren \nStudents \nAdults
URL:https://cbc-roysecity.com/event/sunday-school-68/
LOCATION:Community Baptist Church – Royse City\, 6012 State Highway 276\, Royse City\, TX\, 75189\, United States
END:VEVENT
BEGIN:VEVENT
DTSTART;TZID=UTC:20240727T084500
DTEND;TZID=UTC:20240727T160000
DTSTAMP:20260426T034846
CREATED:20240723T134929Z
LAST-MODIFIED:20240723T134929Z
UID:2762-1722069900-1722096000@cbc-roysecity.com
SUMMARY:Equip Conference
DESCRIPTION:A group will be taking the church van and going to the Equip conference on Saturday.  It runs from 8:45-4 and costs $20. \nThey will leave the church at 7:30.  If you want to drive yourself\, it is at Prestonwood church in Dallas. \nIf you are interested\, contact Les.
URL:https://cbc-roysecity.com/event/equip-conference/
LOCATION:TX
END:VEVENT
BEGIN:VEVENT
DTSTART;TZID=UTC:20240724T190000
DTEND;TZID=UTC:20240724T200000
DTSTAMP:20260426T034846
CREATED:20240602T205555Z
LAST-MODIFIED:20240602T205555Z
UID:2606-1721847600-1721851200@cbc-roysecity.com
SUMMARY:Wednesday Night
DESCRIPTION:We have Bible studies for all. \nAdult Bible Study \nStudents \nChildren
URL:https://cbc-roysecity.com/event/wednesday-night-68/
LOCATION:Community Baptist Church – Royse City\, 6012 State Highway 276\, Royse City\, TX\, 75189\, United States
END:VEVENT
BEGIN:VEVENT
DTSTART;TZID=UTC:20240723T183000
DTEND;TZID=UTC:20240723T200000
DTSTAMP:20260426T034846
CREATED:20240723T135706Z
LAST-MODIFIED:20240723T135706Z
UID:2773-1721759400-1721764800@cbc-roysecity.com
SUMMARY:Young Adult Bible Study
DESCRIPTION:Tuesday evening at 6:30 pm join with the pastor and his wife at Fuzzy’s /Golden Chick in Royse City. Reach out to Bro. Les at 214-534-0353 for more info.
URL:https://cbc-roysecity.com/event/young-adult-bible-study-16/
LOCATION:TX
END:VEVENT
BEGIN:VEVENT
DTSTART;TZID=UTC:20240723T110000
DTEND;TZID=UTC:20240723T120000
DTSTAMP:20260426T034846
CREATED:20240602T205500Z
LAST-MODIFIED:20240602T205500Z
UID:2601-1721732400-1721736000@cbc-roysecity.com
SUMMARY:Women's Bible Study
DESCRIPTION:Check out what we are studying here.
URL:https://cbc-roysecity.com/event/womens-bible-study-67/
LOCATION:Community Baptist Church – Royse City\, 6012 State Highway 276\, Royse City\, TX\, 75189\, United States
END:VEVENT
BEGIN:VEVENT
DTSTART;TZID=UTC:20240721T180000
DTEND;TZID=UTC:20240721T190000
DTSTAMP:20260426T034846
CREATED:20240602T205442Z
LAST-MODIFIED:20240602T205442Z
UID:2599-1721584800-1721588400@cbc-roysecity.com
SUMMARY:Sunday Night - Bible Studies
DESCRIPTION:We have Bible Studies for all. \nWomen’s Bible Study \nMen’s Bible Study \nStudents’ \nChildren’s
URL:https://cbc-roysecity.com/event/sunday-night-bible-studies-29/
LOCATION:Community Baptist Church – Royse City\, 6012 State Highway 276\, Royse City\, TX\, 75189\, United States
END:VEVENT
BEGIN:VEVENT
DTSTART;TZID=UTC:20240721T104500
DTEND;TZID=UTC:20240721T114500
DTSTAMP:20260426T034846
CREATED:20240602T205425Z
LAST-MODIFIED:20240602T205425Z
UID:2597-1721558700-1721562300@cbc-roysecity.com
SUMMARY:Church Service
DESCRIPTION:We would love to have you join us this Sunday for our church service. \nHere is a link for what to expect.
URL:https://cbc-roysecity.com/event/church-service-71/
LOCATION:Community Baptist Church – Royse City\, 6012 State Highway 276\, Royse City\, TX\, 75189\, United States
END:VEVENT
BEGIN:VEVENT
DTSTART;TZID=UTC:20240721T094500
DTEND;TZID=UTC:20240721T104500
DTSTAMP:20260426T034846
CREATED:20240602T205405Z
LAST-MODIFIED:20240602T205405Z
UID:2595-1721555100-1721558700@cbc-roysecity.com
SUMMARY:Sunday School
DESCRIPTION:We have Sunday Schools available for all ages and groups. \nChildren \nStudents \nAdults
URL:https://cbc-roysecity.com/event/sunday-school-67/
LOCATION:Community Baptist Church – Royse City\, 6012 State Highway 276\, Royse City\, TX\, 75189\, United States
END:VEVENT
BEGIN:VEVENT
DTSTART;TZID=UTC:20240720T110000
DTEND;TZID=UTC:20240720T140000
DTSTAMP:20260426T034846
CREATED:20240701T141756Z
LAST-MODIFIED:20240701T141756Z
UID:2685-1721473200-1721484000@cbc-roysecity.com
SUMMARY:Celebration of Life for Charley Stewart
DESCRIPTION:Our dear brother\, Charley Stewart\, went to be with the Lord.  Come celebrate his life and his new heavenly home. \nDress Code – bright colors and tropical prints \nThere will be a Pot Luck after the service so we can all sit around and tell Charley stories.  If you can\, bring a dish to share (nothing with onions).  If you are coming from out of town or are just not able to make something\, please don’t worry about it.  Come anyway.  There will be plenty.
URL:https://cbc-roysecity.com/event/celebration-of-life-for-charley-stewart/
LOCATION:Community Baptist Church – Royse City\, 6012 State Highway 276\, Royse City\, TX\, 75189\, United States
END:VEVENT
BEGIN:VEVENT
DTSTART;TZID=UTC:20240717T190000
DTEND;TZID=UTC:20240717T200000
DTSTAMP:20260426T034846
CREATED:20240602T205537Z
LAST-MODIFIED:20240602T205537Z
UID:2604-1721242800-1721246400@cbc-roysecity.com
SUMMARY:Wednesday Night
DESCRIPTION:We have Bible studies for all. \nAdult Bible Study \nStudents \nChildren
URL:https://cbc-roysecity.com/event/wednesday-night-67/
LOCATION:Community Baptist Church – Royse City\, 6012 State Highway 276\, Royse City\, TX\, 75189\, United States
END:VEVENT
BEGIN:VEVENT
DTSTART;TZID=UTC:20240716T183000
DTEND;TZID=UTC:20240716T200000
DTSTAMP:20260426T034846
CREATED:20240723T135619Z
LAST-MODIFIED:20240723T135619Z
UID:2771-1721154600-1721160000@cbc-roysecity.com
SUMMARY:Young Adult Bible Study
DESCRIPTION:Tuesday evening at 6:30 pm join with the pastor and his wife at Fuzzy’s /Golden Chick in Royse City. Reach out to Bro. Les at 214-534-0353 for more info.
URL:https://cbc-roysecity.com/event/young-adult-bible-study-15/
LOCATION:TX
END:VEVENT
BEGIN:VEVENT
DTSTART;TZID=UTC:20240716T110000
DTEND;TZID=UTC:20240716T120000
DTSTAMP:20260426T034846
CREATED:20240602T205346Z
LAST-MODIFIED:20240602T205346Z
UID:2593-1721127600-1721131200@cbc-roysecity.com
SUMMARY:Women's Bible Study
DESCRIPTION:Check out what we are studying here.
URL:https://cbc-roysecity.com/event/womens-bible-study-66/
LOCATION:Community Baptist Church – Royse City\, 6012 State Highway 276\, Royse City\, TX\, 75189\, United States
END:VEVENT
END:VCALENDAR