BEGIN:VCALENDAR
VERSION:2.0
PRODID:-//CBC-roysecity - ECPv6.15.6//NONSGML v1.0//EN
CALSCALE:GREGORIAN
METHOD:PUBLISH
X-WR-CALNAME:CBC-roysecity
X-ORIGINAL-URL:https://cbc-roysecity.com
X-WR-CALDESC:Events for CBC-roysecity
REFRESH-INTERVAL;VALUE=DURATION:PT1H
X-Robots-Tag:noindex
X-PUBLISHED-TTL:PT1H
BEGIN:VTIMEZONE
TZID:UTC
BEGIN:STANDARD
TZOFFSETFROM:+0000
TZOFFSETTO:+0000
TZNAME:UTC
DTSTART:20230101T000000
END:STANDARD
END:VTIMEZONE
BEGIN:VEVENT
DTSTART;TZID=UTC:20241001T110000
DTEND;TZID=UTC:20241001T120000
DTSTAMP:20260425T195345
CREATED:20240821T152204Z
LAST-MODIFIED:20240821T152204Z
UID:2931-1727780400-1727784000@cbc-roysecity.com
SUMMARY:Women's Bible Study
DESCRIPTION:Check out what we are studying here.
URL:https://cbc-roysecity.com/event/womens-bible-study-77/
LOCATION:Community Baptist Church – Royse City\, 6012 State Highway 276\, Royse City\, TX\, 75189\, United States
END:VEVENT
BEGIN:VEVENT
DTSTART;TZID=UTC:20240929T180000
DTEND;TZID=UTC:20240929T190000
DTSTAMP:20260425T195345
CREATED:20240821T152140Z
LAST-MODIFIED:20240821T152140Z
UID:2929-1727632800-1727636400@cbc-roysecity.com
SUMMARY:Sunday Night - Bible Studies
DESCRIPTION:We have Bible Studies for all. \nWomen’s Bible Study \nMen’s Bible Study \nStudents’ \nChildren’s
URL:https://cbc-roysecity.com/event/sunday-night-bible-studies-38/
LOCATION:Community Baptist Church – Royse City\, 6012 State Highway 276\, Royse City\, TX\, 75189\, United States
END:VEVENT
BEGIN:VEVENT
DTSTART;TZID=UTC:20240929T104500
DTEND;TZID=UTC:20240929T114500
DTSTAMP:20260425T195345
CREATED:20240821T152120Z
LAST-MODIFIED:20240923T122345Z
UID:2927-1727606700-1727610300@cbc-roysecity.com
SUMMARY:Church Service - visit from Missionaries
DESCRIPTION:We would love to have you join us this Sunday for our church service. \nHere is a link for what to expect. \n  \nWe will have a missionary family come share with us this Sunday morning. \nWe will be taking up a love offering for them\, so be in prayer about how God would have you contribute.
URL:https://cbc-roysecity.com/event/church-service-80/
LOCATION:Community Baptist Church – Royse City\, 6012 State Highway 276\, Royse City\, TX\, 75189\, United States
END:VEVENT
BEGIN:VEVENT
DTSTART;TZID=UTC:20240929T094500
DTEND;TZID=UTC:20240929T104500
DTSTAMP:20260425T195345
CREATED:20240821T152058Z
LAST-MODIFIED:20240821T152058Z
UID:2925-1727603100-1727606700@cbc-roysecity.com
SUMMARY:Sunday School
DESCRIPTION:We have Sunday Schools available for all ages and groups. \nChildren \nStudents \nAdults
URL:https://cbc-roysecity.com/event/sunday-school-76/
LOCATION:Community Baptist Church – Royse City\, 6012 State Highway 276\, Royse City\, TX\, 75189\, United States
END:VEVENT
BEGIN:VEVENT
DTSTART;TZID=UTC:20240925T190000
DTEND;TZID=UTC:20240925T200000
DTSTAMP:20260425T195345
CREATED:20240821T161340Z
LAST-MODIFIED:20240821T161340Z
UID:3012-1727290800-1727294400@cbc-roysecity.com
SUMMARY:Youth Event - Outreach night
DESCRIPTION:
URL:https://cbc-roysecity.com/event/youth-event-outreach-night-4/
LOCATION:Community Baptist Church – Royse City\, 6012 State Highway 276\, Royse City\, TX\, 75189\, United States
END:VEVENT
BEGIN:VEVENT
DTSTART;TZID=UTC:20240925T190000
DTEND;TZID=UTC:20240925T200000
DTSTAMP:20260425T195345
CREATED:20240821T152036Z
LAST-MODIFIED:20240908T193446Z
UID:2923-1727290800-1727294400@cbc-roysecity.com
SUMMARY:Wednesday Night Bible Study
DESCRIPTION:We have Bible studies for all. \nAdult Bible Study \nStudents \nChildren
URL:https://cbc-roysecity.com/event/wednesday-night-77/
LOCATION:Community Baptist Church – Royse City\, 6012 State Highway 276\, Royse City\, TX\, 75189\, United States
END:VEVENT
BEGIN:VEVENT
DTSTART;TZID=UTC:20240924T183000
DTEND;TZID=UTC:20240924T200000
DTSTAMP:20260425T195345
CREATED:20240821T152012Z
LAST-MODIFIED:20240821T152012Z
UID:2921-1727202600-1727208000@cbc-roysecity.com
SUMMARY:Young Adult Bible Study
DESCRIPTION:Tuesday evening at 6:30 pm join with the pastor and his wife at Fuzzy’s /Golden Chick in Royse City. Reach out to Bro. Les at 214-534-0353 for more info.
URL:https://cbc-roysecity.com/event/young-adult-bible-study-25/
END:VEVENT
BEGIN:VEVENT
DTSTART;TZID=UTC:20240924T110000
DTEND;TZID=UTC:20240924T120000
DTSTAMP:20260425T195345
CREATED:20240821T151949Z
LAST-MODIFIED:20240821T151949Z
UID:2919-1727175600-1727179200@cbc-roysecity.com
SUMMARY:Women's Bible Study
DESCRIPTION:Check out what we are studying here.
URL:https://cbc-roysecity.com/event/womens-bible-study-76/
LOCATION:Community Baptist Church – Royse City\, 6012 State Highway 276\, Royse City\, TX\, 75189\, United States
END:VEVENT
BEGIN:VEVENT
DTSTART;TZID=UTC:20240922T180000
DTEND;TZID=UTC:20240922T190000
DTSTAMP:20260425T195345
CREATED:20240821T151924Z
LAST-MODIFIED:20240821T151924Z
UID:2917-1727028000-1727031600@cbc-roysecity.com
SUMMARY:Sunday Night - Bible Studies
DESCRIPTION:We have Bible Studies for all. \nWomen’s Bible Study \nMen’s Bible Study \nStudents’ \nChildren’s
URL:https://cbc-roysecity.com/event/sunday-night-bible-studies-37/
LOCATION:Community Baptist Church – Royse City\, 6012 State Highway 276\, Royse City\, TX\, 75189\, United States
END:VEVENT
BEGIN:VEVENT
DTSTART;TZID=UTC:20240922T120000
DTEND;TZID=UTC:20240922T150000
DTSTAMP:20260425T195345
CREATED:20240821T155835Z
LAST-MODIFIED:20240908T192342Z
UID:2991-1727006400-1727017200@cbc-roysecity.com
SUMMARY:Youth Event - Nerf Day at Church
DESCRIPTION:After church – Free
URL:https://cbc-roysecity.com/event/youth-event-nerf-day-at-church/
LOCATION:Community Baptist Church – Royse City\, 6012 State Highway 276\, Royse City\, TX\, 75189\, United States
END:VEVENT
BEGIN:VEVENT
DTSTART;TZID=UTC:20240922T104500
DTEND;TZID=UTC:20240922T114500
DTSTAMP:20260425T195345
CREATED:20240821T151515Z
LAST-MODIFIED:20240821T151515Z
UID:2915-1727001900-1727005500@cbc-roysecity.com
SUMMARY:Church Service
DESCRIPTION:We would love to have you join us this Sunday for our church service. \nHere is a link for what to expect.
URL:https://cbc-roysecity.com/event/church-service-79/
LOCATION:Community Baptist Church – Royse City\, 6012 State Highway 276\, Royse City\, TX\, 75189\, United States
END:VEVENT
BEGIN:VEVENT
DTSTART;TZID=UTC:20240922T094500
DTEND;TZID=UTC:20240922T104500
DTSTAMP:20260425T195345
CREATED:20240821T151449Z
LAST-MODIFIED:20240821T151449Z
UID:2913-1726998300-1727001900@cbc-roysecity.com
SUMMARY:Sunday School
DESCRIPTION:We have Sunday Schools available for all ages and groups. \nChildren \nStudents \nAdults
URL:https://cbc-roysecity.com/event/sunday-school-75/
LOCATION:Community Baptist Church – Royse City\, 6012 State Highway 276\, Royse City\, TX\, 75189\, United States
END:VEVENT
BEGIN:VEVENT
DTSTART;TZID=UTC:20240921T090000
DTEND;TZID=UTC:20240921T110000
DTSTAMP:20260425T195345
CREATED:20240908T192715Z
LAST-MODIFIED:20240908T192715Z
UID:3033-1726909200-1726916400@cbc-roysecity.com
SUMMARY:Men's Breakfast
DESCRIPTION:Men come together to enjoy breakfast and fellowship together.
URL:https://cbc-roysecity.com/event/mens-breakfast-2/
LOCATION:Community Baptist Church – Royse City\, 6012 State Highway 276\, Royse City\, TX\, 75189\, United States
END:VEVENT
BEGIN:VEVENT
DTSTART;TZID=UTC:20240918T190000
DTEND;TZID=UTC:20240918T200000
DTSTAMP:20260425T195345
CREATED:20240821T151429Z
LAST-MODIFIED:20240908T193434Z
UID:2911-1726686000-1726689600@cbc-roysecity.com
SUMMARY:Wednesday Night Bible Study
DESCRIPTION:We have Bible studies for all. \nAdult Bible Study \nStudents \nChildren
URL:https://cbc-roysecity.com/event/wednesday-night-76/
LOCATION:Community Baptist Church – Royse City\, 6012 State Highway 276\, Royse City\, TX\, 75189\, United States
END:VEVENT
BEGIN:VEVENT
DTSTART;TZID=UTC:20240917T183000
DTEND;TZID=UTC:20240917T200000
DTSTAMP:20260425T195345
CREATED:20240821T151410Z
LAST-MODIFIED:20240821T151410Z
UID:2909-1726597800-1726603200@cbc-roysecity.com
SUMMARY:Young Adult Bible Study
DESCRIPTION:Tuesday evening at 6:30 pm join with the pastor and his wife at Fuzzy’s /Golden Chick in Royse City. Reach out to Bro. Les at 214-534-0353 for more info.
URL:https://cbc-roysecity.com/event/young-adult-bible-study-24/
END:VEVENT
BEGIN:VEVENT
DTSTART;TZID=UTC:20240917T110000
DTEND;TZID=UTC:20240917T120000
DTSTAMP:20260425T195345
CREATED:20240821T151348Z
LAST-MODIFIED:20240821T151348Z
UID:2907-1726570800-1726574400@cbc-roysecity.com
SUMMARY:Women's Bible Study
DESCRIPTION:Check out what we are studying here.
URL:https://cbc-roysecity.com/event/womens-bible-study-75/
LOCATION:Community Baptist Church – Royse City\, 6012 State Highway 276\, Royse City\, TX\, 75189\, United States
END:VEVENT
BEGIN:VEVENT
DTSTART;TZID=UTC:20240915T180000
DTEND;TZID=UTC:20240915T190000
DTSTAMP:20260425T195345
CREATED:20240821T150853Z
LAST-MODIFIED:20240821T151320Z
UID:2895-1726423200-1726426800@cbc-roysecity.com
SUMMARY:Sunday Night - Bible Studies
DESCRIPTION:We have Bible Studies for all. \nWomen’s Bible Study \nMen’s Bible Study \nStudents’ \nChildren’s
URL:https://cbc-roysecity.com/event/sunday-night-bible-studies-36/
LOCATION:Community Baptist Church – Royse City\, 6012 State Highway 276\, Royse City\, TX\, 75189\, United States
END:VEVENT
BEGIN:VEVENT
DTSTART;TZID=UTC:20240915T120000
DTEND;TZID=UTC:20240915T140000
DTSTAMP:20260425T195345
CREATED:20240908T192602Z
LAST-MODIFIED:20240908T192602Z
UID:3031-1726401600-1726408800@cbc-roysecity.com
SUMMARY:Church Social
DESCRIPTION:In celebration of the ordination of our 2 new Deacons\, Michael Kelly and William Henderson\, we will be having a good old fashioned “Church Social” after service this morning. \nBring a dish to pass and join us.
URL:https://cbc-roysecity.com/event/church-social/
LOCATION:Community Baptist Church – Royse City\, 6012 State Highway 276\, Royse City\, TX\, 75189\, United States
END:VEVENT
BEGIN:VEVENT
DTSTART;TZID=UTC:20240915T104500
DTEND;TZID=UTC:20240915T114500
DTSTAMP:20260425T195345
CREATED:20240821T151238Z
LAST-MODIFIED:20240821T151256Z
UID:2905-1726397100-1726400700@cbc-roysecity.com
SUMMARY:Church Service - Ordination of new Deacons
DESCRIPTION:We would love to have you join us this Sunday for our church service. \nHere is a link for what to expect. \n  \nThis will be a special service this morning\, as we ordain our 2 new Deacons\, Michael Kelly and William Henderson.
URL:https://cbc-roysecity.com/event/church-service-ordination-of-new-deacons/
LOCATION:Community Baptist Church – Royse City\, 6012 State Highway 276\, Royse City\, TX\, 75189\, United States
END:VEVENT
BEGIN:VEVENT
DTSTART;TZID=UTC:20240915T094500
DTEND;TZID=UTC:20240915T104500
DTSTAMP:20260425T195345
CREATED:20240821T151051Z
LAST-MODIFIED:20240821T151051Z
UID:2903-1726393500-1726397100@cbc-roysecity.com
SUMMARY:Sunday School
DESCRIPTION:We have Sunday Schools available for all ages and groups. \nChildren \nStudents \nAdults
URL:https://cbc-roysecity.com/event/sunday-school-74/
LOCATION:Community Baptist Church – Royse City\, 6012 State Highway 276\, Royse City\, TX\, 75189\, United States
END:VEVENT
BEGIN:VEVENT
DTSTART;TZID=UTC:20240911T190000
DTEND;TZID=UTC:20240911T200000
DTSTAMP:20260425T195345
CREATED:20240821T151029Z
LAST-MODIFIED:20240908T193428Z
UID:2901-1726081200-1726084800@cbc-roysecity.com
SUMMARY:Wednesday Night Bible Study
DESCRIPTION:We have Bible studies for all. \nAdult Bible Study \nStudents \nChildren
URL:https://cbc-roysecity.com/event/wednesday-night-75/
LOCATION:Community Baptist Church – Royse City\, 6012 State Highway 276\, Royse City\, TX\, 75189\, United States
END:VEVENT
BEGIN:VEVENT
DTSTART;TZID=UTC:20240910T183000
DTEND;TZID=UTC:20240910T200000
DTSTAMP:20260425T195345
CREATED:20240821T150958Z
LAST-MODIFIED:20240821T150958Z
UID:2899-1725993000-1725998400@cbc-roysecity.com
SUMMARY:Young Adult Bible Study
DESCRIPTION:Tuesday evening at 6:30 pm join with the pastor and his wife at Fuzzy’s /Golden Chick in Royse City. Reach out to Bro. Les at 214-534-0353 for more info.
URL:https://cbc-roysecity.com/event/young-adult-bible-study-23/
END:VEVENT
BEGIN:VEVENT
DTSTART;TZID=UTC:20240910T110000
DTEND;TZID=UTC:20240910T120000
DTSTAMP:20260425T195345
CREATED:20240821T150916Z
LAST-MODIFIED:20240821T150916Z
UID:2897-1725966000-1725969600@cbc-roysecity.com
SUMMARY:Women's Bible Study
DESCRIPTION:Check out what we are studying here.
URL:https://cbc-roysecity.com/event/womens-bible-study-74/
LOCATION:Community Baptist Church – Royse City\, 6012 State Highway 276\, Royse City\, TX\, 75189\, United States
END:VEVENT
BEGIN:VEVENT
DTSTART;TZID=UTC:20240908T160000
DTEND;TZID=UTC:20240908T200000
DTSTAMP:20260425T195345
CREATED:20240821T150700Z
LAST-MODIFIED:20240821T150700Z
UID:2888-1725811200-1725825600@cbc-roysecity.com
SUMMARY:Hunt County Baptist Association "Fall Family Gathering"​
DESCRIPTION:We will not be having our regular Sunday night Bible Studies this night.  Instead\, we encourage all to attend our Hunt County Baptist Association “Fall Family Gathering” \nThe Hunt Baptist Association is having their Fall Family Gathering for 2024\, and the theme is “Caring for the Families of God”.  We want to invite you to join us for this special event\, hosted at Vansickle Baptist Church on Sunday\, September 8th from 4-8pm.  There will be various breakout sessions for the different ministries of the church\, and you’ll be blessed for coming.
URL:https://cbc-roysecity.com/event/hunt-county-baptist-association-fall-family-gathering/
LOCATION:Vansickle Baptist Church\, 2181 CR 2246\, Greenville\, 75402
END:VEVENT
BEGIN:VEVENT
DTSTART;TZID=UTC:20240908T104500
DTEND;TZID=UTC:20240908T114500
DTSTAMP:20260425T195345
CREATED:20240821T150831Z
LAST-MODIFIED:20240821T150831Z
UID:2893-1725792300-1725795900@cbc-roysecity.com
SUMMARY:Church Service
DESCRIPTION:We would love to have you join us this Sunday for our church service. \nHere is a link for what to expect.
URL:https://cbc-roysecity.com/event/church-service-78/
LOCATION:Community Baptist Church – Royse City\, 6012 State Highway 276\, Royse City\, TX\, 75189\, United States
END:VEVENT
BEGIN:VEVENT
DTSTART;TZID=UTC:20240908T094500
DTEND;TZID=UTC:20240908T104500
DTSTAMP:20260425T195345
CREATED:20240821T150756Z
LAST-MODIFIED:20240821T150807Z
UID:2891-1725788700-1725792300@cbc-roysecity.com
SUMMARY:Sunday School
DESCRIPTION:We have Sunday Schools available for all ages and groups. \nChildren \nStudents \nAdults
URL:https://cbc-roysecity.com/event/sunday-school-73/
LOCATION:Community Baptist Church – Royse City\, 6012 State Highway 276\, Royse City\, TX\, 75189\, United States
END:VEVENT
BEGIN:VEVENT
DTSTART;TZID=UTC:20240904T190000
DTEND;TZID=UTC:20240904T200000
DTSTAMP:20260425T195345
CREATED:20240723T140534Z
LAST-MODIFIED:20240908T193414Z
UID:2819-1725476400-1725480000@cbc-roysecity.com
SUMMARY:Wednesday Night Bible Study
DESCRIPTION:We have Bible studies for all. \nAdult Bible Study \nStudents \nChildren
URL:https://cbc-roysecity.com/event/wednesday-night-73/
LOCATION:Community Baptist Church – Royse City\, 6012 State Highway 276\, Royse City\, TX\, 75189\, United States
END:VEVENT
BEGIN:VEVENT
DTSTART;TZID=UTC:20240903T183000
DTEND;TZID=UTC:20240903T200000
DTSTAMP:20260425T195345
CREATED:20240723T140512Z
LAST-MODIFIED:20240723T140512Z
UID:2817-1725388200-1725393600@cbc-roysecity.com
SUMMARY:Young Adult Bible Study
DESCRIPTION:Tuesday evening at 6:30 pm join with the pastor and his wife at Fuzzy’s /Golden Chick in Royse City. Reach out to Bro. Les at 214-534-0353 for more info.
URL:https://cbc-roysecity.com/event/young-adult-bible-study-22/
END:VEVENT
BEGIN:VEVENT
DTSTART;TZID=UTC:20240903T110000
DTEND;TZID=UTC:20240903T120000
DTSTAMP:20260425T195345
CREATED:20240723T140451Z
LAST-MODIFIED:20240723T140451Z
UID:2815-1725361200-1725364800@cbc-roysecity.com
SUMMARY:Women's Bible Study
DESCRIPTION:Check out what we are studying here.
URL:https://cbc-roysecity.com/event/womens-bible-study-73/
LOCATION:Community Baptist Church – Royse City\, 6012 State Highway 276\, Royse City\, TX\, 75189\, United States
END:VEVENT
BEGIN:VEVENT
DTSTART;TZID=UTC:20240901T104500
DTEND;TZID=UTC:20240901T114500
DTSTAMP:20260425T195345
CREATED:20240723T140412Z
LAST-MODIFIED:20240723T140412Z
UID:2811-1725187500-1725191100@cbc-roysecity.com
SUMMARY:Church Service
DESCRIPTION:We would love to have you join us this Sunday for our church service. \nHere is a link for what to expect.
URL:https://cbc-roysecity.com/event/church-service-77/
LOCATION:Community Baptist Church – Royse City\, 6012 State Highway 276\, Royse City\, TX\, 75189\, United States
END:VEVENT
END:VCALENDAR