BEGIN:VCALENDAR
VERSION:2.0
PRODID:-//CBC-roysecity - ECPv6.15.6//NONSGML v1.0//EN
CALSCALE:GREGORIAN
METHOD:PUBLISH
X-WR-CALNAME:CBC-roysecity
X-ORIGINAL-URL:https://cbc-roysecity.com
X-WR-CALDESC:Events for CBC-roysecity
REFRESH-INTERVAL;VALUE=DURATION:PT1H
X-Robots-Tag:noindex
X-PUBLISHED-TTL:PT1H
BEGIN:VTIMEZONE
TZID:UTC
BEGIN:STANDARD
TZOFFSETFROM:+0000
TZOFFSETTO:+0000
TZNAME:UTC
DTSTART:20230101T000000
END:STANDARD
END:VTIMEZONE
BEGIN:VEVENT
DTSTART;TZID=UTC:20241026T090000
DTEND;TZID=UTC:20241026T120000
DTSTAMP:20260425T160854
CREATED:20241004T154341Z
LAST-MODIFIED:20241004T154356Z
UID:3111-1729933200-1729944000@cbc-roysecity.com
SUMMARY:Men's Work Day
DESCRIPTION:Men\, let’s come together to get the church property looking good for the Fall Festival\, and getting it ready for winter.
URL:https://cbc-roysecity.com/event/mens-work-day/
LOCATION:Community Baptist Church – Royse City\, 6012 State Highway 276\, Royse City\, TX\, 75189\, United States
END:VEVENT
BEGIN:VEVENT
DTSTART;TZID=UTC:20241023T190000
DTEND;TZID=UTC:20241023T200000
DTSTAMP:20260425T160854
CREATED:20240821T152923Z
LAST-MODIFIED:20240908T193600Z
UID:2971-1729710000-1729713600@cbc-roysecity.com
SUMMARY:Wednesday Night Bible Study
DESCRIPTION:We have Bible studies for all. \nAdult Bible Study \nStudents \nChildren
URL:https://cbc-roysecity.com/event/wednesday-night-81/
LOCATION:Community Baptist Church – Royse City\, 6012 State Highway 276\, Royse City\, TX\, 75189\, United States
END:VEVENT
BEGIN:VEVENT
DTSTART;TZID=UTC:20241022T183000
DTEND;TZID=UTC:20241022T200000
DTSTAMP:20260425T160854
CREATED:20240821T152903Z
LAST-MODIFIED:20240821T152903Z
UID:2969-1729621800-1729627200@cbc-roysecity.com
SUMMARY:Young Adult Bible Study
DESCRIPTION:Tuesday evening at 6:30 pm join with the pastor and his wife at Fuzzy’s /Golden Chick in Royse City. Reach out to Bro. Les at 214-534-0353 for more info.
URL:https://cbc-roysecity.com/event/young-adult-bible-study-29/
LOCATION:TX
END:VEVENT
BEGIN:VEVENT
DTSTART;TZID=UTC:20241022T110000
DTEND;TZID=UTC:20241022T120000
DTSTAMP:20260425T160854
CREATED:20240821T152843Z
LAST-MODIFIED:20240821T152843Z
UID:2967-1729594800-1729598400@cbc-roysecity.com
SUMMARY:Women's Bible Study
DESCRIPTION:Check out what we are studying here.
URL:https://cbc-roysecity.com/event/womens-bible-study-80/
LOCATION:Community Baptist Church – Royse City\, 6012 State Highway 276\, Royse City\, TX\, 75189\, United States
END:VEVENT
BEGIN:VEVENT
DTSTART;TZID=UTC:20241020T180000
DTEND;TZID=UTC:20241020T190000
DTSTAMP:20260425T160854
CREATED:20240821T152813Z
LAST-MODIFIED:20240821T152813Z
UID:2965-1729447200-1729450800@cbc-roysecity.com
SUMMARY:Sunday Night - Bible Studies
DESCRIPTION:We have Bible Studies for all. \nWomen’s Bible Study \nMen’s Bible Study \nStudents’ \nChildren’s
URL:https://cbc-roysecity.com/event/sunday-night-bible-studies-41/
LOCATION:Community Baptist Church – Royse City\, 6012 State Highway 276\, Royse City\, TX\, 75189\, United States
END:VEVENT
BEGIN:VEVENT
DTSTART;TZID=UTC:20241020T120000
DTEND;TZID=UTC:20241020T140000
DTSTAMP:20260425T160854
CREATED:20240821T160523Z
LAST-MODIFIED:20240821T160539Z
UID:3003-1729425600-1729432800@cbc-roysecity.com
SUMMARY:Youth Event - Eat at WingStop
DESCRIPTION:Cost – $15
URL:https://cbc-roysecity.com/event/youth-event-eat-at-wingstop/
LOCATION:Community Baptist Church – Royse City\, 6012 State Highway 276\, Royse City\, TX\, 75189\, United States
END:VEVENT
BEGIN:VEVENT
DTSTART;TZID=UTC:20241020T104500
DTEND;TZID=UTC:20241020T114500
DTSTAMP:20260425T160854
CREATED:20240821T152753Z
LAST-MODIFIED:20240821T152753Z
UID:2963-1729421100-1729424700@cbc-roysecity.com
SUMMARY:Church Service
DESCRIPTION:We would love to have you join us this Sunday for our church service. \nHere is a link for what to expect.
URL:https://cbc-roysecity.com/event/church-service-83/
LOCATION:Community Baptist Church – Royse City\, 6012 State Highway 276\, Royse City\, TX\, 75189\, United States
END:VEVENT
BEGIN:VEVENT
DTSTART;TZID=UTC:20241020T094500
DTEND;TZID=UTC:20241020T104500
DTSTAMP:20260425T160854
CREATED:20240821T152733Z
LAST-MODIFIED:20240821T152733Z
UID:2961-1729417500-1729421100@cbc-roysecity.com
SUMMARY:Sunday School
DESCRIPTION:We have Sunday Schools available for all ages and groups. \nChildren \nStudents \nAdults
URL:https://cbc-roysecity.com/event/sunday-school-79/
LOCATION:Community Baptist Church – Royse City\, 6012 State Highway 276\, Royse City\, TX\, 75189\, United States
END:VEVENT
BEGIN:VEVENT
DTSTART;TZID=UTC:20241016T190000
DTEND;TZID=UTC:20241016T200000
DTSTAMP:20260425T160854
CREATED:20240821T152712Z
LAST-MODIFIED:20240908T193542Z
UID:2959-1729105200-1729108800@cbc-roysecity.com
SUMMARY:Wednesday Night Bible Study
DESCRIPTION:We have Bible studies for all. \nAdult Bible Study \nStudents \nChildren
URL:https://cbc-roysecity.com/event/wednesday-night-80/
LOCATION:Community Baptist Church – Royse City\, 6012 State Highway 276\, Royse City\, TX\, 75189\, United States
END:VEVENT
BEGIN:VEVENT
DTSTART;TZID=UTC:20241015T183000
DTEND;TZID=UTC:20241015T200000
DTSTAMP:20260425T160854
CREATED:20240821T152650Z
LAST-MODIFIED:20240821T152650Z
UID:2957-1729017000-1729022400@cbc-roysecity.com
SUMMARY:Young Adult Bible Study
DESCRIPTION:Tuesday evening at 6:30 pm join with the pastor and his wife at Fuzzy’s /Golden Chick in Royse City. Reach out to Bro. Les at 214-534-0353 for more info.
URL:https://cbc-roysecity.com/event/young-adult-bible-study-28/
LOCATION:TX
END:VEVENT
BEGIN:VEVENT
DTSTART;TZID=UTC:20241015T110000
DTEND;TZID=UTC:20241015T120000
DTSTAMP:20260425T160854
CREATED:20240821T152629Z
LAST-MODIFIED:20240821T152629Z
UID:2955-1728990000-1728993600@cbc-roysecity.com
SUMMARY:Women's Bible Study
DESCRIPTION:Check out what we are studying here.
URL:https://cbc-roysecity.com/event/womens-bible-study-79/
LOCATION:Community Baptist Church – Royse City\, 6012 State Highway 276\, Royse City\, TX\, 75189\, United States
END:VEVENT
BEGIN:VEVENT
DTSTART;TZID=UTC:20241013T180000
DTEND;TZID=UTC:20241013T190000
DTSTAMP:20260425T160854
CREATED:20240821T152606Z
LAST-MODIFIED:20240821T152606Z
UID:2953-1728842400-1728846000@cbc-roysecity.com
SUMMARY:Sunday Night - Bible Studies
DESCRIPTION:We have Bible Studies for all. \nWomen’s Bible Study \nMen’s Bible Study \nStudents’ \nChildren’s
URL:https://cbc-roysecity.com/event/sunday-night-bible-studies-40/
LOCATION:Community Baptist Church – Royse City\, 6012 State Highway 276\, Royse City\, TX\, 75189\, United States
END:VEVENT
BEGIN:VEVENT
DTSTART;TZID=UTC:20241013T104500
DTEND;TZID=UTC:20241013T114500
DTSTAMP:20260425T160854
CREATED:20240821T152545Z
LAST-MODIFIED:20240821T152545Z
UID:2951-1728816300-1728819900@cbc-roysecity.com
SUMMARY:Church Service
DESCRIPTION:We would love to have you join us this Sunday for our church service. \nHere is a link for what to expect.
URL:https://cbc-roysecity.com/event/church-service-82/
LOCATION:Community Baptist Church – Royse City\, 6012 State Highway 276\, Royse City\, TX\, 75189\, United States
END:VEVENT
BEGIN:VEVENT
DTSTART;TZID=UTC:20241013T094500
DTEND;TZID=UTC:20241013T104500
DTSTAMP:20260425T160854
CREATED:20240821T152519Z
LAST-MODIFIED:20240821T152519Z
UID:2949-1728812700-1728816300@cbc-roysecity.com
SUMMARY:Sunday School
DESCRIPTION:We have Sunday Schools available for all ages and groups. \nChildren \nStudents \nAdults
URL:https://cbc-roysecity.com/event/sunday-school-78/
LOCATION:Community Baptist Church – Royse City\, 6012 State Highway 276\, Royse City\, TX\, 75189\, United States
END:VEVENT
BEGIN:VEVENT
DTSTART;TZID=UTC:20241009T190000
DTEND;TZID=UTC:20241009T200000
DTSTAMP:20260425T160854
CREATED:20240821T152459Z
LAST-MODIFIED:20240908T193527Z
UID:2947-1728500400-1728504000@cbc-roysecity.com
SUMMARY:Wednesday Night Bible Study
DESCRIPTION:We have Bible studies for all. \nAdult Bible Study \nStudents \nChildren
URL:https://cbc-roysecity.com/event/wednesday-night-79/
LOCATION:Community Baptist Church – Royse City\, 6012 State Highway 276\, Royse City\, TX\, 75189\, United States
END:VEVENT
BEGIN:VEVENT
DTSTART;TZID=UTC:20241008T183000
DTEND;TZID=UTC:20241008T200000
DTSTAMP:20260425T160854
CREATED:20240821T152438Z
LAST-MODIFIED:20240821T152438Z
UID:2945-1728412200-1728417600@cbc-roysecity.com
SUMMARY:Young Adult Bible Study
DESCRIPTION:Tuesday evening at 6:30 pm join with the pastor and his wife at Fuzzy’s /Golden Chick in Royse City. Reach out to Bro. Les at 214-534-0353 for more info.
URL:https://cbc-roysecity.com/event/young-adult-bible-study-27/
LOCATION:TX
END:VEVENT
BEGIN:VEVENT
DTSTART;TZID=UTC:20241008T110000
DTEND;TZID=UTC:20241008T120000
DTSTAMP:20260425T160854
CREATED:20240821T152416Z
LAST-MODIFIED:20240821T152416Z
UID:2943-1728385200-1728388800@cbc-roysecity.com
SUMMARY:Women's Bible Study
DESCRIPTION:Check out what we are studying here.
URL:https://cbc-roysecity.com/event/womens-bible-study-78/
LOCATION:Community Baptist Church – Royse City\, 6012 State Highway 276\, Royse City\, TX\, 75189\, United States
END:VEVENT
BEGIN:VEVENT
DTSTART;TZID=UTC:20241006T180000
DTEND;TZID=UTC:20241006T190000
DTSTAMP:20260425T160854
CREATED:20240821T152354Z
LAST-MODIFIED:20240821T152354Z
UID:2941-1728237600-1728241200@cbc-roysecity.com
SUMMARY:Sunday Night - Bible Studies
DESCRIPTION:We have Bible Studies for all. \nWomen’s Bible Study \nMen’s Bible Study \nStudents’ \nChildren’s
URL:https://cbc-roysecity.com/event/sunday-night-bible-studies-39/
LOCATION:Community Baptist Church – Royse City\, 6012 State Highway 276\, Royse City\, TX\, 75189\, United States
END:VEVENT
BEGIN:VEVENT
DTSTART;TZID=UTC:20241006T120000
DTEND;TZID=UTC:20241006T190000
DTSTAMP:20260425T160854
CREATED:20240821T160422Z
LAST-MODIFIED:20240821T160422Z
UID:3001-1728216000-1728241200@cbc-roysecity.com
SUMMARY:Youth Event - Six Flags
DESCRIPTION:
URL:https://cbc-roysecity.com/event/youth-event-six-flags/
LOCATION:Community Baptist Church – Royse City\, 6012 State Highway 276\, Royse City\, TX\, 75189\, United States
END:VEVENT
BEGIN:VEVENT
DTSTART;TZID=UTC:20241006T104500
DTEND;TZID=UTC:20241006T114500
DTSTAMP:20260425T160854
CREATED:20240821T152332Z
LAST-MODIFIED:20240923T122230Z
UID:2939-1728211500-1728215100@cbc-roysecity.com
SUMMARY:Church Service - Lord's Supper
DESCRIPTION:We would love to have you join us this Sunday for our church service. \nHere is a link for what to expect. \n  \nWe will be taking communion during the service this morning.
URL:https://cbc-roysecity.com/event/church-service-81/
LOCATION:Community Baptist Church – Royse City\, 6012 State Highway 276\, Royse City\, TX\, 75189\, United States
END:VEVENT
BEGIN:VEVENT
DTSTART;TZID=UTC:20241006T094500
DTEND;TZID=UTC:20241006T104500
DTSTAMP:20260425T160854
CREATED:20240821T152310Z
LAST-MODIFIED:20240821T152310Z
UID:2937-1728207900-1728211500@cbc-roysecity.com
SUMMARY:Sunday School
DESCRIPTION:We have Sunday Schools available for all ages and groups. \nChildren \nStudents \nAdults
URL:https://cbc-roysecity.com/event/sunday-school-77/
LOCATION:Community Baptist Church – Royse City\, 6012 State Highway 276\, Royse City\, TX\, 75189\, United States
END:VEVENT
BEGIN:VEVENT
DTSTART;TZID=UTC:20241004T190000
DTEND;TZID=UTC:20241004T220000
DTSTAMP:20260425T160854
CREATED:20240821T160314Z
LAST-MODIFIED:20240821T161101Z
UID:2999-1728068400-1728079200@cbc-roysecity.com
SUMMARY:Youth Event - Meet at RC Football Game
DESCRIPTION:
URL:https://cbc-roysecity.com/event/youth-event-meet-at-rc-football-game/
LOCATION:Community Baptist Church – Royse City\, 6012 State Highway 276\, Royse City\, TX\, 75189\, United States
END:VEVENT
BEGIN:VEVENT
DTSTART;TZID=UTC:20241002T190000
DTEND;TZID=UTC:20241002T200000
DTSTAMP:20260425T160854
CREATED:20240821T152248Z
LAST-MODIFIED:20240908T193511Z
UID:2935-1727895600-1727899200@cbc-roysecity.com
SUMMARY:Wednesday Night Bible Study
DESCRIPTION:We have Bible studies for all. \nAdult Bible Study \nStudents \nChildren
URL:https://cbc-roysecity.com/event/wednesday-night-78/
LOCATION:Community Baptist Church – Royse City\, 6012 State Highway 276\, Royse City\, TX\, 75189\, United States
END:VEVENT
BEGIN:VEVENT
DTSTART;TZID=UTC:20241001T183000
DTEND;TZID=UTC:20241001T200000
DTSTAMP:20260425T160854
CREATED:20240821T152228Z
LAST-MODIFIED:20240821T152228Z
UID:2933-1727807400-1727812800@cbc-roysecity.com
SUMMARY:Young Adult Bible Study
DESCRIPTION:Tuesday evening at 6:30 pm join with the pastor and his wife at Fuzzy’s /Golden Chick in Royse City. Reach out to Bro. Les at 214-534-0353 for more info.
URL:https://cbc-roysecity.com/event/young-adult-bible-study-26/
LOCATION:TX
END:VEVENT
BEGIN:VEVENT
DTSTART;TZID=UTC:20241001T110000
DTEND;TZID=UTC:20241001T120000
DTSTAMP:20260425T160854
CREATED:20240821T152204Z
LAST-MODIFIED:20240821T152204Z
UID:2931-1727780400-1727784000@cbc-roysecity.com
SUMMARY:Women's Bible Study
DESCRIPTION:Check out what we are studying here.
URL:https://cbc-roysecity.com/event/womens-bible-study-77/
LOCATION:Community Baptist Church – Royse City\, 6012 State Highway 276\, Royse City\, TX\, 75189\, United States
END:VEVENT
BEGIN:VEVENT
DTSTART;TZID=UTC:20240929T180000
DTEND;TZID=UTC:20240929T190000
DTSTAMP:20260425T160854
CREATED:20240821T152140Z
LAST-MODIFIED:20240821T152140Z
UID:2929-1727632800-1727636400@cbc-roysecity.com
SUMMARY:Sunday Night - Bible Studies
DESCRIPTION:We have Bible Studies for all. \nWomen’s Bible Study \nMen’s Bible Study \nStudents’ \nChildren’s
URL:https://cbc-roysecity.com/event/sunday-night-bible-studies-38/
LOCATION:Community Baptist Church – Royse City\, 6012 State Highway 276\, Royse City\, TX\, 75189\, United States
END:VEVENT
BEGIN:VEVENT
DTSTART;TZID=UTC:20240929T104500
DTEND;TZID=UTC:20240929T114500
DTSTAMP:20260425T160854
CREATED:20240821T152120Z
LAST-MODIFIED:20240923T122345Z
UID:2927-1727606700-1727610300@cbc-roysecity.com
SUMMARY:Church Service - visit from Missionaries
DESCRIPTION:We would love to have you join us this Sunday for our church service. \nHere is a link for what to expect. \n  \nWe will have a missionary family come share with us this Sunday morning. \nWe will be taking up a love offering for them\, so be in prayer about how God would have you contribute.
URL:https://cbc-roysecity.com/event/church-service-80/
LOCATION:Community Baptist Church – Royse City\, 6012 State Highway 276\, Royse City\, TX\, 75189\, United States
END:VEVENT
BEGIN:VEVENT
DTSTART;TZID=UTC:20240929T094500
DTEND;TZID=UTC:20240929T104500
DTSTAMP:20260425T160854
CREATED:20240821T152058Z
LAST-MODIFIED:20240821T152058Z
UID:2925-1727603100-1727606700@cbc-roysecity.com
SUMMARY:Sunday School
DESCRIPTION:We have Sunday Schools available for all ages and groups. \nChildren \nStudents \nAdults
URL:https://cbc-roysecity.com/event/sunday-school-76/
LOCATION:Community Baptist Church – Royse City\, 6012 State Highway 276\, Royse City\, TX\, 75189\, United States
END:VEVENT
BEGIN:VEVENT
DTSTART;TZID=UTC:20240925T190000
DTEND;TZID=UTC:20240925T200000
DTSTAMP:20260425T160854
CREATED:20240821T161340Z
LAST-MODIFIED:20240821T161340Z
UID:3012-1727290800-1727294400@cbc-roysecity.com
SUMMARY:Youth Event - Outreach night
DESCRIPTION:
URL:https://cbc-roysecity.com/event/youth-event-outreach-night-4/
LOCATION:Community Baptist Church – Royse City\, 6012 State Highway 276\, Royse City\, TX\, 75189\, United States
END:VEVENT
BEGIN:VEVENT
DTSTART;TZID=UTC:20240925T190000
DTEND;TZID=UTC:20240925T200000
DTSTAMP:20260425T160854
CREATED:20240821T152036Z
LAST-MODIFIED:20240908T193446Z
UID:2923-1727290800-1727294400@cbc-roysecity.com
SUMMARY:Wednesday Night Bible Study
DESCRIPTION:We have Bible studies for all. \nAdult Bible Study \nStudents \nChildren
URL:https://cbc-roysecity.com/event/wednesday-night-77/
LOCATION:Community Baptist Church – Royse City\, 6012 State Highway 276\, Royse City\, TX\, 75189\, United States
END:VEVENT
END:VCALENDAR