BEGIN:VCALENDAR
VERSION:2.0
PRODID:-//CBC-roysecity - ECPv6.15.6//NONSGML v1.0//EN
CALSCALE:GREGORIAN
METHOD:PUBLISH
X-WR-CALNAME:CBC-roysecity
X-ORIGINAL-URL:https://cbc-roysecity.com
X-WR-CALDESC:Events for CBC-roysecity
REFRESH-INTERVAL;VALUE=DURATION:PT1H
X-Robots-Tag:noindex
X-PUBLISHED-TTL:PT1H
BEGIN:VTIMEZONE
TZID:UTC
BEGIN:STANDARD
TZOFFSETFROM:+0000
TZOFFSETTO:+0000
TZNAME:UTC
DTSTART:20230101T000000
END:STANDARD
END:VTIMEZONE
BEGIN:VEVENT
DTSTART;TZID=UTC:20241201T173000
DTEND;TZID=UTC:20241201T190000
DTSTAMP:20260425T110315
CREATED:20241119T202438Z
LAST-MODIFIED:20241119T202510Z
UID:3296-1733074200-1733079600@cbc-roysecity.com
SUMMARY:Sunday Night - Ladies' Christmas Party
DESCRIPTION:CBC Women’s Fellowship on Sunday\, Dec 1st at 5:30 pm. \nWomen will engage in a craft \, games\, food and fellowship. It’s a time to rejoice in the birth of our Savior. Meet new friends and learn about others. We will also do a small service project. \nEach should bring a finger food – sandwiches\, chips\, dip\, veggies\, cheese crackers\, desserts and anything else you can think of for this fun event. \nClick HERE to be taken to the Facebook Event.  Join in by accepting the invite so we have plenty of crafts. \nOh\, I hear there will be some fun giveaways. Invite a friend\, invite your daughter\, and join with us for this fun evening. \n 
URL:https://cbc-roysecity.com/event/sunday-night-ladies-christmas-party/
LOCATION:Community Baptist Church – Royse City\, 6012 State Highway 276\, Royse City\, TX\, 75189\, United States
END:VEVENT
BEGIN:VEVENT
DTSTART;TZID=UTC:20241201T104500
DTEND;TZID=UTC:20241201T114500
DTSTAMP:20260425T110315
CREATED:20241031T145552Z
LAST-MODIFIED:20241031T145552Z
UID:3184-1733049900-1733053500@cbc-roysecity.com
SUMMARY:Church Service
DESCRIPTION:We would love to have you join us this Sunday for our church service. \nHere is a link for what to expect.
URL:https://cbc-roysecity.com/event/church-service-89/
LOCATION:Community Baptist Church – Royse City\, 6012 State Highway 276\, Royse City\, TX\, 75189\, United States
END:VEVENT
BEGIN:VEVENT
DTSTART;TZID=UTC:20241201T094500
DTEND;TZID=UTC:20241201T104500
DTSTAMP:20260425T110315
CREATED:20241031T145528Z
LAST-MODIFIED:20241031T145528Z
UID:3182-1733046300-1733049900@cbc-roysecity.com
SUMMARY:Sunday School
DESCRIPTION:We have Sunday Schools available for all ages and groups. \nChildren \nStudents \nAdults
URL:https://cbc-roysecity.com/event/sunday-school-85/
LOCATION:Community Baptist Church – Royse City\, 6012 State Highway 276\, Royse City\, TX\, 75189\, United States
END:VEVENT
BEGIN:VEVENT
DTSTART;VALUE=DATE:20241128
DTEND;VALUE=DATE:20241129
DTSTAMP:20260425T110315
CREATED:20241101T220748Z
LAST-MODIFIED:20241101T220748Z
UID:3210-1732752000-1732838399@cbc-roysecity.com
SUMMARY:Happy Thanksgiving
DESCRIPTION:Amidst all the turkey and pumpkin pie\, remember to take time to thank God for all that he has done for you this year.
URL:https://cbc-roysecity.com/event/happy-thanksgiving/
LOCATION:TX
END:VEVENT
BEGIN:VEVENT
DTSTART;VALUE=DATE:20241127
DTEND;VALUE=DATE:20241128
DTSTAMP:20260425T110315
CREATED:20241031T145423Z
LAST-MODIFIED:20241031T145446Z
UID:3180-1732665600-1732751999@cbc-roysecity.com
SUMMARY:Wednesday Night - No Bible Study
DESCRIPTION:We will not be having Bible Study this evening so that families can gather together and begin to thank God for all of the ways He has blessed them this year. \nDo join us next week as we pick back up with our study of the Bible\, and join us during the upcoming Christmas season as we celebrate the birth of our LORD.
URL:https://cbc-roysecity.com/event/wednesday-night-no-bible-study/
LOCATION:Community Baptist Church – Royse City\, 6012 State Highway 276\, Royse City\, TX\, 75189\, United States
END:VEVENT
BEGIN:VEVENT
DTSTART;TZID=UTC:20241126T183000
DTEND;TZID=UTC:20241126T200000
DTSTAMP:20260425T110315
CREATED:20241031T145147Z
LAST-MODIFIED:20241031T145147Z
UID:3178-1732645800-1732651200@cbc-roysecity.com
SUMMARY:Young Adult Bible Study
DESCRIPTION:Tuesday evening at 6:30 pm join with the pastor and his wife at Fuzzy’s /Golden Chick in Royse City. Reach out to Bro. Les at 214-534-0353 for more info.
URL:https://cbc-roysecity.com/event/young-adult-bible-study-34/
LOCATION:TX
END:VEVENT
BEGIN:VEVENT
DTSTART;TZID=UTC:20241124T170000
DTEND;TZID=UTC:20241124T190000
DTSTAMP:20260425T110315
CREATED:20241031T145051Z
LAST-MODIFIED:20241119T214301Z
UID:3174-1732467600-1732474800@cbc-roysecity.com
SUMMARY:Community Thanksgiving Service at Fellowship Church
DESCRIPTION:Church night – the Fellowship Church \nJoin us for a Community Thanksgiving Service this Sunday\, November 24th at 5pm\, hosted by the Royse City Pastors Alliance! \nLet’s come together to give thanks and celebrate the blessings in our lives.  All are welcome! \nLocation: Fellowship Church\, 900 Pullen St.\, Royse City\, TX 75189 \nTime: 5:00 pm \nHope to see you there!
URL:https://cbc-roysecity.com/event/sunday-night-bible-studies-46/
LOCATION:Fellowship Church – Royse City\, 900 Pullen St.\, Royse City\, 75189\, United States
END:VEVENT
BEGIN:VEVENT
DTSTART;TZID=UTC:20241124T104500
DTEND;TZID=UTC:20241124T114500
DTSTAMP:20260425T110315
CREATED:20241031T145017Z
LAST-MODIFIED:20241031T145017Z
UID:3172-1732445100-1732448700@cbc-roysecity.com
SUMMARY:Church Service
DESCRIPTION:We would love to have you join us this Sunday for our church service. \nHere is a link for what to expect.
URL:https://cbc-roysecity.com/event/church-service-88/
LOCATION:Community Baptist Church – Royse City\, 6012 State Highway 276\, Royse City\, TX\, 75189\, United States
END:VEVENT
BEGIN:VEVENT
DTSTART;TZID=UTC:20241124T094500
DTEND;TZID=UTC:20241124T104500
DTSTAMP:20260425T110315
CREATED:20241031T144944Z
LAST-MODIFIED:20241031T144953Z
UID:3170-1732441500-1732445100@cbc-roysecity.com
SUMMARY:Sunday School
DESCRIPTION:We have Sunday Schools available for all ages and groups. \nChildren \nStudents \nAdults
URL:https://cbc-roysecity.com/event/sunday-school-84/
LOCATION:Community Baptist Church – Royse City\, 6012 State Highway 276\, Royse City\, TX\, 75189\, United States
END:VEVENT
BEGIN:VEVENT
DTSTART;TZID=UTC:20241120T190000
DTEND;TZID=UTC:20241120T200000
DTSTAMP:20260425T110315
CREATED:20241031T144915Z
LAST-MODIFIED:20241031T144915Z
UID:3168-1732129200-1732132800@cbc-roysecity.com
SUMMARY:Wednesday Night Bible Study
DESCRIPTION:We have Bible studies for all. \nAdult Bible Study \nStudents \nChildren
URL:https://cbc-roysecity.com/event/wednesday-night-bible-study-3/
LOCATION:Community Baptist Church – Royse City\, 6012 State Highway 276\, Royse City\, TX\, 75189\, United States
END:VEVENT
BEGIN:VEVENT
DTSTART;TZID=UTC:20241120T190000
DTEND;TZID=UTC:20241120T200000
DTSTAMP:20260425T110315
CREATED:20240821T160144Z
LAST-MODIFIED:20240821T160144Z
UID:2997-1732129200-1732132800@cbc-roysecity.com
SUMMARY:Youth Event - Outreach night
DESCRIPTION:
URL:https://cbc-roysecity.com/event/youth-event-outreach-night-3/
LOCATION:Community Baptist Church – Royse City\, 6012 State Highway 276\, Royse City\, TX\, 75189\, United States
END:VEVENT
BEGIN:VEVENT
DTSTART;TZID=UTC:20241119T183000
DTEND;TZID=UTC:20241119T200000
DTSTAMP:20260425T110315
CREATED:20241031T144851Z
LAST-MODIFIED:20241031T144851Z
UID:3166-1732041000-1732046400@cbc-roysecity.com
SUMMARY:Young Adult Bible Study
DESCRIPTION:Tuesday evening at 6:30 pm join with the pastor and his wife at Fuzzy’s /Golden Chick in Royse City. Reach out to Bro. Les at 214-534-0353 for more info.
URL:https://cbc-roysecity.com/event/young-adult-bible-study-33/
LOCATION:TX
END:VEVENT
BEGIN:VEVENT
DTSTART;TZID=UTC:20241119T110000
DTEND;TZID=UTC:20241119T120000
DTSTAMP:20260425T110315
CREATED:20241031T144823Z
LAST-MODIFIED:20241031T144823Z
UID:3164-1732014000-1732017600@cbc-roysecity.com
SUMMARY:Women's Bible Study
DESCRIPTION:Check out what we are studying here.
URL:https://cbc-roysecity.com/event/womens-bible-study-84/
LOCATION:Community Baptist Church – Royse City\, 6012 State Highway 276\, Royse City\, TX\, 75189\, United States
END:VEVENT
BEGIN:VEVENT
DTSTART;TZID=UTC:20241117T180000
DTEND;TZID=UTC:20241117T190000
DTSTAMP:20260425T110315
CREATED:20241031T144741Z
LAST-MODIFIED:20241031T144741Z
UID:3162-1731866400-1731870000@cbc-roysecity.com
SUMMARY:Sunday Night - Bible Studies
DESCRIPTION:We have Bible Studies for all. \nWomen’s Bible Study \nMen’s Bible Study \nStudents’ \nChildren’s
URL:https://cbc-roysecity.com/event/sunday-night-bible-studies-45/
LOCATION:Community Baptist Church – Royse City\, 6012 State Highway 276\, Royse City\, TX\, 75189\, United States
END:VEVENT
BEGIN:VEVENT
DTSTART;TZID=UTC:20241117T104500
DTEND;TZID=UTC:20241117T114500
DTSTAMP:20260425T110315
CREATED:20241031T144704Z
LAST-MODIFIED:20241031T144704Z
UID:3160-1731840300-1731843900@cbc-roysecity.com
SUMMARY:Church Service
DESCRIPTION:We would love to have you join us this Sunday for our church service. \nHere is a link for what to expect.
URL:https://cbc-roysecity.com/event/church-service-87/
LOCATION:Community Baptist Church – Royse City\, 6012 State Highway 276\, Royse City\, TX\, 75189\, United States
END:VEVENT
BEGIN:VEVENT
DTSTART;TZID=UTC:20241117T094500
DTEND;TZID=UTC:20241117T104500
DTSTAMP:20260425T110315
CREATED:20241031T144622Z
LAST-MODIFIED:20241031T144622Z
UID:3158-1731836700-1731840300@cbc-roysecity.com
SUMMARY:Sunday School
DESCRIPTION:We have Sunday Schools available for all ages and groups. \nChildren \nStudents \nAdults
URL:https://cbc-roysecity.com/event/sunday-school-83/
LOCATION:Community Baptist Church – Royse City\, 6012 State Highway 276\, Royse City\, TX\, 75189\, United States
END:VEVENT
BEGIN:VEVENT
DTSTART;TZID=UTC:20241113T190000
DTEND;TZID=UTC:20241113T200000
DTSTAMP:20260425T110315
CREATED:20241031T144553Z
LAST-MODIFIED:20241031T144553Z
UID:3156-1731524400-1731528000@cbc-roysecity.com
SUMMARY:Wednesday Night Bible Study
DESCRIPTION:We have Bible studies for all. \nAdult Bible Study \nStudents \nChildren
URL:https://cbc-roysecity.com/event/wednesday-night-bible-study-2/
LOCATION:Community Baptist Church – Royse City\, 6012 State Highway 276\, Royse City\, TX\, 75189\, United States
END:VEVENT
BEGIN:VEVENT
DTSTART;TZID=UTC:20241112T183000
DTEND;TZID=UTC:20241112T200000
DTSTAMP:20260425T110315
CREATED:20241031T144508Z
LAST-MODIFIED:20241031T144508Z
UID:3154-1731436200-1731441600@cbc-roysecity.com
SUMMARY:Young Adult Bible Study
DESCRIPTION:Tuesday evening at 6:30 pm join with the pastor and his wife at Fuzzy’s /Golden Chick in Royse City. Reach out to Bro. Les at 214-534-0353 for more info.
URL:https://cbc-roysecity.com/event/young-adult-bible-study-32/
LOCATION:TX
END:VEVENT
BEGIN:VEVENT
DTSTART;TZID=UTC:20241112T110000
DTEND;TZID=UTC:20241112T120000
DTSTAMP:20260425T110315
CREATED:20241031T144435Z
LAST-MODIFIED:20241031T144435Z
UID:3150-1731409200-1731412800@cbc-roysecity.com
SUMMARY:Women's Bible Study
DESCRIPTION:Check out what we are studying here.
URL:https://cbc-roysecity.com/event/womens-bible-study-83/
LOCATION:Community Baptist Church – Royse City\, 6012 State Highway 276\, Royse City\, TX\, 75189\, United States
END:VEVENT
BEGIN:VEVENT
DTSTART;TZID=UTC:20241110T180000
DTEND;TZID=UTC:20241110T190000
DTSTAMP:20260425T110315
CREATED:20241031T143920Z
LAST-MODIFIED:20241031T143920Z
UID:3148-1731261600-1731265200@cbc-roysecity.com
SUMMARY:Sunday Night - Bible Studies
DESCRIPTION:We have Bible Studies for all. \nWomen’s Bible Study \nMen’s Bible Study \nStudents’ \nChildren’s
URL:https://cbc-roysecity.com/event/sunday-night-bible-studies-44/
LOCATION:Community Baptist Church – Royse City\, 6012 State Highway 276\, Royse City\, TX\, 75189\, United States
END:VEVENT
BEGIN:VEVENT
DTSTART;TZID=UTC:20241110T104500
DTEND;TZID=UTC:20241110T114500
DTSTAMP:20260425T110315
CREATED:20241031T143848Z
LAST-MODIFIED:20241031T143848Z
UID:3146-1731235500-1731239100@cbc-roysecity.com
SUMMARY:Church Service
DESCRIPTION:We would love to have you join us this Sunday for our church service. \nHere is a link for what to expect.
URL:https://cbc-roysecity.com/event/church-service-86/
LOCATION:Community Baptist Church – Royse City\, 6012 State Highway 276\, Royse City\, TX\, 75189\, United States
END:VEVENT
BEGIN:VEVENT
DTSTART;TZID=UTC:20241110T094500
DTEND;TZID=UTC:20241110T104500
DTSTAMP:20260425T110315
CREATED:20241031T143804Z
LAST-MODIFIED:20241031T143804Z
UID:3144-1731231900-1731235500@cbc-roysecity.com
SUMMARY:Sunday School
DESCRIPTION:We have Sunday Schools available for all ages and groups. \nChildren \nStudents \nAdults
URL:https://cbc-roysecity.com/event/sunday-school-82/
LOCATION:Community Baptist Church – Royse City\, 6012 State Highway 276\, Royse City\, TX\, 75189\, United States
END:VEVENT
BEGIN:VEVENT
DTSTART;VALUE=DATE:20241109
DTEND;VALUE=DATE:20241111
DTSTAMP:20260425T110315
CREATED:20240821T160638Z
LAST-MODIFIED:20240821T160638Z
UID:3006-1731110400-1731283199@cbc-roysecity.com
SUMMARY:Youth Event - Fall Retreat
DESCRIPTION:
URL:https://cbc-roysecity.com/event/youth-event-fall-retreat/
LOCATION:Community Baptist Church – Royse City\, 6012 State Highway 276\, Royse City\, TX\, 75189\, United States
END:VEVENT
BEGIN:VEVENT
DTSTART;TZID=UTC:20241106T190000
DTEND;TZID=UTC:20241106T200000
DTSTAMP:20260425T110315
CREATED:20241031T143726Z
LAST-MODIFIED:20241031T143726Z
UID:3142-1730919600-1730923200@cbc-roysecity.com
SUMMARY:Wednesday Night Bible Study
DESCRIPTION:We have Bible studies for all. \nAdult Bible Study \nStudents \nChildren
URL:https://cbc-roysecity.com/event/wednesday-night-bible-study/
LOCATION:Community Baptist Church – Royse City\, 6012 State Highway 276\, Royse City\, TX\, 75189\, United States
END:VEVENT
BEGIN:VEVENT
DTSTART;TZID=UTC:20241105T183000
DTEND;TZID=UTC:20241105T200000
DTSTAMP:20260425T110315
CREATED:20241031T143657Z
LAST-MODIFIED:20241031T143657Z
UID:3140-1730831400-1730836800@cbc-roysecity.com
SUMMARY:Young Adult Bible Study
DESCRIPTION:Tuesday evening at 6:30 pm join with the pastor and his wife at Fuzzy’s /Golden Chick in Royse City. Reach out to Bro. Les at 214-534-0353 for more info.
URL:https://cbc-roysecity.com/event/young-adult-bible-study-31/
LOCATION:TX
END:VEVENT
BEGIN:VEVENT
DTSTART;TZID=UTC:20241105T110000
DTEND;TZID=UTC:20241105T120000
DTSTAMP:20260425T110315
CREATED:20241031T143615Z
LAST-MODIFIED:20241031T143615Z
UID:3138-1730804400-1730808000@cbc-roysecity.com
SUMMARY:Women's Bible Study
DESCRIPTION:Check out what we are studying here.
URL:https://cbc-roysecity.com/event/womens-bible-study-82/
LOCATION:Community Baptist Church – Royse City\, 6012 State Highway 276\, Royse City\, TX\, 75189\, United States
END:VEVENT
BEGIN:VEVENT
DTSTART;TZID=UTC:20241103T180000
DTEND;TZID=UTC:20241103T190000
DTSTAMP:20260425T110315
CREATED:20240821T153306Z
LAST-MODIFIED:20240821T153306Z
UID:2989-1730656800-1730660400@cbc-roysecity.com
SUMMARY:Sunday Night - Bible Studies
DESCRIPTION:We have Bible Studies for all. \nWomen’s Bible Study \nMen’s Bible Study \nStudents’ \nChildren’s
URL:https://cbc-roysecity.com/event/sunday-night-bible-studies-43/
LOCATION:Community Baptist Church – Royse City\, 6012 State Highway 276\, Royse City\, TX\, 75189\, United States
END:VEVENT
BEGIN:VEVENT
DTSTART;TZID=UTC:20241103T104500
DTEND;TZID=UTC:20241103T114500
DTSTAMP:20260425T110315
CREATED:20240821T153239Z
LAST-MODIFIED:20240821T153239Z
UID:2987-1730630700-1730634300@cbc-roysecity.com
SUMMARY:Church Service
DESCRIPTION:We would love to have you join us this Sunday for our church service. \nHere is a link for what to expect.
URL:https://cbc-roysecity.com/event/church-service-85/
LOCATION:Community Baptist Church – Royse City\, 6012 State Highway 276\, Royse City\, TX\, 75189\, United States
END:VEVENT
BEGIN:VEVENT
DTSTART;TZID=UTC:20241103T094500
DTEND;TZID=UTC:20241103T104500
DTSTAMP:20260425T110315
CREATED:20240821T153215Z
LAST-MODIFIED:20240821T153215Z
UID:2985-1730627100-1730630700@cbc-roysecity.com
SUMMARY:Sunday School
DESCRIPTION:We have Sunday Schools available for all ages and groups. \nChildren \nStudents \nAdults
URL:https://cbc-roysecity.com/event/sunday-school-81/
LOCATION:Community Baptist Church – Royse City\, 6012 State Highway 276\, Royse City\, TX\, 75189\, United States
END:VEVENT
BEGIN:VEVENT
DTSTART;TZID=UTC:20241030T190000
DTEND;TZID=UTC:20241030T200000
DTSTAMP:20260425T110315
CREATED:20240821T160103Z
LAST-MODIFIED:20240821T160103Z
UID:2995-1730314800-1730318400@cbc-roysecity.com
SUMMARY:Youth Event - Outreach night
DESCRIPTION:
URL:https://cbc-roysecity.com/event/youth-event-outreach-night-2/
LOCATION:Community Baptist Church – Royse City\, 6012 State Highway 276\, Royse City\, TX\, 75189\, United States
END:VEVENT
END:VCALENDAR