BEGIN:VCALENDAR
VERSION:2.0
PRODID:-//CBC-roysecity - ECPv6.15.6//NONSGML v1.0//EN
CALSCALE:GREGORIAN
METHOD:PUBLISH
X-WR-CALNAME:CBC-roysecity
X-ORIGINAL-URL:https://cbc-roysecity.com
X-WR-CALDESC:Events for CBC-roysecity
REFRESH-INTERVAL;VALUE=DURATION:PT1H
X-Robots-Tag:noindex
X-PUBLISHED-TTL:PT1H
BEGIN:VTIMEZONE
TZID:UTC
BEGIN:STANDARD
TZOFFSETFROM:+0000
TZOFFSETTO:+0000
TZNAME:UTC
DTSTART:20240101T000000
END:STANDARD
END:VTIMEZONE
BEGIN:VEVENT
DTSTART;TZID=UTC:20250311T110000
DTEND;TZID=UTC:20250311T120000
DTSTAMP:20260422T084245
CREATED:20250123T162314Z
LAST-MODIFIED:20250123T162314Z
UID:3598-1741690800-1741694400@cbc-roysecity.com
SUMMARY:Women's Bible Study
DESCRIPTION:Check out what we are studying here.
URL:https://cbc-roysecity.com/event/womens-bible-study-97/
LOCATION:Community Baptist Church – Royse City\, 6012 State Highway 276\, Royse City\, TX\, 75189\, United States
END:VEVENT
BEGIN:VEVENT
DTSTART;TZID=UTC:20250309T180000
DTEND;TZID=UTC:20250309T190000
DTSTAMP:20260422T084245
CREATED:20250123T162228Z
LAST-MODIFIED:20250123T162228Z
UID:3596-1741543200-1741546800@cbc-roysecity.com
SUMMARY:Sunday Night - Bible Studies
DESCRIPTION:We have Bible Studies for all. \nWomen’s Bible Study \nMen’s Bible Study \nStudents’ \nChildren’s
URL:https://cbc-roysecity.com/event/sunday-night-bible-studies-61/
LOCATION:Community Baptist Church – Royse City\, 6012 State Highway 276\, Royse City\, TX\, 75189\, United States
END:VEVENT
BEGIN:VEVENT
DTSTART;TZID=UTC:20250309T120000
DTEND;TZID=UTC:20250309T140000
DTSTAMP:20260422T084245
CREATED:20250121T211919Z
LAST-MODIFIED:20250121T211919Z
UID:3556-1741521600-1741528800@cbc-roysecity.com
SUMMARY:Youth lunch at Raising Cane's
DESCRIPTION:We will take the van immediately after church.
URL:https://cbc-roysecity.com/event/youth-lunch-at-raising-canes/
LOCATION:Community Baptist Church – Royse City\, 6012 State Highway 276\, Royse City\, TX\, 75189\, United States
END:VEVENT
BEGIN:VEVENT
DTSTART;TZID=UTC:20250309T104500
DTEND;TZID=UTC:20250309T114500
DTSTAMP:20260422T084245
CREATED:20250123T162156Z
LAST-MODIFIED:20250123T162156Z
UID:3594-1741517100-1741520700@cbc-roysecity.com
SUMMARY:Church Service
DESCRIPTION:We would love to have you join us this Sunday for our church service. \nHere is a link for what to expect.
URL:https://cbc-roysecity.com/event/church-service-103/
LOCATION:Community Baptist Church – Royse City\, 6012 State Highway 276\, Royse City\, TX\, 75189\, United States
END:VEVENT
BEGIN:VEVENT
DTSTART;TZID=UTC:20250309T094500
DTEND;TZID=UTC:20250309T104500
DTSTAMP:20260422T084245
CREATED:20250123T160649Z
LAST-MODIFIED:20250123T160649Z
UID:3592-1741513500-1741517100@cbc-roysecity.com
SUMMARY:Sunday School
DESCRIPTION:We have Sunday Schools available for all ages and groups. \nChildren \nStudents \nAdults
URL:https://cbc-roysecity.com/event/sunday-school-99/
LOCATION:Community Baptist Church – Royse City\, 6012 State Highway 276\, Royse City\, TX\, 75189\, United States
END:VEVENT
BEGIN:VEVENT
DTSTART;TZID=UTC:20250308T170000
DTEND;TZID=UTC:20250308T200000
DTSTAMP:20260422T084245
CREATED:20250121T205711Z
LAST-MODIFIED:20250121T205711Z
UID:3538-1741453200-1741464000@cbc-roysecity.com
SUMMARY:Men's Movie Night
DESCRIPTION:Come watch “The Forge”.
URL:https://cbc-roysecity.com/event/mens-movie-night/
LOCATION:Community Baptist Church – Royse City\, 6012 State Highway 276\, Royse City\, TX\, 75189\, United States
END:VEVENT
BEGIN:VEVENT
DTSTART;TZID=UTC:20250308T100000
DTEND;TZID=UTC:20250308T120000
DTSTAMP:20260422T084245
CREATED:20250128T002435Z
LAST-MODIFIED:20250128T002435Z
UID:3663-1741428000-1741435200@cbc-roysecity.com
SUMMARY:Women's Brunch
DESCRIPTION:Meet us at 10am at \nPlace and time to be announced
URL:https://cbc-roysecity.com/event/womens-brunch-2/
LOCATION:Community Baptist Church – Royse City\, 6012 State Highway 276\, Royse City\, TX\, 75189\, United States
END:VEVENT
BEGIN:VEVENT
DTSTART;TZID=UTC:20250305T190000
DTEND;TZID=UTC:20250305T200000
DTSTAMP:20260422T084245
CREATED:20250123T160606Z
LAST-MODIFIED:20250123T160606Z
UID:3590-1741201200-1741204800@cbc-roysecity.com
SUMMARY:Wednesday Night Bible Study
DESCRIPTION:We have Bible studies for all. \nAdult Bible Study \nStudents \nChildren
URL:https://cbc-roysecity.com/event/wednesday-night-bible-study-15/
LOCATION:Community Baptist Church – Royse City\, 6012 State Highway 276\, Royse City\, TX\, 75189\, United States
END:VEVENT
BEGIN:VEVENT
DTSTART;TZID=UTC:20250304T183000
DTEND;TZID=UTC:20250304T200000
DTSTAMP:20260422T084245
CREATED:20250123T160529Z
LAST-MODIFIED:20250123T160529Z
UID:3588-1741113000-1741118400@cbc-roysecity.com
SUMMARY:Young Adult Bible Study
DESCRIPTION:Tuesday evening at 6:30 pm join with the pastor and his wife at Fuzzy’s /Golden Chick in Royse City. Reach out to Bro. Les at 214-534-0353 for more info.
URL:https://cbc-roysecity.com/event/young-adult-bible-study-46/
LOCATION:TX
END:VEVENT
BEGIN:VEVENT
DTSTART;TZID=UTC:20250304T110000
DTEND;TZID=UTC:20250304T120000
DTSTAMP:20260422T084245
CREATED:20250123T160444Z
LAST-MODIFIED:20250123T160444Z
UID:3586-1741086000-1741089600@cbc-roysecity.com
SUMMARY:Women's Bible Study
DESCRIPTION:Check out what we are studying here.
URL:https://cbc-roysecity.com/event/womens-bible-study-96/
LOCATION:Community Baptist Church – Royse City\, 6012 State Highway 276\, Royse City\, TX\, 75189\, United States
END:VEVENT
BEGIN:VEVENT
DTSTART;TZID=UTC:20250302T180000
DTEND;TZID=UTC:20250302T190000
DTSTAMP:20260422T084245
CREATED:20241229T033154Z
LAST-MODIFIED:20241229T033154Z
UID:3500-1740938400-1740942000@cbc-roysecity.com
SUMMARY:Sunday Night - Bible Studies
DESCRIPTION:We have Bible Studies for all. \nWomen’s Bible Study \nMen’s Bible Study \nStudents’ \nChildren’s
URL:https://cbc-roysecity.com/event/sunday-night-bible-studies-60/
LOCATION:Community Baptist Church – Royse City\, 6012 State Highway 276\, Royse City\, TX\, 75189\, United States
END:VEVENT
BEGIN:VEVENT
DTSTART;TZID=UTC:20250302T104500
DTEND;TZID=UTC:20250302T114500
DTSTAMP:20260422T084245
CREATED:20241229T033134Z
LAST-MODIFIED:20241229T033134Z
UID:3498-1740912300-1740915900@cbc-roysecity.com
SUMMARY:Church Service
DESCRIPTION:We would love to have you join us this Sunday for our church service. \nHere is a link for what to expect.
URL:https://cbc-roysecity.com/event/church-service-102/
LOCATION:Community Baptist Church – Royse City\, 6012 State Highway 276\, Royse City\, TX\, 75189\, United States
END:VEVENT
BEGIN:VEVENT
DTSTART;TZID=UTC:20250302T094500
DTEND;TZID=UTC:20250302T104500
DTSTAMP:20260422T084245
CREATED:20241229T033114Z
LAST-MODIFIED:20241229T033114Z
UID:3496-1740908700-1740912300@cbc-roysecity.com
SUMMARY:Sunday School
DESCRIPTION:We have Sunday Schools available for all ages and groups. \nChildren \nStudents \nAdults
URL:https://cbc-roysecity.com/event/sunday-school-98/
LOCATION:Community Baptist Church – Royse City\, 6012 State Highway 276\, Royse City\, TX\, 75189\, United States
END:VEVENT
BEGIN:VEVENT
DTSTART;TZID=UTC:20250301T090000
DTEND;TZID=UTC:20250301T110000
DTSTAMP:20260422T084245
CREATED:20250121T205145Z
LAST-MODIFIED:20250121T205145Z
UID:3529-1740819600-1740826800@cbc-roysecity.com
SUMMARY:Men's Breakfast
DESCRIPTION:Men come together to enjoy breakfast and fellowship together.
URL:https://cbc-roysecity.com/event/mens-breakfast-4/
LOCATION:Community Baptist Church – Royse City\, 6012 State Highway 276\, Royse City\, TX\, 75189\, United States
END:VEVENT
BEGIN:VEVENT
DTSTART;TZID=UTC:20250226T190000
DTEND;TZID=UTC:20250226T200000
DTSTAMP:20260422T084245
CREATED:20241229T033045Z
LAST-MODIFIED:20241229T033045Z
UID:3494-1740596400-1740600000@cbc-roysecity.com
SUMMARY:Wednesday Night Bible Study
DESCRIPTION:We have Bible studies for all. \nAdult Bible Study \nStudents \nChildren
URL:https://cbc-roysecity.com/event/wednesday-night-bible-study-14/
LOCATION:Community Baptist Church – Royse City\, 6012 State Highway 276\, Royse City\, TX\, 75189\, United States
END:VEVENT
BEGIN:VEVENT
DTSTART;TZID=UTC:20250225T183000
DTEND;TZID=UTC:20250225T200000
DTSTAMP:20260422T084245
CREATED:20241229T033025Z
LAST-MODIFIED:20241229T033025Z
UID:3492-1740508200-1740513600@cbc-roysecity.com
SUMMARY:Young Adult Bible Study
DESCRIPTION:Tuesday evening at 6:30 pm join with the pastor and his wife at Fuzzy’s /Golden Chick in Royse City. Reach out to Bro. Les at 214-534-0353 for more info.
URL:https://cbc-roysecity.com/event/young-adult-bible-study-45/
LOCATION:TX
END:VEVENT
BEGIN:VEVENT
DTSTART;TZID=UTC:20250225T110000
DTEND;TZID=UTC:20250225T120000
DTSTAMP:20260422T084245
CREATED:20241229T033005Z
LAST-MODIFIED:20241229T033005Z
UID:3490-1740481200-1740484800@cbc-roysecity.com
SUMMARY:Women's Bible Study
DESCRIPTION:Check out what we are studying here.
URL:https://cbc-roysecity.com/event/womens-bible-study-95/
LOCATION:Community Baptist Church – Royse City\, 6012 State Highway 276\, Royse City\, TX\, 75189\, United States
END:VEVENT
BEGIN:VEVENT
DTSTART;VALUE=DATE:20250224
DTEND;VALUE=DATE:20250226
DTSTAMP:20260422T084245
CREATED:20241119T221448Z
LAST-MODIFIED:20241119T221448Z
UID:3377-1740355200-1740527999@cbc-roysecity.com
SUMMARY:Empower Conference
DESCRIPTION:Let Les know if you would like to go. \n$15 per person
URL:https://cbc-roysecity.com/event/empower-conference-2/
LOCATION:TX
END:VEVENT
BEGIN:VEVENT
DTSTART;TZID=UTC:20250223T180000
DTEND;TZID=UTC:20250223T190000
DTSTAMP:20260422T084245
CREATED:20241229T032943Z
LAST-MODIFIED:20241229T032943Z
UID:3488-1740333600-1740337200@cbc-roysecity.com
SUMMARY:Sunday Night - Bible Studies
DESCRIPTION:We have Bible Studies for all. \nWomen’s Bible Study \nMen’s Bible Study \nStudents’ \nChildren’s
URL:https://cbc-roysecity.com/event/sunday-night-bible-studies-59/
LOCATION:Community Baptist Church – Royse City\, 6012 State Highway 276\, Royse City\, TX\, 75189\, United States
END:VEVENT
BEGIN:VEVENT
DTSTART;TZID=UTC:20250223T173000
DTEND;TZID=UTC:20250223T213000
DTSTAMP:20260422T084245
CREATED:20250121T211738Z
LAST-MODIFIED:20250121T211738Z
UID:3554-1740331800-1740346200@cbc-roysecity.com
SUMMARY:Empower Conference Youth Rally
DESCRIPTION:The van will leave the church at 5:30. \nLet Jonathan know if you would like to go.
URL:https://cbc-roysecity.com/event/empower-conference-youth-rally-2/
LOCATION:TX
END:VEVENT
BEGIN:VEVENT
DTSTART;TZID=UTC:20250223T104500
DTEND;TZID=UTC:20250223T114500
DTSTAMP:20260422T084245
CREATED:20241229T032921Z
LAST-MODIFIED:20241229T032921Z
UID:3486-1740307500-1740311100@cbc-roysecity.com
SUMMARY:Church Service
DESCRIPTION:We would love to have you join us this Sunday for our church service. \nHere is a link for what to expect.
URL:https://cbc-roysecity.com/event/church-service-101/
LOCATION:Community Baptist Church – Royse City\, 6012 State Highway 276\, Royse City\, TX\, 75189\, United States
END:VEVENT
BEGIN:VEVENT
DTSTART;TZID=UTC:20250223T094500
DTEND;TZID=UTC:20250223T104500
DTSTAMP:20260422T084245
CREATED:20241229T032851Z
LAST-MODIFIED:20241229T032851Z
UID:3484-1740303900-1740307500@cbc-roysecity.com
SUMMARY:Sunday School
DESCRIPTION:We have Sunday Schools available for all ages and groups. \nChildren \nStudents \nAdults
URL:https://cbc-roysecity.com/event/sunday-school-97/
LOCATION:Community Baptist Church – Royse City\, 6012 State Highway 276\, Royse City\, TX\, 75189\, United States
END:VEVENT
BEGIN:VEVENT
DTSTART;TZID=UTC:20250222T100000
DTEND;TZID=UTC:20250222T140000
DTSTAMP:20260422T084245
CREATED:20250121T205038Z
LAST-MODIFIED:20250121T205038Z
UID:3526-1740218400-1740232800@cbc-roysecity.com
SUMMARY:Men's Fellowship- trip to the gun range
DESCRIPTION:Ammo Depot at 10 am.  We will meet for lunch together afterward. \nThe cost will partly depend on you\, but expect a $20 minimum.
URL:https://cbc-roysecity.com/event/mens-fellowship-trip-to-the-gun-range/
LOCATION:Ammo Depot\, 2308 Co Rd 2226\, Caddo Mills\, TX\, 75135\, United States
END:VEVENT
BEGIN:VEVENT
DTSTART;TZID=UTC:20250219T190000
DTEND;TZID=UTC:20250219T200000
DTSTAMP:20260422T084245
CREATED:20250121T211556Z
LAST-MODIFIED:20250121T211556Z
UID:3552-1739991600-1739995200@cbc-roysecity.com
SUMMARY:Youth Event - Outreach night
DESCRIPTION:Bring a friend and enjoy Pizza
URL:https://cbc-roysecity.com/event/youth-event-outreach-night-6/
LOCATION:Community Baptist Church – Royse City\, 6012 State Highway 276\, Royse City\, TX\, 75189\, United States
END:VEVENT
BEGIN:VEVENT
DTSTART;TZID=UTC:20250219T190000
DTEND;TZID=UTC:20250219T200000
DTSTAMP:20260422T084245
CREATED:20241229T032824Z
LAST-MODIFIED:20241229T032824Z
UID:3482-1739991600-1739995200@cbc-roysecity.com
SUMMARY:Wednesday Night Bible Study
DESCRIPTION:We have Bible studies for all. \nAdult Bible Study \nStudents \nChildren
URL:https://cbc-roysecity.com/event/wednesday-night-bible-study-13/
LOCATION:Community Baptist Church – Royse City\, 6012 State Highway 276\, Royse City\, TX\, 75189\, United States
END:VEVENT
BEGIN:VEVENT
DTSTART;TZID=UTC:20250218T183000
DTEND;TZID=UTC:20250218T200000
DTSTAMP:20260422T084245
CREATED:20241229T032759Z
LAST-MODIFIED:20241229T032759Z
UID:3480-1739903400-1739908800@cbc-roysecity.com
SUMMARY:Young Adult Bible Study
DESCRIPTION:Tuesday evening at 6:30 pm join with the pastor and his wife at Fuzzy’s /Golden Chick in Royse City. Reach out to Bro. Les at 214-534-0353 for more info.
URL:https://cbc-roysecity.com/event/young-adult-bible-study-44/
LOCATION:TX
END:VEVENT
BEGIN:VEVENT
DTSTART;TZID=UTC:20250218T110000
DTEND;TZID=UTC:20250218T120000
DTSTAMP:20260422T084245
CREATED:20241229T032733Z
LAST-MODIFIED:20241229T032733Z
UID:3478-1739876400-1739880000@cbc-roysecity.com
SUMMARY:Women's Bible Study
DESCRIPTION:Check out what we are studying here.
URL:https://cbc-roysecity.com/event/womens-bible-study-94/
LOCATION:Community Baptist Church – Royse City\, 6012 State Highway 276\, Royse City\, TX\, 75189\, United States
END:VEVENT
BEGIN:VEVENT
DTSTART;TZID=UTC:20250216T180000
DTEND;TZID=UTC:20250216T190000
DTSTAMP:20260422T084245
CREATED:20241229T032709Z
LAST-MODIFIED:20241229T032709Z
UID:3476-1739728800-1739732400@cbc-roysecity.com
SUMMARY:Sunday Night - Bible Studies
DESCRIPTION:We have Bible Studies for all. \nWomen’s Bible Study \nMen’s Bible Study \nStudents’ \nChildren’s
URL:https://cbc-roysecity.com/event/sunday-night-bible-studies-58/
LOCATION:Community Baptist Church – Royse City\, 6012 State Highway 276\, Royse City\, TX\, 75189\, United States
END:VEVENT
BEGIN:VEVENT
DTSTART;TZID=UTC:20250216T160000
DTEND;TZID=UTC:20250216T180000
DTSTAMP:20260422T084245
CREATED:20250128T003629Z
LAST-MODIFIED:20250128T003629Z
UID:3673-1739721600-1739728800@cbc-roysecity.com
SUMMARY:Women's Galentine's Event
DESCRIPTION:You are invited to have a wonderful evening with your sisters in Christ. \nFood theme is Chocolate. \nOur Bible Study will be about the woman at the Well. \nOur Learning will be about how to write and share your 5 minute testimony.
URL:https://cbc-roysecity.com/event/womens-galentines-event/
LOCATION:TX
END:VEVENT
BEGIN:VEVENT
DTSTART;TZID=UTC:20250216T104500
DTEND;TZID=UTC:20250216T114500
DTSTAMP:20260422T084245
CREATED:20241229T032648Z
LAST-MODIFIED:20241229T032648Z
UID:3474-1739702700-1739706300@cbc-roysecity.com
SUMMARY:Church Service
DESCRIPTION:We would love to have you join us this Sunday for our church service. \nHere is a link for what to expect.
URL:https://cbc-roysecity.com/event/church-service-100/
LOCATION:Community Baptist Church – Royse City\, 6012 State Highway 276\, Royse City\, TX\, 75189\, United States
END:VEVENT
END:VCALENDAR