BEGIN:VCALENDAR
VERSION:2.0
PRODID:-//CBC-roysecity - ECPv6.15.6//NONSGML v1.0//EN
CALSCALE:GREGORIAN
METHOD:PUBLISH
X-WR-CALNAME:CBC-roysecity
X-ORIGINAL-URL:https://cbc-roysecity.com
X-WR-CALDESC:Events for CBC-roysecity
REFRESH-INTERVAL;VALUE=DURATION:PT1H
X-Robots-Tag:noindex
X-PUBLISHED-TTL:PT1H
BEGIN:VTIMEZONE
TZID:UTC
BEGIN:STANDARD
TZOFFSETFROM:+0000
TZOFFSETTO:+0000
TZNAME:UTC
DTSTART:20240101T000000
END:STANDARD
END:VTIMEZONE
BEGIN:VEVENT
DTSTART;TZID=UTC:20250427T094500
DTEND;TZID=UTC:20250427T104500
DTSTAMP:20260422T012636
CREATED:20250131T183317Z
LAST-MODIFIED:20250131T183317Z
UID:3763-1745747100-1745750700@cbc-roysecity.com
SUMMARY:Sunday School
DESCRIPTION:We have Sunday Schools available for all ages and groups. \nChildren \nStudents \nAdults
URL:https://cbc-roysecity.com/event/sunday-school-106/
LOCATION:Community Baptist Church – Royse City\, 6012 State Highway 276\, Royse City\, TX\, 75189\, United States
END:VEVENT
BEGIN:VEVENT
DTSTART;TZID=UTC:20250423T190000
DTEND;TZID=UTC:20250423T200000
DTSTAMP:20260422T012636
CREATED:20250131T182845Z
LAST-MODIFIED:20250131T182845Z
UID:3757-1745434800-1745438400@cbc-roysecity.com
SUMMARY:Wednesday Night Bible Study
DESCRIPTION:We have Bible studies for all. \nAdult Bible Study \nStudents \nChildren
URL:https://cbc-roysecity.com/event/wednesday-night-bible-study-22/
LOCATION:Community Baptist Church – Royse City\, 6012 State Highway 276\, Royse City\, TX\, 75189\, United States
END:VEVENT
BEGIN:VEVENT
DTSTART;TZID=UTC:20250422T183000
DTEND;TZID=UTC:20250422T200000
DTSTAMP:20260422T012636
CREATED:20250131T182741Z
LAST-MODIFIED:20250131T182741Z
UID:3755-1745346600-1745352000@cbc-roysecity.com
SUMMARY:Young Adult Bible Study
DESCRIPTION:Tuesday evening at 6:30 pm join with the pastor and his wife at Fuzzy’s /Golden Chick in Royse City. Reach out to Bro. Les at 214-534-0353 for more info.
URL:https://cbc-roysecity.com/event/young-adult-bible-study-53/
LOCATION:TX
END:VEVENT
BEGIN:VEVENT
DTSTART;TZID=UTC:20250422T110000
DTEND;TZID=UTC:20250422T120000
DTSTAMP:20260422T012636
CREATED:20250131T182715Z
LAST-MODIFIED:20250131T182715Z
UID:3753-1745319600-1745323200@cbc-roysecity.com
SUMMARY:Women's Bible Study
DESCRIPTION:Check out what we are studying here.
URL:https://cbc-roysecity.com/event/womens-bible-study-103/
LOCATION:Community Baptist Church – Royse City\, 6012 State Highway 276\, Royse City\, TX\, 75189\, United States
END:VEVENT
BEGIN:VEVENT
DTSTART;TZID=UTC:20250420T180000
DTEND;TZID=UTC:20250420T190000
DTSTAMP:20260422T012636
CREATED:20250131T182640Z
LAST-MODIFIED:20250131T191753Z
UID:3751-1745172000-1745175600@cbc-roysecity.com
SUMMARY:Sunday Night Events Cancelled
DESCRIPTION:We will not have our regular Sunday night Bible Studies tonight in honor of Easter.
URL:https://cbc-roysecity.com/event/sunday-night-bible-studies-67/
LOCATION:Community Baptist Church – Royse City\, 6012 State Highway 276\, Royse City\, TX\, 75189\, United States
END:VEVENT
BEGIN:VEVENT
DTSTART;TZID=UTC:20250420T104500
DTEND;TZID=UTC:20250420T114500
DTSTAMP:20260422T012636
CREATED:20250131T182612Z
LAST-MODIFIED:20250131T191657Z
UID:3749-1745145900-1745149500@cbc-roysecity.com
SUMMARY:Easter Sunday Church Service
DESCRIPTION:We would love to have you join us this Sunday for our church service. \nHere is a link for what to expect.
URL:https://cbc-roysecity.com/event/church-service-109/
LOCATION:Community Baptist Church – Royse City\, 6012 State Highway 276\, Royse City\, TX\, 75189\, United States
END:VEVENT
BEGIN:VEVENT
DTSTART;TZID=UTC:20250420T094500
DTEND;TZID=UTC:20250420T104500
DTSTAMP:20260422T012636
CREATED:20250131T182546Z
LAST-MODIFIED:20250131T182546Z
UID:3747-1745142300-1745145900@cbc-roysecity.com
SUMMARY:Sunday School
DESCRIPTION:We have Sunday Schools available for all ages and groups. \nChildren \nStudents \nAdults
URL:https://cbc-roysecity.com/event/sunday-school-105/
LOCATION:Community Baptist Church – Royse City\, 6012 State Highway 276\, Royse City\, TX\, 75189\, United States
END:VEVENT
BEGIN:VEVENT
DTSTART;VALUE=DATE:20250420
DTEND;VALUE=DATE:20250421
DTSTAMP:20260422T012636
CREATED:20250305T203510Z
LAST-MODIFIED:20250305T203510Z
UID:4072-1745107200-1745193599@cbc-roysecity.com
SUMMARY:Resurrection Sunday
DESCRIPTION:We would love to have you join us this Sunday for our church service. \nHere is a link for what to expect.
URL:https://cbc-roysecity.com/event/resurrection-sunday/
LOCATION:Community Baptist Church – Royse City\, 6012 State Highway 276\, Royse City\, TX\, 75189\, United States
END:VEVENT
BEGIN:VEVENT
DTSTART;TZID=UTC:20250418T190000
DTEND;TZID=UTC:20250418T200000
DTSTAMP:20260422T012636
CREATED:20250131T183233Z
LAST-MODIFIED:20250131T183233Z
UID:3761-1745002800-1745006400@cbc-roysecity.com
SUMMARY:Good Friday Cross Service and Lord's Supper
DESCRIPTION:Join us as we remember the true meaning of Easter.
URL:https://cbc-roysecity.com/event/good-friday-cross-service-and-lords-supper-2/
LOCATION:Community Baptist Church – Royse City\, 6012 State Highway 276\, Royse City\, TX\, 75189\, United States
END:VEVENT
BEGIN:VEVENT
DTSTART;TZID=UTC:20250416T190000
DTEND;TZID=UTC:20250416T200000
DTSTAMP:20260422T012636
CREATED:20250131T182510Z
LAST-MODIFIED:20250131T193003Z
UID:3745-1744830000-1744833600@cbc-roysecity.com
SUMMARY:Wednesday Evening Events Cancelled
DESCRIPTION:We will not have our regular Wednesday Night Bible Study tonight.  Please\, instead\, join us for our Good Friday Service this Friday.
URL:https://cbc-roysecity.com/event/wednesday-night-bible-study-21/
LOCATION:Community Baptist Church – Royse City\, 6012 State Highway 276\, Royse City\, TX\, 75189\, United States
END:VEVENT
BEGIN:VEVENT
DTSTART;TZID=UTC:20250416T190000
DTEND;TZID=UTC:20250416T200000
DTSTAMP:20260422T012636
CREATED:20250121T212308Z
LAST-MODIFIED:20250131T191918Z
UID:3561-1744830000-1744833600@cbc-roysecity.com
SUMMARY:Youth Event - Outreach night  - Date changing
DESCRIPTION:Bring a friend for ice cream sundaes. \nWomen’s Ministry is sponsoring and catering this event.
URL:https://cbc-roysecity.com/event/youth-event-outreach-night-8/
LOCATION:Community Baptist Church – Royse City\, 6012 State Highway 276\, Royse City\, TX\, 75189\, United States
END:VEVENT
BEGIN:VEVENT
DTSTART;TZID=UTC:20250415T183000
DTEND;TZID=UTC:20250415T200000
DTSTAMP:20260422T012636
CREATED:20250131T182437Z
LAST-MODIFIED:20250131T182437Z
UID:3743-1744741800-1744747200@cbc-roysecity.com
SUMMARY:Young Adult Bible Study
DESCRIPTION:Tuesday evening at 6:30 pm join with the pastor and his wife at Fuzzy’s /Golden Chick in Royse City. Reach out to Bro. Les at 214-534-0353 for more info.
URL:https://cbc-roysecity.com/event/young-adult-bible-study-52/
LOCATION:TX
END:VEVENT
BEGIN:VEVENT
DTSTART;TZID=UTC:20250415T110000
DTEND;TZID=UTC:20250415T120000
DTSTAMP:20260422T012636
CREATED:20250131T182404Z
LAST-MODIFIED:20250131T182404Z
UID:3741-1744714800-1744718400@cbc-roysecity.com
SUMMARY:Women's Bible Study
DESCRIPTION:Check out what we are studying here.
URL:https://cbc-roysecity.com/event/womens-bible-study-102/
LOCATION:Community Baptist Church – Royse City\, 6012 State Highway 276\, Royse City\, TX\, 75189\, United States
END:VEVENT
BEGIN:VEVENT
DTSTART;TZID=UTC:20250413T180000
DTEND;TZID=UTC:20250413T190000
DTSTAMP:20260422T012636
CREATED:20250123T165859Z
LAST-MODIFIED:20250123T165924Z
UID:3646-1744567200-1744570800@cbc-roysecity.com
SUMMARY:Sunday Night - Bible Studies
DESCRIPTION:We have Bible Studies for all. \nWomen’s Bible Study \nMen’s Bible Study \nStudents’ \nChildren’s
URL:https://cbc-roysecity.com/event/sunday-night-bible-studies-66/
LOCATION:Community Baptist Church – Royse City\, 6012 State Highway 276\, Royse City\, TX\, 75189\, United States
END:VEVENT
BEGIN:VEVENT
DTSTART;TZID=UTC:20250413T104500
DTEND;TZID=UTC:20250413T114500
DTSTAMP:20260422T012636
CREATED:20250123T170324Z
LAST-MODIFIED:20250123T170324Z
UID:3656-1744541100-1744544700@cbc-roysecity.com
SUMMARY:Church Service
DESCRIPTION:We would love to have you join us this Sunday for our church service. \nHere is a link for what to expect.
URL:https://cbc-roysecity.com/event/church-service-108/
LOCATION:Community Baptist Church – Royse City\, 6012 State Highway 276\, Royse City\, TX\, 75189\, United States
END:VEVENT
BEGIN:VEVENT
DTSTART;TZID=UTC:20250413T094500
DTEND;TZID=UTC:20250413T104500
DTSTAMP:20260422T012636
CREATED:20250123T170220Z
LAST-MODIFIED:20250123T170220Z
UID:3654-1744537500-1744541100@cbc-roysecity.com
SUMMARY:Sunday School
DESCRIPTION:We have Sunday Schools available for all ages and groups. \nChildren \nStudents \nAdults
URL:https://cbc-roysecity.com/event/sunday-school-104/
LOCATION:Community Baptist Church – Royse City\, 6012 State Highway 276\, Royse City\, TX\, 75189\, United States
END:VEVENT
BEGIN:VEVENT
DTSTART;TZID=UTC:20250412T100000
DTEND;TZID=UTC:20250412T120000
DTSTAMP:20260422T012636
CREATED:20250128T002706Z
LAST-MODIFIED:20250131T180958Z
UID:3665-1744452000-1744459200@cbc-roysecity.com
SUMMARY:Church Cleanup
DESCRIPTION:Meet us at 9am at the church.  We will have breakfast and socialize here\, then spend some time cleaning out flower beds\, and cleaning and decorating the church to get ready for Easter Services. \n 
URL:https://cbc-roysecity.com/event/womens-brunch-3/
LOCATION:Community Baptist Church – Royse City\, 6012 State Highway 276\, Royse City\, TX\, 75189\, United States
END:VEVENT
BEGIN:VEVENT
DTSTART;TZID=UTC:20250409T190000
DTEND;TZID=UTC:20250409T200000
DTSTAMP:20260422T012636
CREATED:20250123T170145Z
LAST-MODIFIED:20250123T170145Z
UID:3652-1744225200-1744228800@cbc-roysecity.com
SUMMARY:Wednesday Night Bible Study
DESCRIPTION:We have Bible studies for all. \nAdult Bible Study \nStudents \nChildren
URL:https://cbc-roysecity.com/event/wednesday-night-bible-study-20/
LOCATION:Community Baptist Church – Royse City\, 6012 State Highway 276\, Royse City\, TX\, 75189\, United States
END:VEVENT
BEGIN:VEVENT
DTSTART;TZID=UTC:20250408T183000
DTEND;TZID=UTC:20250408T200000
DTSTAMP:20260422T012636
CREATED:20250123T170106Z
LAST-MODIFIED:20250123T170106Z
UID:3650-1744137000-1744142400@cbc-roysecity.com
SUMMARY:Young Adult Bible Study
DESCRIPTION:Tuesday evening at 6:30 pm join with the pastor and his wife at Fuzzy’s /Golden Chick in Royse City. Reach out to Bro. Les at 214-534-0353 for more info.
URL:https://cbc-roysecity.com/event/young-adult-bible-study-51/
LOCATION:TX
END:VEVENT
BEGIN:VEVENT
DTSTART;TZID=UTC:20250408T110000
DTEND;TZID=UTC:20250408T120000
DTSTAMP:20260422T012636
CREATED:20250123T170014Z
LAST-MODIFIED:20250123T170014Z
UID:3648-1744110000-1744113600@cbc-roysecity.com
SUMMARY:Women's Bible Study
DESCRIPTION:Check out what we are studying here.
URL:https://cbc-roysecity.com/event/womens-bible-study-101/
LOCATION:Community Baptist Church – Royse City\, 6012 State Highway 276\, Royse City\, TX\, 75189\, United States
END:VEVENT
BEGIN:VEVENT
DTSTART;TZID=UTC:20250406T180000
DTEND;TZID=UTC:20250406T190000
DTSTAMP:20260422T012636
CREATED:20250123T165832Z
LAST-MODIFIED:20250123T165832Z
UID:3644-1743962400-1743966000@cbc-roysecity.com
SUMMARY:Sunday Night - Bible Studies
DESCRIPTION:We have Bible Studies for all. \nWomen’s Bible Study \nMen’s Bible Study \nStudents’ \nChildren’s
URL:https://cbc-roysecity.com/event/sunday-night-bible-studies-65/
LOCATION:Community Baptist Church – Royse City\, 6012 State Highway 276\, Royse City\, TX\, 75189\, United States
END:VEVENT
BEGIN:VEVENT
DTSTART;TZID=UTC:20250406T104500
DTEND;TZID=UTC:20250406T114500
DTSTAMP:20260422T012636
CREATED:20250123T165809Z
LAST-MODIFIED:20250123T165809Z
UID:3642-1743936300-1743939900@cbc-roysecity.com
SUMMARY:Church Service
DESCRIPTION:We would love to have you join us this Sunday for our church service. \nHere is a link for what to expect.
URL:https://cbc-roysecity.com/event/church-service-107/
LOCATION:Community Baptist Church – Royse City\, 6012 State Highway 276\, Royse City\, TX\, 75189\, United States
END:VEVENT
BEGIN:VEVENT
DTSTART;TZID=UTC:20250406T094500
DTEND;TZID=UTC:20250406T104500
DTSTAMP:20260422T012636
CREATED:20250123T165738Z
LAST-MODIFIED:20250123T165738Z
UID:3640-1743932700-1743936300@cbc-roysecity.com
SUMMARY:Sunday School
DESCRIPTION:We have Sunday Schools available for all ages and groups. \nChildren \nStudents \nAdults
URL:https://cbc-roysecity.com/event/sunday-school-103/
LOCATION:Community Baptist Church – Royse City\, 6012 State Highway 276\, Royse City\, TX\, 75189\, United States
END:VEVENT
BEGIN:VEVENT
DTSTART;TZID=UTC:20250405T100000
DTEND;TZID=UTC:20250405T140000
DTSTAMP:20260422T012636
CREATED:20250128T003312Z
LAST-MODIFIED:20250131T193058Z
UID:3671-1743847200-1743861600@cbc-roysecity.com
SUMMARY:Hunt County Women's Conference
DESCRIPTION:Hunt County Women’s Conference at Highland Terrace Church in Greenville.  More details to come
URL:https://cbc-roysecity.com/event/hunt-county-womens-conference/
LOCATION:Highland Terrace Baptist Church\, 3939 Joe Ramsey Blvd.\, Greenville\, TX\, United States
END:VEVENT
BEGIN:VEVENT
DTSTART;TZID=UTC:20250405T090000
DTEND;TZID=UTC:20250405T110000
DTSTAMP:20260422T012636
CREATED:20250121T205220Z
LAST-MODIFIED:20250121T205220Z
UID:3531-1743843600-1743850800@cbc-roysecity.com
SUMMARY:Men's Breakfast
DESCRIPTION:Men come together to enjoy breakfast and fellowship together.
URL:https://cbc-roysecity.com/event/mens-breakfast-5/
LOCATION:Community Baptist Church – Royse City\, 6012 State Highway 276\, Royse City\, TX\, 75189\, United States
END:VEVENT
BEGIN:VEVENT
DTSTART;TZID=UTC:20250402T190000
DTEND;TZID=UTC:20250402T200000
DTSTAMP:20260422T012636
CREATED:20250123T165706Z
LAST-MODIFIED:20250123T165706Z
UID:3638-1743620400-1743624000@cbc-roysecity.com
SUMMARY:Wednesday Night Bible Study
DESCRIPTION:We have Bible studies for all. \nAdult Bible Study \nStudents \nChildren
URL:https://cbc-roysecity.com/event/wednesday-night-bible-study-19/
LOCATION:Community Baptist Church – Royse City\, 6012 State Highway 276\, Royse City\, TX\, 75189\, United States
END:VEVENT
BEGIN:VEVENT
DTSTART;TZID=UTC:20250401T183000
DTEND;TZID=UTC:20250401T200000
DTSTAMP:20260422T012636
CREATED:20250123T165636Z
LAST-MODIFIED:20250123T165636Z
UID:3636-1743532200-1743537600@cbc-roysecity.com
SUMMARY:Young Adult Bible Study
DESCRIPTION:Tuesday evening at 6:30 pm join with the pastor and his wife at Fuzzy’s /Golden Chick in Royse City. Reach out to Bro. Les at 214-534-0353 for more info.
URL:https://cbc-roysecity.com/event/young-adult-bible-study-50/
LOCATION:TX
END:VEVENT
BEGIN:VEVENT
DTSTART;TZID=UTC:20250401T110000
DTEND;TZID=UTC:20250401T120000
DTSTAMP:20260422T012636
CREATED:20250123T165610Z
LAST-MODIFIED:20250123T165610Z
UID:3634-1743505200-1743508800@cbc-roysecity.com
SUMMARY:Women's Bible Study
DESCRIPTION:Check out what we are studying here.
URL:https://cbc-roysecity.com/event/womens-bible-study-100/
LOCATION:Community Baptist Church – Royse City\, 6012 State Highway 276\, Royse City\, TX\, 75189\, United States
END:VEVENT
BEGIN:VEVENT
DTSTART;TZID=UTC:20250330T180000
DTEND;TZID=UTC:20250330T190000
DTSTAMP:20260422T012636
CREATED:20250123T165533Z
LAST-MODIFIED:20250123T165533Z
UID:3632-1743357600-1743361200@cbc-roysecity.com
SUMMARY:Sunday Night - Bible Studies
DESCRIPTION:We have Bible Studies for all. \nWomen’s Bible Study \nMen’s Bible Study \nStudents’ \nChildren’s
URL:https://cbc-roysecity.com/event/sunday-night-bible-studies-64/
LOCATION:Community Baptist Church – Royse City\, 6012 State Highway 276\, Royse City\, TX\, 75189\, United States
END:VEVENT
BEGIN:VEVENT
DTSTART;TZID=UTC:20250330T104500
DTEND;TZID=UTC:20250330T114500
DTSTAMP:20260422T012636
CREATED:20250123T165510Z
LAST-MODIFIED:20250123T165510Z
UID:3630-1743331500-1743335100@cbc-roysecity.com
SUMMARY:Church Service
DESCRIPTION:We would love to have you join us this Sunday for our church service. \nHere is a link for what to expect.
URL:https://cbc-roysecity.com/event/church-service-106/
LOCATION:Community Baptist Church – Royse City\, 6012 State Highway 276\, Royse City\, TX\, 75189\, United States
END:VEVENT
END:VCALENDAR