BEGIN:VCALENDAR
VERSION:2.0
PRODID:-//CBC-roysecity - ECPv6.15.6//NONSGML v1.0//EN
CALSCALE:GREGORIAN
METHOD:PUBLISH
X-WR-CALNAME:CBC-roysecity
X-ORIGINAL-URL:https://cbc-roysecity.com
X-WR-CALDESC:Events for CBC-roysecity
REFRESH-INTERVAL;VALUE=DURATION:PT1H
X-Robots-Tag:noindex
X-PUBLISHED-TTL:PT1H
BEGIN:VTIMEZONE
TZID:UTC
BEGIN:STANDARD
TZOFFSETFROM:+0000
TZOFFSETTO:+0000
TZNAME:UTC
DTSTART:20240101T000000
END:STANDARD
END:VTIMEZONE
BEGIN:VEVENT
DTSTART;TZID=UTC:20250617T183000
DTEND;TZID=UTC:20250617T200000
DTSTAMP:20260420T001502
CREATED:20250131T185641Z
LAST-MODIFIED:20250131T185641Z
UID:3855-1750185000-1750190400@cbc-roysecity.com
SUMMARY:Young Adult Bible Study
DESCRIPTION:Tuesday evening at 6:30 pm join with the pastor and his wife at Fuzzy’s /Golden Chick in Royse City. Reach out to Bro. Les at 214-534-0353 for more info.
URL:https://cbc-roysecity.com/event/young-adult-bible-study-61/
LOCATION:TX
END:VEVENT
BEGIN:VEVENT
DTSTART;TZID=UTC:20250617T110000
DTEND;TZID=UTC:20250617T120000
DTSTAMP:20260420T001502
CREATED:20250131T185620Z
LAST-MODIFIED:20250131T185620Z
UID:3853-1750158000-1750161600@cbc-roysecity.com
SUMMARY:Women's Bible Study
DESCRIPTION:Check out what we are studying here.
URL:https://cbc-roysecity.com/event/womens-bible-study-111/
LOCATION:Community Baptist Church – Royse City\, 6012 State Highway 276\, Royse City\, TX\, 75189\, United States
END:VEVENT
BEGIN:VEVENT
DTSTART;TZID=UTC:20250615T180000
DTEND;TZID=UTC:20250615T190000
DTSTAMP:20260420T001502
CREATED:20250131T185547Z
LAST-MODIFIED:20250131T185547Z
UID:3851-1750010400-1750014000@cbc-roysecity.com
SUMMARY:Sunday Night - Bible Studies
DESCRIPTION:We have Bible Studies for all. \nWomen’s Bible Study \nMen’s Bible Study \nStudents’ \nChildren’s
URL:https://cbc-roysecity.com/event/sunday-night-bible-studies-75/
LOCATION:Community Baptist Church – Royse City\, 6012 State Highway 276\, Royse City\, TX\, 75189\, United States
END:VEVENT
BEGIN:VEVENT
DTSTART;TZID=UTC:20250615T104500
DTEND;TZID=UTC:20250615T114500
DTSTAMP:20260420T001502
CREATED:20250131T185524Z
LAST-MODIFIED:20250131T185524Z
UID:3849-1749984300-1749987900@cbc-roysecity.com
SUMMARY:Church Service
DESCRIPTION:We would love to have you join us this Sunday for our church service. \nHere is a link for what to expect.
URL:https://cbc-roysecity.com/event/church-service-117/
LOCATION:Community Baptist Church – Royse City\, 6012 State Highway 276\, Royse City\, TX\, 75189\, United States
END:VEVENT
BEGIN:VEVENT
DTSTART;TZID=UTC:20250615T094500
DTEND;TZID=UTC:20250615T104500
DTSTAMP:20260420T001502
CREATED:20250131T185453Z
LAST-MODIFIED:20250131T192218Z
UID:3847-1749980700-1749984300@cbc-roysecity.com
SUMMARY:Father's Day Breakfast
DESCRIPTION:We will not be having our regular Sunday School Classes this morning. \nInstead\, the Women’s Ministry will be providing breakfast to us all in honor of Father’s Day. \nJoin us for food and fellowship\, followed by our regular church service.
URL:https://cbc-roysecity.com/event/sunday-school-113/
LOCATION:Community Baptist Church – Royse City\, 6012 State Highway 276\, Royse City\, TX\, 75189\, United States
END:VEVENT
BEGIN:VEVENT
DTSTART;TZID=UTC:20250614T100000
DTEND;TZID=UTC:20250614T120000
DTSTAMP:20260420T001502
CREATED:20250128T003033Z
LAST-MODIFIED:20250128T003033Z
UID:3669-1749895200-1749902400@cbc-roysecity.com
SUMMARY:Women's Brunch
DESCRIPTION:Meet us at 10am at the church. \nWe will have a meal and socialize.  We will also spend some time getting things ready for Vacation Bible School.
URL:https://cbc-roysecity.com/event/womens-brunch-5/
LOCATION:Community Baptist Church – Royse City\, 6012 State Highway 276\, Royse City\, TX\, 75189\, United States
END:VEVENT
BEGIN:VEVENT
DTSTART;TZID=UTC:20250611T190000
DTEND;TZID=UTC:20250611T200000
DTSTAMP:20260420T001502
CREATED:20250131T185428Z
LAST-MODIFIED:20250131T185428Z
UID:3845-1749668400-1749672000@cbc-roysecity.com
SUMMARY:Wednesday Night Bible Study
DESCRIPTION:We have Bible studies for all. \nAdult Bible Study \nStudents \nChildren
URL:https://cbc-roysecity.com/event/wednesday-night-bible-study-29/
LOCATION:Community Baptist Church – Royse City\, 6012 State Highway 276\, Royse City\, TX\, 75189\, United States
END:VEVENT
BEGIN:VEVENT
DTSTART;TZID=UTC:20250610T183000
DTEND;TZID=UTC:20250610T200000
DTSTAMP:20260420T001502
CREATED:20250131T185406Z
LAST-MODIFIED:20250131T185406Z
UID:3843-1749580200-1749585600@cbc-roysecity.com
SUMMARY:Young Adult Bible Study
DESCRIPTION:Tuesday evening at 6:30 pm join with the pastor and his wife at Fuzzy’s /Golden Chick in Royse City. Reach out to Bro. Les at 214-534-0353 for more info.
URL:https://cbc-roysecity.com/event/young-adult-bible-study-60/
LOCATION:TX
END:VEVENT
BEGIN:VEVENT
DTSTART;TZID=UTC:20250610T110000
DTEND;TZID=UTC:20250610T120000
DTSTAMP:20260420T001502
CREATED:20250131T185339Z
LAST-MODIFIED:20250131T185339Z
UID:3841-1749553200-1749556800@cbc-roysecity.com
SUMMARY:Women's Bible Study
DESCRIPTION:Check out what we are studying here.
URL:https://cbc-roysecity.com/event/womens-bible-study-110/
LOCATION:Community Baptist Church – Royse City\, 6012 State Highway 276\, Royse City\, TX\, 75189\, United States
END:VEVENT
BEGIN:VEVENT
DTSTART;VALUE=DATE:20250609
DTEND;VALUE=DATE:20250614
DTSTAMP:20260420T001502
CREATED:20250121T213129Z
LAST-MODIFIED:20250129T194030Z
UID:3574-1749427200-1749859199@cbc-roysecity.com
SUMMARY:Youth Camp
DESCRIPTION:For students who have completed grades 6 – 12. \nat Falls Creek\, Oklahoma
URL:https://cbc-roysecity.com/event/youth-camp-3/
LOCATION:Falls Creek\, 6714 HWY 77D\, Davis\, OK\, 73030\, United States
END:VEVENT
BEGIN:VEVENT
DTSTART;TZID=UTC:20250608T180000
DTEND;TZID=UTC:20250608T190000
DTSTAMP:20260420T001502
CREATED:20250131T185311Z
LAST-MODIFIED:20250131T185311Z
UID:3839-1749405600-1749409200@cbc-roysecity.com
SUMMARY:Sunday Night - Bible Studies
DESCRIPTION:We have Bible Studies for all. \nWomen’s Bible Study \nMen’s Bible Study \nStudents’ \nChildren’s
URL:https://cbc-roysecity.com/event/sunday-night-bible-studies-74/
LOCATION:Community Baptist Church – Royse City\, 6012 State Highway 276\, Royse City\, TX\, 75189\, United States
END:VEVENT
BEGIN:VEVENT
DTSTART;TZID=UTC:20250608T104500
DTEND;TZID=UTC:20250608T114500
DTSTAMP:20260420T001502
CREATED:20250131T185249Z
LAST-MODIFIED:20250131T185249Z
UID:3837-1749379500-1749383100@cbc-roysecity.com
SUMMARY:Church Service
DESCRIPTION:We would love to have you join us this Sunday for our church service. \nHere is a link for what to expect.
URL:https://cbc-roysecity.com/event/church-service-116/
LOCATION:Community Baptist Church – Royse City\, 6012 State Highway 276\, Royse City\, TX\, 75189\, United States
END:VEVENT
BEGIN:VEVENT
DTSTART;TZID=UTC:20250608T094500
DTEND;TZID=UTC:20250608T104500
DTSTAMP:20260420T001502
CREATED:20250131T185221Z
LAST-MODIFIED:20250131T185221Z
UID:3835-1749375900-1749379500@cbc-roysecity.com
SUMMARY:Sunday School
DESCRIPTION:We have Sunday Schools available for all ages and groups. \nChildren \nStudents \nAdults
URL:https://cbc-roysecity.com/event/sunday-school-112/
LOCATION:Community Baptist Church – Royse City\, 6012 State Highway 276\, Royse City\, TX\, 75189\, United States
END:VEVENT
BEGIN:VEVENT
DTSTART;TZID=UTC:20250604T190000
DTEND;TZID=UTC:20250604T200000
DTSTAMP:20260420T001502
CREATED:20250131T185155Z
LAST-MODIFIED:20250131T185155Z
UID:3833-1749063600-1749067200@cbc-roysecity.com
SUMMARY:Wednesday Night Bible Study
DESCRIPTION:We have Bible studies for all. \nAdult Bible Study \nStudents \nChildren
URL:https://cbc-roysecity.com/event/wednesday-night-bible-study-28/
LOCATION:Community Baptist Church – Royse City\, 6012 State Highway 276\, Royse City\, TX\, 75189\, United States
END:VEVENT
BEGIN:VEVENT
DTSTART;TZID=UTC:20250603T183000
DTEND;TZID=UTC:20250603T200000
DTSTAMP:20260420T001502
CREATED:20250131T185131Z
LAST-MODIFIED:20250131T185131Z
UID:3831-1748975400-1748980800@cbc-roysecity.com
SUMMARY:Young Adult Bible Study
DESCRIPTION:Tuesday evening at 6:30 pm join with the pastor and his wife at Fuzzy’s /Golden Chick in Royse City. Reach out to Bro. Les at 214-534-0353 for more info.
URL:https://cbc-roysecity.com/event/young-adult-bible-study-59/
LOCATION:TX
END:VEVENT
BEGIN:VEVENT
DTSTART;TZID=UTC:20250603T110000
DTEND;TZID=UTC:20250603T120000
DTSTAMP:20260420T001502
CREATED:20250131T185106Z
LAST-MODIFIED:20250131T185106Z
UID:3829-1748948400-1748952000@cbc-roysecity.com
SUMMARY:Women's Bible Study
DESCRIPTION:Check out what we are studying here.
URL:https://cbc-roysecity.com/event/womens-bible-study-109/
LOCATION:Community Baptist Church – Royse City\, 6012 State Highway 276\, Royse City\, TX\, 75189\, United States
END:VEVENT
BEGIN:VEVENT
DTSTART;TZID=UTC:20250601T180000
DTEND;TZID=UTC:20250601T190000
DTSTAMP:20260420T001502
CREATED:20250131T185031Z
LAST-MODIFIED:20250131T185031Z
UID:3827-1748800800-1748804400@cbc-roysecity.com
SUMMARY:Sunday Night - Bible Studies
DESCRIPTION:We have Bible Studies for all. \nWomen’s Bible Study \nMen’s Bible Study \nStudents’ \nChildren’s
URL:https://cbc-roysecity.com/event/sunday-night-bible-studies-73/
LOCATION:Community Baptist Church – Royse City\, 6012 State Highway 276\, Royse City\, TX\, 75189\, United States
END:VEVENT
BEGIN:VEVENT
DTSTART;TZID=UTC:20250601T104500
DTEND;TZID=UTC:20250601T114500
DTSTAMP:20260420T001502
CREATED:20250131T185004Z
LAST-MODIFIED:20250131T185004Z
UID:3825-1748774700-1748778300@cbc-roysecity.com
SUMMARY:Church Service
DESCRIPTION:We would love to have you join us this Sunday for our church service. \nHere is a link for what to expect.
URL:https://cbc-roysecity.com/event/church-service-115/
LOCATION:Community Baptist Church – Royse City\, 6012 State Highway 276\, Royse City\, TX\, 75189\, United States
END:VEVENT
BEGIN:VEVENT
DTSTART;TZID=UTC:20250601T094500
DTEND;TZID=UTC:20250601T104500
DTSTAMP:20260420T001502
CREATED:20250131T184943Z
LAST-MODIFIED:20250131T184943Z
UID:3823-1748771100-1748774700@cbc-roysecity.com
SUMMARY:Sunday School
DESCRIPTION:We have Sunday Schools available for all ages and groups. \nChildren \nStudents \nAdults
URL:https://cbc-roysecity.com/event/sunday-school-111/
LOCATION:Community Baptist Church – Royse City\, 6012 State Highway 276\, Royse City\, TX\, 75189\, United States
END:VEVENT
BEGIN:VEVENT
DTSTART;TZID=UTC:20250528T190000
DTEND;TZID=UTC:20250528T200000
DTSTAMP:20260420T001502
CREATED:20250131T184917Z
LAST-MODIFIED:20250131T184917Z
UID:3821-1748458800-1748462400@cbc-roysecity.com
SUMMARY:Wednesday Night Bible Study
DESCRIPTION:We have Bible studies for all. \nAdult Bible Study \nStudents \nChildren
URL:https://cbc-roysecity.com/event/wednesday-night-bible-study-27/
LOCATION:Community Baptist Church – Royse City\, 6012 State Highway 276\, Royse City\, TX\, 75189\, United States
END:VEVENT
BEGIN:VEVENT
DTSTART;TZID=UTC:20250527T183000
DTEND;TZID=UTC:20250527T200000
DTSTAMP:20260420T001502
CREATED:20250131T184831Z
LAST-MODIFIED:20250131T184831Z
UID:3819-1748370600-1748376000@cbc-roysecity.com
SUMMARY:Young Adult Bible Study
DESCRIPTION:Tuesday evening at 6:30 pm join with the pastor and his wife at Fuzzy’s /Golden Chick in Royse City. Reach out to Bro. Les at 214-534-0353 for more info.
URL:https://cbc-roysecity.com/event/young-adult-bible-study-58/
LOCATION:TX
END:VEVENT
BEGIN:VEVENT
DTSTART;TZID=UTC:20250527T110000
DTEND;TZID=UTC:20250527T120000
DTSTAMP:20260420T001502
CREATED:20250131T184804Z
LAST-MODIFIED:20250131T184804Z
UID:3817-1748343600-1748347200@cbc-roysecity.com
SUMMARY:Women's Bible Study
DESCRIPTION:Check out what we are studying here.
URL:https://cbc-roysecity.com/event/womens-bible-study-108/
LOCATION:Community Baptist Church – Royse City\, 6012 State Highway 276\, Royse City\, TX\, 75189\, United States
END:VEVENT
BEGIN:VEVENT
DTSTART;TZID=UTC:20250525T180000
DTEND;TZID=UTC:20250525T190000
DTSTAMP:20260420T001502
CREATED:20250131T184740Z
LAST-MODIFIED:20250131T184740Z
UID:3815-1748196000-1748199600@cbc-roysecity.com
SUMMARY:Sunday Night - Bible Studies
DESCRIPTION:We have Bible Studies for all. \nWomen’s Bible Study \nMen’s Bible Study \nStudents’ \nChildren’s
URL:https://cbc-roysecity.com/event/sunday-night-bible-studies-72/
LOCATION:Community Baptist Church – Royse City\, 6012 State Highway 276\, Royse City\, TX\, 75189\, United States
END:VEVENT
BEGIN:VEVENT
DTSTART;TZID=UTC:20250525T104500
DTEND;TZID=UTC:20250525T114500
DTSTAMP:20260420T001502
CREATED:20250131T184707Z
LAST-MODIFIED:20250131T184707Z
UID:3813-1748169900-1748173500@cbc-roysecity.com
SUMMARY:Church Service
DESCRIPTION:We would love to have you join us this Sunday for our church service. \nHere is a link for what to expect.
URL:https://cbc-roysecity.com/event/church-service-114/
LOCATION:Community Baptist Church – Royse City\, 6012 State Highway 276\, Royse City\, TX\, 75189\, United States
END:VEVENT
BEGIN:VEVENT
DTSTART;TZID=UTC:20250525T094500
DTEND;TZID=UTC:20250525T104500
DTSTAMP:20260420T001502
CREATED:20250131T184642Z
LAST-MODIFIED:20250131T184642Z
UID:3811-1748166300-1748169900@cbc-roysecity.com
SUMMARY:Sunday School
DESCRIPTION:We have Sunday Schools available for all ages and groups. \nChildren \nStudents \nAdults
URL:https://cbc-roysecity.com/event/sunday-school-110/
LOCATION:Community Baptist Church – Royse City\, 6012 State Highway 276\, Royse City\, TX\, 75189\, United States
END:VEVENT
BEGIN:VEVENT
DTSTART;VALUE=DATE:20250525
DTEND;VALUE=DATE:20250529
DTSTAMP:20260420T001502
CREATED:20241119T221942Z
LAST-MODIFIED:20241119T221942Z
UID:3381-1748131200-1748476799@cbc-roysecity.com
SUMMARY:Kids' Kamp
DESCRIPTION:For children who have completed 3rd – 6th grade \nat Falls Creek\, Oklahoma
URL:https://cbc-roysecity.com/event/kids-kamp-3/
LOCATION:TX
END:VEVENT
BEGIN:VEVENT
DTSTART;TZID=UTC:20250521T190000
DTEND;TZID=UTC:20250521T200000
DTSTAMP:20260420T001502
CREATED:20250131T184615Z
LAST-MODIFIED:20250131T184615Z
UID:3809-1747854000-1747857600@cbc-roysecity.com
SUMMARY:Wednesday Night Bible Study
DESCRIPTION:We have Bible studies for all. \nAdult Bible Study \nStudents \nChildren
URL:https://cbc-roysecity.com/event/wednesday-night-bible-study-26/
LOCATION:Community Baptist Church – Royse City\, 6012 State Highway 276\, Royse City\, TX\, 75189\, United States
END:VEVENT
BEGIN:VEVENT
DTSTART;TZID=UTC:20250520T183000
DTEND;TZID=UTC:20250520T200000
DTSTAMP:20260420T001502
CREATED:20250131T184543Z
LAST-MODIFIED:20250131T184543Z
UID:3807-1747765800-1747771200@cbc-roysecity.com
SUMMARY:Young Adult Bible Study
DESCRIPTION:Tuesday evening at 6:30 pm join with the pastor and his wife at Fuzzy’s /Golden Chick in Royse City. Reach out to Bro. Les at 214-534-0353 for more info.
URL:https://cbc-roysecity.com/event/young-adult-bible-study-57/
LOCATION:TX
END:VEVENT
BEGIN:VEVENT
DTSTART;TZID=UTC:20250520T110000
DTEND;TZID=UTC:20250520T120000
DTSTAMP:20260420T001502
CREATED:20250131T184208Z
LAST-MODIFIED:20250131T184322Z
UID:3795-1747738800-1747742400@cbc-roysecity.com
SUMMARY:Women's Bible Study
DESCRIPTION:Check out what we are studying here.
URL:https://cbc-roysecity.com/event/womens-bible-study-107/
LOCATION:Community Baptist Church – Royse City\, 6012 State Highway 276\, Royse City\, TX\, 75189\, United States
END:VEVENT
BEGIN:VEVENT
DTSTART;TZID=UTC:20250518T180000
DTEND;TZID=UTC:20250518T190000
DTSTAMP:20260420T001502
CREATED:20250131T184501Z
LAST-MODIFIED:20250131T184501Z
UID:3805-1747591200-1747594800@cbc-roysecity.com
SUMMARY:Sunday Night - Bible Studies
DESCRIPTION:We have Bible Studies for all. \nWomen’s Bible Study \nMen’s Bible Study \nStudents’ \nChildren’s
URL:https://cbc-roysecity.com/event/sunday-night-bible-studies-71/
LOCATION:Community Baptist Church – Royse City\, 6012 State Highway 276\, Royse City\, TX\, 75189\, United States
END:VEVENT
END:VCALENDAR