BEGIN:VCALENDAR
VERSION:2.0
PRODID:-//CBC-roysecity - ECPv6.15.6//NONSGML v1.0//EN
CALSCALE:GREGORIAN
METHOD:PUBLISH
X-WR-CALNAME:CBC-roysecity
X-ORIGINAL-URL:https://cbc-roysecity.com
X-WR-CALDESC:Events for CBC-roysecity
REFRESH-INTERVAL;VALUE=DURATION:PT1H
X-Robots-Tag:noindex
X-PUBLISHED-TTL:PT1H
BEGIN:VTIMEZONE
TZID:UTC
BEGIN:STANDARD
TZOFFSETFROM:+0000
TZOFFSETTO:+0000
TZNAME:UTC
DTSTART:20240101T000000
END:STANDARD
END:VTIMEZONE
BEGIN:VEVENT
DTSTART;TZID=UTC:20250720T104500
DTEND;TZID=UTC:20250720T114500
DTSTAMP:20260419T205454
CREATED:20250131T190742Z
LAST-MODIFIED:20250131T190742Z
UID:3905-1753008300-1753011900@cbc-roysecity.com
SUMMARY:Church Service
DESCRIPTION:We would love to have you join us this Sunday for our church service. \nHere is a link for what to expect.
URL:https://cbc-roysecity.com/event/church-service-121/
LOCATION:Community Baptist Church – Royse City\, 6012 State Highway 276\, Royse City\, TX\, 75189\, United States
END:VEVENT
BEGIN:VEVENT
DTSTART;TZID=UTC:20250720T094500
DTEND;TZID=UTC:20250720T104500
DTSTAMP:20260419T205454
CREATED:20250131T190721Z
LAST-MODIFIED:20250131T190721Z
UID:3903-1753004700-1753008300@cbc-roysecity.com
SUMMARY:Sunday School
DESCRIPTION:We have Sunday Schools available for all ages and groups. \nChildren \nStudents \nAdults
URL:https://cbc-roysecity.com/event/sunday-school-118/
LOCATION:Community Baptist Church – Royse City\, 6012 State Highway 276\, Royse City\, TX\, 75189\, United States
END:VEVENT
BEGIN:VEVENT
DTSTART;TZID=UTC:20250716T190000
DTEND;TZID=UTC:20250716T200000
DTSTAMP:20260419T205454
CREATED:20250131T190638Z
LAST-MODIFIED:20250131T190638Z
UID:3901-1752692400-1752696000@cbc-roysecity.com
SUMMARY:Wednesday Night Bible Study
DESCRIPTION:We have Bible studies for all. \nAdult Bible Study \nStudents \nChildren
URL:https://cbc-roysecity.com/event/wednesday-night-bible-study-34/
LOCATION:Community Baptist Church – Royse City\, 6012 State Highway 276\, Royse City\, TX\, 75189\, United States
END:VEVENT
BEGIN:VEVENT
DTSTART;TZID=UTC:20250715T183000
DTEND;TZID=UTC:20250715T200000
DTSTAMP:20260419T205454
CREATED:20250131T190617Z
LAST-MODIFIED:20250131T190617Z
UID:3899-1752604200-1752609600@cbc-roysecity.com
SUMMARY:Young Adult Bible Study
DESCRIPTION:Tuesday evening at 6:30 pm join with the pastor and his wife at Fuzzy’s /Golden Chick in Royse City. Reach out to Bro. Les at 214-534-0353 for more info.
URL:https://cbc-roysecity.com/event/young-adult-bible-study-65/
LOCATION:TX
END:VEVENT
BEGIN:VEVENT
DTSTART;TZID=UTC:20250713T103000
DTEND;TZID=UTC:20250713T133000
DTSTAMP:20260419T205454
CREATED:20250129T205439Z
LAST-MODIFIED:20250706T173044Z
UID:3696-1752402600-1752413400@cbc-roysecity.com
SUMMARY:Church Service - VBS
DESCRIPTION:Pastor Les will be teaching the final lesson for our Vacation Bible School this morning. \nThe children will be staying in church for the service today\, and we will sing\, and learn together. \nAfter service\, we will have a picnic lunch\, play games\, and socialize with friends\, both old and new.
URL:https://cbc-roysecity.com/event/church-service-vbs/
LOCATION:Community Baptist Church – Royse City\, 6012 State Highway 276\, Royse City\, TX\, 75189\, United States
END:VEVENT
BEGIN:VEVENT
DTSTART;TZID=UTC:20250712T090000
DTEND;TZID=UTC:20250712T140000
DTSTAMP:20260419T205454
CREATED:20250129T205244Z
LAST-MODIFIED:20250129T205244Z
UID:3692-1752310800-1752328800@cbc-roysecity.com
SUMMARY:Vacation Bible School
DESCRIPTION:Our second day of Vacation Bible School\, \nWe will be providing lunch for all of the children attending.
URL:https://cbc-roysecity.com/event/vacation-bible-school-5/
LOCATION:Community Baptist Church – Royse City\, 6012 State Highway 276\, Royse City\, TX\, 75189\, United States
END:VEVENT
BEGIN:VEVENT
DTSTART;TZID=UTC:20250711T180000
DTEND;TZID=UTC:20250711T204500
DTSTAMP:20260419T205454
CREATED:20250129T205205Z
LAST-MODIFIED:20250129T205205Z
UID:3690-1752256800-1752266700@cbc-roysecity.com
SUMMARY:Vacation Bible School
DESCRIPTION:The first night of our Vacation Bible School. \nIf you are bringing kids after work and don’t have time to feed them\, we will have a meal for them here at the church.  Just bring them a bit early (if you can) so they can eat before the fun begins.
URL:https://cbc-roysecity.com/event/vacation-bible-school-4/
LOCATION:Community Baptist Church – Royse City\, 6012 State Highway 276\, Royse City\, TX\, 75189\, United States
END:VEVENT
BEGIN:VEVENT
DTSTART;TZID=UTC:20250709T190000
DTEND;TZID=UTC:20250709T200000
DTSTAMP:20260419T205454
CREATED:20250131T190420Z
LAST-MODIFIED:20250706T172933Z
UID:3891-1752087600-1752091200@cbc-roysecity.com
SUMMARY:Wednesday Night Bible Study
DESCRIPTION:We not have Bible studies.  Instead\, we will be praying for Vacation Bible School along with other things. \nPlease come\, join together with other believers\, and bring our requests to the Lord.
URL:https://cbc-roysecity.com/event/wednesday-night-bible-study-33/
LOCATION:Community Baptist Church – Royse City\, 6012 State Highway 276\, Royse City\, TX\, 75189\, United States
END:VEVENT
BEGIN:VEVENT
DTSTART;TZID=UTC:20250708T183000
DTEND;TZID=UTC:20250708T200000
DTSTAMP:20260419T205454
CREATED:20250131T190558Z
LAST-MODIFIED:20250131T190558Z
UID:3897-1751999400-1752004800@cbc-roysecity.com
SUMMARY:Young Adult Bible Study
DESCRIPTION:Tuesday evening at 6:30 pm join with the pastor and his wife at Fuzzy’s /Golden Chick in Royse City. Reach out to Bro. Les at 214-534-0353 for more info.
URL:https://cbc-roysecity.com/event/young-adult-bible-study-64/
LOCATION:TX
END:VEVENT
BEGIN:VEVENT
DTSTART;TZID=UTC:20250706T170000
DTEND;TZID=UTC:20250706T190000
DTSTAMP:20260419T205454
CREATED:20250706T173342Z
LAST-MODIFIED:20250706T173342Z
UID:4284-1751821200-1751828400@cbc-roysecity.com
SUMMARY:Sunday Night - VBS setup
DESCRIPTION:If you are able\, come help us get everything set up\, decorated\, and ready for VBS this weekend!
URL:https://cbc-roysecity.com/event/sunday-night-vbs-setup/
LOCATION:Community Baptist Church – Royse City\, 6012 State Highway 276\, Royse City\, TX\, 75189\, United States
END:VEVENT
BEGIN:VEVENT
DTSTART;TZID=UTC:20250706T104500
DTEND;TZID=UTC:20250706T114500
DTSTAMP:20260419T205454
CREATED:20250131T190311Z
LAST-MODIFIED:20250131T190311Z
UID:3885-1751798700-1751802300@cbc-roysecity.com
SUMMARY:Church Service
DESCRIPTION:We would love to have you join us this Sunday for our church service. \nHere is a link for what to expect.
URL:https://cbc-roysecity.com/event/church-service-120/
LOCATION:Community Baptist Church – Royse City\, 6012 State Highway 276\, Royse City\, TX\, 75189\, United States
END:VEVENT
BEGIN:VEVENT
DTSTART;TZID=UTC:20250702T190000
DTEND;TZID=UTC:20250702T200000
DTSTAMP:20260419T205454
CREATED:20250131T190221Z
LAST-MODIFIED:20250131T190221Z
UID:3881-1751482800-1751486400@cbc-roysecity.com
SUMMARY:Wednesday Night Bible Study
DESCRIPTION:We have Bible studies for all. \nAdult Bible Study \nStudents \nChildren
URL:https://cbc-roysecity.com/event/wednesday-night-bible-study-32/
LOCATION:Community Baptist Church – Royse City\, 6012 State Highway 276\, Royse City\, TX\, 75189\, United States
END:VEVENT
BEGIN:VEVENT
DTSTART;TZID=UTC:20250701T183000
DTEND;TZID=UTC:20250701T200000
DTSTAMP:20260419T205454
CREATED:20250131T190154Z
LAST-MODIFIED:20250131T190154Z
UID:3879-1751394600-1751400000@cbc-roysecity.com
SUMMARY:Young Adult Bible Study
DESCRIPTION:Tuesday evening at 6:30 pm join with the pastor and his wife at Fuzzy’s /Golden Chick in Royse City. Reach out to Bro. Les at 214-534-0353 for more info.
URL:https://cbc-roysecity.com/event/young-adult-bible-study-63/
LOCATION:TX
END:VEVENT
BEGIN:VEVENT
DTSTART;TZID=UTC:20250701T110000
DTEND;TZID=UTC:20250701T120000
DTSTAMP:20260419T205454
CREATED:20250131T190132Z
LAST-MODIFIED:20250131T190132Z
UID:3877-1751367600-1751371200@cbc-roysecity.com
SUMMARY:Women's Bible Study
DESCRIPTION:Check out what we are studying here.
URL:https://cbc-roysecity.com/event/womens-bible-study-113/
LOCATION:Community Baptist Church – Royse City\, 6012 State Highway 276\, Royse City\, TX\, 75189\, United States
END:VEVENT
BEGIN:VEVENT
DTSTART;TZID=UTC:20250629T180000
DTEND;TZID=UTC:20250629T190000
DTSTAMP:20260419T205454
CREATED:20250131T190109Z
LAST-MODIFIED:20250131T190109Z
UID:3875-1751220000-1751223600@cbc-roysecity.com
SUMMARY:Sunday Night - Bible Studies
DESCRIPTION:We have Bible Studies for all. \nWomen’s Bible Study \nMen’s Bible Study \nStudents’ \nChildren’s
URL:https://cbc-roysecity.com/event/sunday-night-bible-studies-77/
LOCATION:Community Baptist Church – Royse City\, 6012 State Highway 276\, Royse City\, TX\, 75189\, United States
END:VEVENT
BEGIN:VEVENT
DTSTART;TZID=UTC:20250629T104500
DTEND;TZID=UTC:20250629T114500
DTSTAMP:20260419T205454
CREATED:20250131T190037Z
LAST-MODIFIED:20250131T190037Z
UID:3873-1751193900-1751197500@cbc-roysecity.com
SUMMARY:Church Service
DESCRIPTION:We would love to have you join us this Sunday for our church service. \nHere is a link for what to expect.
URL:https://cbc-roysecity.com/event/church-service-119/
LOCATION:Community Baptist Church – Royse City\, 6012 State Highway 276\, Royse City\, TX\, 75189\, United States
END:VEVENT
BEGIN:VEVENT
DTSTART;TZID=UTC:20250629T094500
DTEND;TZID=UTC:20250629T104500
DTSTAMP:20260419T205454
CREATED:20250131T190010Z
LAST-MODIFIED:20250131T190010Z
UID:3871-1751190300-1751193900@cbc-roysecity.com
SUMMARY:Sunday School
DESCRIPTION:We have Sunday Schools available for all ages and groups. \nChildren \nStudents \nAdults
URL:https://cbc-roysecity.com/event/sunday-school-115/
LOCATION:Community Baptist Church – Royse City\, 6012 State Highway 276\, Royse City\, TX\, 75189\, United States
END:VEVENT
BEGIN:VEVENT
DTSTART;TZID=UTC:20250625T190000
DTEND;TZID=UTC:20250625T200000
DTSTAMP:20260419T205454
CREATED:20250131T185945Z
LAST-MODIFIED:20250131T185945Z
UID:3869-1750878000-1750881600@cbc-roysecity.com
SUMMARY:Wednesday Night Bible Study
DESCRIPTION:We have Bible studies for all. \nAdult Bible Study \nStudents \nChildren
URL:https://cbc-roysecity.com/event/wednesday-night-bible-study-31/
LOCATION:Community Baptist Church – Royse City\, 6012 State Highway 276\, Royse City\, TX\, 75189\, United States
END:VEVENT
BEGIN:VEVENT
DTSTART;TZID=UTC:20250624T183000
DTEND;TZID=UTC:20250624T200000
DTSTAMP:20260419T205454
CREATED:20250131T185916Z
LAST-MODIFIED:20250131T185916Z
UID:3867-1750789800-1750795200@cbc-roysecity.com
SUMMARY:Young Adult Bible Study
DESCRIPTION:Tuesday evening at 6:30 pm join with the pastor and his wife at Fuzzy’s /Golden Chick in Royse City. Reach out to Bro. Les at 214-534-0353 for more info.
URL:https://cbc-roysecity.com/event/young-adult-bible-study-62/
LOCATION:TX
END:VEVENT
BEGIN:VEVENT
DTSTART;TZID=UTC:20250624T110000
DTEND;TZID=UTC:20250624T120000
DTSTAMP:20260419T205454
CREATED:20250131T185853Z
LAST-MODIFIED:20250131T185853Z
UID:3865-1750762800-1750766400@cbc-roysecity.com
SUMMARY:Women's Bible Study
DESCRIPTION:Check out what we are studying here.
URL:https://cbc-roysecity.com/event/womens-bible-study-112/
LOCATION:Community Baptist Church – Royse City\, 6012 State Highway 276\, Royse City\, TX\, 75189\, United States
END:VEVENT
BEGIN:VEVENT
DTSTART;TZID=UTC:20250622T180000
DTEND;TZID=UTC:20250622T190000
DTSTAMP:20260419T205454
CREATED:20250131T185823Z
LAST-MODIFIED:20250131T185823Z
UID:3863-1750615200-1750618800@cbc-roysecity.com
SUMMARY:Sunday Night - Bible Studies
DESCRIPTION:We have Bible Studies for all. \nWomen’s Bible Study \nMen’s Bible Study \nStudents’ \nChildren’s
URL:https://cbc-roysecity.com/event/sunday-night-bible-studies-76/
LOCATION:Community Baptist Church – Royse City\, 6012 State Highway 276\, Royse City\, TX\, 75189\, United States
END:VEVENT
BEGIN:VEVENT
DTSTART;TZID=UTC:20250622T104500
DTEND;TZID=UTC:20250622T114500
DTSTAMP:20260419T205454
CREATED:20250131T185758Z
LAST-MODIFIED:20250131T185758Z
UID:3861-1750589100-1750592700@cbc-roysecity.com
SUMMARY:Church Service
DESCRIPTION:We would love to have you join us this Sunday for our church service. \nHere is a link for what to expect.
URL:https://cbc-roysecity.com/event/church-service-118/
LOCATION:Community Baptist Church – Royse City\, 6012 State Highway 276\, Royse City\, TX\, 75189\, United States
END:VEVENT
BEGIN:VEVENT
DTSTART;TZID=UTC:20250622T094500
DTEND;TZID=UTC:20250622T104500
DTSTAMP:20260419T205454
CREATED:20250131T185729Z
LAST-MODIFIED:20250131T185729Z
UID:3859-1750585500-1750589100@cbc-roysecity.com
SUMMARY:Sunday School
DESCRIPTION:We have Sunday Schools available for all ages and groups. \nChildren \nStudents \nAdults
URL:https://cbc-roysecity.com/event/sunday-school-114/
LOCATION:Community Baptist Church – Royse City\, 6012 State Highway 276\, Royse City\, TX\, 75189\, United States
END:VEVENT
BEGIN:VEVENT
DTSTART;TZID=UTC:20250618T190000
DTEND;TZID=UTC:20250618T200000
DTSTAMP:20260419T205454
CREATED:20250131T185704Z
LAST-MODIFIED:20250131T185704Z
UID:3857-1750273200-1750276800@cbc-roysecity.com
SUMMARY:Wednesday Night Bible Study
DESCRIPTION:We have Bible studies for all. \nAdult Bible Study \nStudents \nChildren
URL:https://cbc-roysecity.com/event/wednesday-night-bible-study-30/
LOCATION:Community Baptist Church – Royse City\, 6012 State Highway 276\, Royse City\, TX\, 75189\, United States
END:VEVENT
BEGIN:VEVENT
DTSTART;TZID=UTC:20250617T183000
DTEND;TZID=UTC:20250617T200000
DTSTAMP:20260419T205454
CREATED:20250131T185641Z
LAST-MODIFIED:20250131T185641Z
UID:3855-1750185000-1750190400@cbc-roysecity.com
SUMMARY:Young Adult Bible Study
DESCRIPTION:Tuesday evening at 6:30 pm join with the pastor and his wife at Fuzzy’s /Golden Chick in Royse City. Reach out to Bro. Les at 214-534-0353 for more info.
URL:https://cbc-roysecity.com/event/young-adult-bible-study-61/
LOCATION:TX
END:VEVENT
BEGIN:VEVENT
DTSTART;TZID=UTC:20250617T110000
DTEND;TZID=UTC:20250617T120000
DTSTAMP:20260419T205454
CREATED:20250131T185620Z
LAST-MODIFIED:20250131T185620Z
UID:3853-1750158000-1750161600@cbc-roysecity.com
SUMMARY:Women's Bible Study
DESCRIPTION:Check out what we are studying here.
URL:https://cbc-roysecity.com/event/womens-bible-study-111/
LOCATION:Community Baptist Church – Royse City\, 6012 State Highway 276\, Royse City\, TX\, 75189\, United States
END:VEVENT
BEGIN:VEVENT
DTSTART;TZID=UTC:20250615T180000
DTEND;TZID=UTC:20250615T190000
DTSTAMP:20260419T205454
CREATED:20250131T185547Z
LAST-MODIFIED:20250131T185547Z
UID:3851-1750010400-1750014000@cbc-roysecity.com
SUMMARY:Sunday Night - Bible Studies
DESCRIPTION:We have Bible Studies for all. \nWomen’s Bible Study \nMen’s Bible Study \nStudents’ \nChildren’s
URL:https://cbc-roysecity.com/event/sunday-night-bible-studies-75/
LOCATION:Community Baptist Church – Royse City\, 6012 State Highway 276\, Royse City\, TX\, 75189\, United States
END:VEVENT
BEGIN:VEVENT
DTSTART;TZID=UTC:20250615T104500
DTEND;TZID=UTC:20250615T114500
DTSTAMP:20260419T205454
CREATED:20250131T185524Z
LAST-MODIFIED:20250131T185524Z
UID:3849-1749984300-1749987900@cbc-roysecity.com
SUMMARY:Church Service
DESCRIPTION:We would love to have you join us this Sunday for our church service. \nHere is a link for what to expect.
URL:https://cbc-roysecity.com/event/church-service-117/
LOCATION:Community Baptist Church – Royse City\, 6012 State Highway 276\, Royse City\, TX\, 75189\, United States
END:VEVENT
BEGIN:VEVENT
DTSTART;TZID=UTC:20250615T094500
DTEND;TZID=UTC:20250615T104500
DTSTAMP:20260419T205454
CREATED:20250131T185453Z
LAST-MODIFIED:20250131T192218Z
UID:3847-1749980700-1749984300@cbc-roysecity.com
SUMMARY:Father's Day Breakfast
DESCRIPTION:We will not be having our regular Sunday School Classes this morning. \nInstead\, the Women’s Ministry will be providing breakfast to us all in honor of Father’s Day. \nJoin us for food and fellowship\, followed by our regular church service.
URL:https://cbc-roysecity.com/event/sunday-school-113/
LOCATION:Community Baptist Church – Royse City\, 6012 State Highway 276\, Royse City\, TX\, 75189\, United States
END:VEVENT
BEGIN:VEVENT
DTSTART;TZID=UTC:20250614T100000
DTEND;TZID=UTC:20250614T120000
DTSTAMP:20260419T205454
CREATED:20250128T003033Z
LAST-MODIFIED:20250128T003033Z
UID:3669-1749895200-1749902400@cbc-roysecity.com
SUMMARY:Women's Brunch
DESCRIPTION:Meet us at 10am at the church. \nWe will have a meal and socialize.  We will also spend some time getting things ready for Vacation Bible School.
URL:https://cbc-roysecity.com/event/womens-brunch-5/
LOCATION:Community Baptist Church – Royse City\, 6012 State Highway 276\, Royse City\, TX\, 75189\, United States
END:VEVENT
END:VCALENDAR