BEGIN:VCALENDAR
VERSION:2.0
PRODID:-//CBC-roysecity - ECPv6.15.6//NONSGML v1.0//EN
CALSCALE:GREGORIAN
METHOD:PUBLISH
X-WR-CALNAME:CBC-roysecity
X-ORIGINAL-URL:https://cbc-roysecity.com
X-WR-CALDESC:Events for CBC-roysecity
REFRESH-INTERVAL;VALUE=DURATION:PT1H
X-Robots-Tag:noindex
X-PUBLISHED-TTL:PT1H
BEGIN:VTIMEZONE
TZID:UTC
BEGIN:STANDARD
TZOFFSETFROM:+0000
TZOFFSETTO:+0000
TZNAME:UTC
DTSTART:20240101T000000
END:STANDARD
END:VTIMEZONE
BEGIN:VEVENT
DTSTART;TZID=UTC:20250820T190000
DTEND;TZID=UTC:20250820T200000
DTSTAMP:20260419T171719
CREATED:20250720T174718Z
LAST-MODIFIED:20250720T174718Z
UID:4377-1755716400-1755720000@cbc-roysecity.com
SUMMARY:Wednesday Night Bible Study
DESCRIPTION:We have Bible studies for all. \nAdult Bible Study \nStudents \nChildren
URL:https://cbc-roysecity.com/event/wednesday-night-bible-study-38/
LOCATION:Community Baptist Church – Royse City\, 6012 State Highway 276\, Royse City\, TX\, 75189\, United States
END:VEVENT
BEGIN:VEVENT
DTSTART;TZID=UTC:20250819T183000
DTEND;TZID=UTC:20250819T200000
DTSTAMP:20260419T171719
CREATED:20250720T174701Z
LAST-MODIFIED:20250720T174701Z
UID:4375-1755628200-1755633600@cbc-roysecity.com
SUMMARY:Young Adult Bible Study
DESCRIPTION:Tuesday evening at 6:30 pm join with the pastor and his wife at Fuzzy’s /Golden Chick in Royse City. Reach out to Bro. Les at 214-534-0353 for more info.
URL:https://cbc-roysecity.com/event/young-adult-bible-study-70/
LOCATION:TX
END:VEVENT
BEGIN:VEVENT
DTSTART;TZID=UTC:20250819T110000
DTEND;TZID=UTC:20250819T120000
DTSTAMP:20260419T171719
CREATED:20250720T174643Z
LAST-MODIFIED:20250720T174643Z
UID:4373-1755601200-1755604800@cbc-roysecity.com
SUMMARY:Women's Bible Study
DESCRIPTION:Check out what we are studying here.
URL:https://cbc-roysecity.com/event/womens-bible-study-116/
LOCATION:Community Baptist Church – Royse City\, 6012 State Highway 276\, Royse City\, TX\, 75189\, United States
END:VEVENT
BEGIN:VEVENT
DTSTART;TZID=UTC:20250817T180000
DTEND;TZID=UTC:20250817T190000
DTSTAMP:20260419T171719
CREATED:20250720T174625Z
LAST-MODIFIED:20250720T174625Z
UID:4371-1755453600-1755457200@cbc-roysecity.com
SUMMARY:Sunday Night - Bible Studies
DESCRIPTION:We have Bible Studies for all. \nWomen’s Bible Study \nMen’s Bible Study \nStudents’ \nChildren’s
URL:https://cbc-roysecity.com/event/sunday-night-bible-studies-79/
LOCATION:Community Baptist Church – Royse City\, 6012 State Highway 276\, Royse City\, TX\, 75189\, United States
END:VEVENT
BEGIN:VEVENT
DTSTART;TZID=UTC:20250817T104500
DTEND;TZID=UTC:20250817T114500
DTSTAMP:20260419T171719
CREATED:20250720T174556Z
LAST-MODIFIED:20250720T174556Z
UID:4369-1755427500-1755431100@cbc-roysecity.com
SUMMARY:Church Service
DESCRIPTION:We would love to have you join us this Sunday for our church service. \nHere is a link for what to expect.
URL:https://cbc-roysecity.com/event/church-service-125/
LOCATION:Community Baptist Church – Royse City\, 6012 State Highway 276\, Royse City\, TX\, 75189\, United States
END:VEVENT
BEGIN:VEVENT
DTSTART;TZID=UTC:20250817T094500
DTEND;TZID=UTC:20250817T104500
DTSTAMP:20260419T171719
CREATED:20250720T174540Z
LAST-MODIFIED:20250720T174540Z
UID:4367-1755423900-1755427500@cbc-roysecity.com
SUMMARY:Sunday School
DESCRIPTION:We have Sunday Schools available for all ages and groups. \nChildren \nStudents \nAdults
URL:https://cbc-roysecity.com/event/sunday-school-117/
LOCATION:Community Baptist Church – Royse City\, 6012 State Highway 276\, Royse City\, TX\, 75189\, United States
END:VEVENT
BEGIN:VEVENT
DTSTART;TZID=UTC:20250813T190000
DTEND;TZID=UTC:20250813T200000
DTSTAMP:20260419T171719
CREATED:20250720T174448Z
LAST-MODIFIED:20250720T174448Z
UID:4365-1755111600-1755115200@cbc-roysecity.com
SUMMARY:Wednesday Night Bible Study
DESCRIPTION:We have Bible studies for all. \nAdult Bible Study \nStudents \nChildren
URL:https://cbc-roysecity.com/event/wednesday-night-bible-study-37/
LOCATION:Community Baptist Church – Royse City\, 6012 State Highway 276\, Royse City\, TX\, 75189\, United States
END:VEVENT
BEGIN:VEVENT
DTSTART;TZID=UTC:20250812T183000
DTEND;TZID=UTC:20250812T200000
DTSTAMP:20260419T171719
CREATED:20250720T174427Z
LAST-MODIFIED:20250720T174427Z
UID:4363-1755023400-1755028800@cbc-roysecity.com
SUMMARY:Young Adult Bible Study
DESCRIPTION:Tuesday evening at 6:30 pm join with the pastor and his wife at Fuzzy’s /Golden Chick in Royse City. Reach out to Bro. Les at 214-534-0353 for more info.
URL:https://cbc-roysecity.com/event/young-adult-bible-study-69/
LOCATION:TX
END:VEVENT
BEGIN:VEVENT
DTSTART;TZID=UTC:20250812T110000
DTEND;TZID=UTC:20250812T120000
DTSTAMP:20260419T171720
CREATED:20250720T174407Z
LAST-MODIFIED:20250720T174407Z
UID:4361-1754996400-1755000000@cbc-roysecity.com
SUMMARY:Women's Bible Study
DESCRIPTION:Check out what we are studying here.
URL:https://cbc-roysecity.com/event/womens-bible-study-115/
LOCATION:Community Baptist Church – Royse City\, 6012 State Highway 276\, Royse City\, TX\, 75189\, United States
END:VEVENT
BEGIN:VEVENT
DTSTART;TZID=UTC:20250810T180000
DTEND;TZID=UTC:20250810T190000
DTSTAMP:20260419T171720
CREATED:20250720T174349Z
LAST-MODIFIED:20250720T174349Z
UID:4359-1754848800-1754852400@cbc-roysecity.com
SUMMARY:Sunday Night - Bible Studies
DESCRIPTION:We have Bible Studies for all. \nWomen’s Bible Study \nMen’s Bible Study \nStudents’ \nChildren’s
URL:https://cbc-roysecity.com/event/sunday-night-bible-studies-78/
LOCATION:Community Baptist Church – Royse City\, 6012 State Highway 276\, Royse City\, TX\, 75189\, United States
END:VEVENT
BEGIN:VEVENT
DTSTART;TZID=UTC:20250810T104500
DTEND;TZID=UTC:20250810T114500
DTSTAMP:20260419T171720
CREATED:20250720T174330Z
LAST-MODIFIED:20250720T174330Z
UID:4357-1754822700-1754826300@cbc-roysecity.com
SUMMARY:Church Service
DESCRIPTION:We would love to have you join us this Sunday for our church service. \nHere is a link for what to expect.
URL:https://cbc-roysecity.com/event/church-service-124/
LOCATION:Community Baptist Church – Royse City\, 6012 State Highway 276\, Royse City\, TX\, 75189\, United States
END:VEVENT
BEGIN:VEVENT
DTSTART;TZID=UTC:20250810T094500
DTEND;TZID=UTC:20250810T104500
DTSTAMP:20260419T171720
CREATED:20250720T174311Z
LAST-MODIFIED:20250720T174311Z
UID:4355-1754819100-1754822700@cbc-roysecity.com
SUMMARY:Sunday School
DESCRIPTION:We have Sunday Schools available for all ages and groups. \nChildren \nStudents \nAdults
URL:https://cbc-roysecity.com/event/sunday-school-116/
LOCATION:Community Baptist Church – Royse City\, 6012 State Highway 276\, Royse City\, TX\, 75189\, United States
END:VEVENT
BEGIN:VEVENT
DTSTART;TZID=UTC:20250809T090000
DTEND;TZID=UTC:20250809T110000
DTSTAMP:20260419T171720
CREATED:20250720T175144Z
LAST-MODIFIED:20250720T175144Z
UID:4397-1754730000-1754737200@cbc-roysecity.com
SUMMARY:School Supplies Giveaway
DESCRIPTION:We have been collecting school supplies all year long.  Now is the time to give them out to the kids! \n 
URL:https://cbc-roysecity.com/event/school-supplies-giveaway-2/
LOCATION:TX
END:VEVENT
BEGIN:VEVENT
DTSTART;TZID=UTC:20250806T190000
DTEND;TZID=UTC:20250806T200000
DTSTAMP:20260419T171720
CREATED:20250720T174247Z
LAST-MODIFIED:20250720T174247Z
UID:4353-1754506800-1754510400@cbc-roysecity.com
SUMMARY:Wednesday Night Bible Study
DESCRIPTION:We have Bible studies for all. \nAdult Bible Study \nStudents \nChildren
URL:https://cbc-roysecity.com/event/wednesday-night-bible-study-35/
LOCATION:Community Baptist Church – Royse City\, 6012 State Highway 276\, Royse City\, TX\, 75189\, United States
END:VEVENT
BEGIN:VEVENT
DTSTART;TZID=UTC:20250805T183000
DTEND;TZID=UTC:20250805T200000
DTSTAMP:20260419T171720
CREATED:20250720T174223Z
LAST-MODIFIED:20250720T174223Z
UID:4351-1754418600-1754424000@cbc-roysecity.com
SUMMARY:Young Adult Bible Study
DESCRIPTION:Tuesday evening at 6:30 pm join with the pastor and his wife at Fuzzy’s /Golden Chick in Royse City. Reach out to Bro. Les at 214-534-0353 for more info.
URL:https://cbc-roysecity.com/event/young-adult-bible-study-68/
LOCATION:TX
END:VEVENT
BEGIN:VEVENT
DTSTART;TZID=UTC:20250805T110000
DTEND;TZID=UTC:20250805T120000
DTSTAMP:20260419T171720
CREATED:20250720T174130Z
LAST-MODIFIED:20250720T174130Z
UID:4349-1754391600-1754395200@cbc-roysecity.com
SUMMARY:Women's Bible Study
DESCRIPTION:Check out what we are studying here.
URL:https://cbc-roysecity.com/event/womens-bible-study-114/
LOCATION:Community Baptist Church – Royse City\, 6012 State Highway 276\, Royse City\, TX\, 75189\, United States
END:VEVENT
BEGIN:VEVENT
DTSTART;TZID=UTC:20250803T180000
DTEND;TZID=UTC:20250803T190000
DTSTAMP:20260419T171720
CREATED:20250131T191231Z
LAST-MODIFIED:20250131T191231Z
UID:3931-1754244000-1754247600@cbc-roysecity.com
SUMMARY:Sunday Night - Bible Studies
DESCRIPTION:We have Bible Studies for all. \nWomen’s Bible Study \nMen’s Bible Study \nStudents’ \nChildren’s
URL:https://cbc-roysecity.com/event/sunday-night-bible-studies-81/
LOCATION:Community Baptist Church – Royse City\, 6012 State Highway 276\, Royse City\, TX\, 75189\, United States
END:VEVENT
BEGIN:VEVENT
DTSTART;TZID=UTC:20250803T104500
DTEND;TZID=UTC:20250803T114500
DTSTAMP:20260419T171720
CREATED:20250131T191209Z
LAST-MODIFIED:20250131T191209Z
UID:3929-1754217900-1754221500@cbc-roysecity.com
SUMMARY:Church Service
DESCRIPTION:We would love to have you join us this Sunday for our church service. \nHere is a link for what to expect.
URL:https://cbc-roysecity.com/event/church-service-123/
LOCATION:Community Baptist Church – Royse City\, 6012 State Highway 276\, Royse City\, TX\, 75189\, United States
END:VEVENT
BEGIN:VEVENT
DTSTART;TZID=UTC:20250803T094500
DTEND;TZID=UTC:20250803T104500
DTSTAMP:20260419T171720
CREATED:20250131T191150Z
LAST-MODIFIED:20250131T191150Z
UID:3927-1754214300-1754217900@cbc-roysecity.com
SUMMARY:Sunday School
DESCRIPTION:We have Sunday Schools available for all ages and groups. \nChildren \nStudents \nAdults
URL:https://cbc-roysecity.com/event/sunday-school-120/
LOCATION:Community Baptist Church – Royse City\, 6012 State Highway 276\, Royse City\, TX\, 75189\, United States
END:VEVENT
BEGIN:VEVENT
DTSTART;TZID=UTC:20250730T190000
DTEND;TZID=UTC:20250730T200000
DTSTAMP:20260419T171720
CREATED:20250131T191127Z
LAST-MODIFIED:20250131T191127Z
UID:3925-1753902000-1753905600@cbc-roysecity.com
SUMMARY:Wednesday Night Bible Study
DESCRIPTION:We have Bible studies for all. \nAdult Bible Study \nStudents \nChildren
URL:https://cbc-roysecity.com/event/wednesday-night-bible-study-36/
LOCATION:Community Baptist Church – Royse City\, 6012 State Highway 276\, Royse City\, TX\, 75189\, United States
END:VEVENT
BEGIN:VEVENT
DTSTART;TZID=UTC:20250729T183000
DTEND;TZID=UTC:20250729T200000
DTSTAMP:20260419T171720
CREATED:20250131T191107Z
LAST-MODIFIED:20250131T191107Z
UID:3923-1753813800-1753819200@cbc-roysecity.com
SUMMARY:Young Adult Bible Study
DESCRIPTION:Tuesday evening at 6:30 pm join with the pastor and his wife at Fuzzy’s /Golden Chick in Royse City. Reach out to Bro. Les at 214-534-0353 for more info.
URL:https://cbc-roysecity.com/event/young-adult-bible-study-67/
LOCATION:TX
END:VEVENT
BEGIN:VEVENT
DTSTART;TZID=UTC:20250727T104500
DTEND;TZID=UTC:20250727T114500
DTSTAMP:20260419T171720
CREATED:20250131T191002Z
LAST-MODIFIED:20250131T191002Z
UID:3917-1753613100-1753616700@cbc-roysecity.com
SUMMARY:Church Service
DESCRIPTION:We would love to have you join us this Sunday for our church service. \nHere is a link for what to expect.
URL:https://cbc-roysecity.com/event/church-service-122/
LOCATION:Community Baptist Church – Royse City\, 6012 State Highway 276\, Royse City\, TX\, 75189\, United States
END:VEVENT
BEGIN:VEVENT
DTSTART;TZID=UTC:20250727T094500
DTEND;TZID=UTC:20250727T104500
DTSTAMP:20260419T171720
CREATED:20250131T190941Z
LAST-MODIFIED:20250131T190941Z
UID:3915-1753609500-1753613100@cbc-roysecity.com
SUMMARY:Sunday School
DESCRIPTION:We have Sunday Schools available for all ages and groups. \nChildren \nStudents \nAdults
URL:https://cbc-roysecity.com/event/sunday-school-119/
LOCATION:Community Baptist Church – Royse City\, 6012 State Highway 276\, Royse City\, TX\, 75189\, United States
END:VEVENT
BEGIN:VEVENT
DTSTART;TZID=UTC:20250722T183000
DTEND;TZID=UTC:20250722T200000
DTSTAMP:20260419T171720
CREATED:20250131T190903Z
LAST-MODIFIED:20250131T190903Z
UID:3911-1753209000-1753214400@cbc-roysecity.com
SUMMARY:Young Adult Bible Study
DESCRIPTION:Tuesday evening at 6:30 pm join with the pastor and his wife at Fuzzy’s /Golden Chick in Royse City. Reach out to Bro. Les at 214-534-0353 for more info.
URL:https://cbc-roysecity.com/event/young-adult-bible-study-66/
LOCATION:TX
END:VEVENT
BEGIN:VEVENT
DTSTART;TZID=UTC:20250720T104500
DTEND;TZID=UTC:20250720T114500
DTSTAMP:20260419T171720
CREATED:20250131T190742Z
LAST-MODIFIED:20250131T190742Z
UID:3905-1753008300-1753011900@cbc-roysecity.com
SUMMARY:Church Service
DESCRIPTION:We would love to have you join us this Sunday for our church service. \nHere is a link for what to expect.
URL:https://cbc-roysecity.com/event/church-service-121/
LOCATION:Community Baptist Church – Royse City\, 6012 State Highway 276\, Royse City\, TX\, 75189\, United States
END:VEVENT
BEGIN:VEVENT
DTSTART;TZID=UTC:20250720T094500
DTEND;TZID=UTC:20250720T104500
DTSTAMP:20260419T171720
CREATED:20250131T190721Z
LAST-MODIFIED:20250131T190721Z
UID:3903-1753004700-1753008300@cbc-roysecity.com
SUMMARY:Sunday School
DESCRIPTION:We have Sunday Schools available for all ages and groups. \nChildren \nStudents \nAdults
URL:https://cbc-roysecity.com/event/sunday-school-118/
LOCATION:Community Baptist Church – Royse City\, 6012 State Highway 276\, Royse City\, TX\, 75189\, United States
END:VEVENT
BEGIN:VEVENT
DTSTART;TZID=UTC:20250716T190000
DTEND;TZID=UTC:20250716T200000
DTSTAMP:20260419T171720
CREATED:20250131T190638Z
LAST-MODIFIED:20250131T190638Z
UID:3901-1752692400-1752696000@cbc-roysecity.com
SUMMARY:Wednesday Night Bible Study
DESCRIPTION:We have Bible studies for all. \nAdult Bible Study \nStudents \nChildren
URL:https://cbc-roysecity.com/event/wednesday-night-bible-study-34/
LOCATION:Community Baptist Church – Royse City\, 6012 State Highway 276\, Royse City\, TX\, 75189\, United States
END:VEVENT
BEGIN:VEVENT
DTSTART;TZID=UTC:20250715T183000
DTEND;TZID=UTC:20250715T200000
DTSTAMP:20260419T171720
CREATED:20250131T190617Z
LAST-MODIFIED:20250131T190617Z
UID:3899-1752604200-1752609600@cbc-roysecity.com
SUMMARY:Young Adult Bible Study
DESCRIPTION:Tuesday evening at 6:30 pm join with the pastor and his wife at Fuzzy’s /Golden Chick in Royse City. Reach out to Bro. Les at 214-534-0353 for more info.
URL:https://cbc-roysecity.com/event/young-adult-bible-study-65/
LOCATION:TX
END:VEVENT
BEGIN:VEVENT
DTSTART;TZID=UTC:20250713T103000
DTEND;TZID=UTC:20250713T133000
DTSTAMP:20260419T171720
CREATED:20250129T205439Z
LAST-MODIFIED:20250706T173044Z
UID:3696-1752402600-1752413400@cbc-roysecity.com
SUMMARY:Church Service - VBS
DESCRIPTION:Pastor Les will be teaching the final lesson for our Vacation Bible School this morning. \nThe children will be staying in church for the service today\, and we will sing\, and learn together. \nAfter service\, we will have a picnic lunch\, play games\, and socialize with friends\, both old and new.
URL:https://cbc-roysecity.com/event/church-service-vbs/
LOCATION:Community Baptist Church – Royse City\, 6012 State Highway 276\, Royse City\, TX\, 75189\, United States
END:VEVENT
BEGIN:VEVENT
DTSTART;TZID=UTC:20250712T090000
DTEND;TZID=UTC:20250712T140000
DTSTAMP:20260419T171720
CREATED:20250129T205244Z
LAST-MODIFIED:20250129T205244Z
UID:3692-1752310800-1752328800@cbc-roysecity.com
SUMMARY:Vacation Bible School
DESCRIPTION:Our second day of Vacation Bible School\, \nWe will be providing lunch for all of the children attending.
URL:https://cbc-roysecity.com/event/vacation-bible-school-5/
LOCATION:Community Baptist Church – Royse City\, 6012 State Highway 276\, Royse City\, TX\, 75189\, United States
END:VEVENT
END:VCALENDAR