BEGIN:VCALENDAR
VERSION:2.0
PRODID:-//CBC-roysecity - ECPv6.15.6//NONSGML v1.0//EN
CALSCALE:GREGORIAN
METHOD:PUBLISH
X-ORIGINAL-URL:https://cbc-roysecity.com
X-WR-CALDESC:Events for CBC-roysecity
REFRESH-INTERVAL;VALUE=DURATION:PT1H
X-Robots-Tag:noindex
X-PUBLISHED-TTL:PT1H
BEGIN:VTIMEZONE
TZID:UTC
BEGIN:STANDARD
TZOFFSETFROM:+0000
TZOFFSETTO:+0000
TZNAME:UTC
DTSTART:20250101T000000
END:STANDARD
END:VTIMEZONE
BEGIN:VEVENT
DTSTART;VALUE=DATE:20260405
DTEND;VALUE=DATE:20260406
DTSTAMP:20260421T141740
CREATED:20260125T210907Z
LAST-MODIFIED:20260125T210927Z
UID:4987-1775347200-1775433599@cbc-roysecity.com
SUMMARY:No Sunday Night Bible Studies this week
DESCRIPTION:
URL:https://cbc-roysecity.com/event/no-sunday-night-bible-studies-this-week/
LOCATION:Community Baptist Church – Royse City\, 6012 State Highway 276\, Royse City\, TX\, 75189\, United States
END:VEVENT
BEGIN:VEVENT
DTSTART;TZID=UTC:20260405T104500
DTEND;TZID=UTC:20260405T114500
DTSTAMP:20260421T141740
CREATED:20260125T210806Z
LAST-MODIFIED:20260125T210830Z
UID:4985-1775385900-1775389500@cbc-roysecity.com
SUMMARY:Easter Sunday Service
DESCRIPTION:We would love to have you join us this Sunday for our church service. \nHere is a link for what to expect.
URL:https://cbc-roysecity.com/event/easter-sunday-service/
LOCATION:Community Baptist Church – Royse City\, 6012 State Highway 276\, Royse City\, TX\, 75189\, United States
END:VEVENT
END:VCALENDAR