BEGIN:VCALENDAR
VERSION:2.0
PRODID:-//CBC-roysecity - ECPv6.15.6//NONSGML v1.0//EN
CALSCALE:GREGORIAN
METHOD:PUBLISH
X-ORIGINAL-URL:https://cbc-roysecity.com
X-WR-CALDESC:Events for CBC-roysecity
REFRESH-INTERVAL;VALUE=DURATION:PT1H
X-Robots-Tag:noindex
X-PUBLISHED-TTL:PT1H
BEGIN:VTIMEZONE
TZID:UTC
BEGIN:STANDARD
TZOFFSETFROM:+0000
TZOFFSETTO:+0000
TZNAME:UTC
DTSTART:20250101T000000
END:STANDARD
END:VTIMEZONE
BEGIN:VEVENT
DTSTART;VALUE=DATE:20260329
DTEND;VALUE=DATE:20260330
DTSTAMP:20260421T180002
CREATED:20260125T210340Z
LAST-MODIFIED:20260125T210340Z
UID:4973-1774742400-1774828799@cbc-roysecity.com
SUMMARY:Falls Creek Registration Meeting - both Children and Youth camps
DESCRIPTION:If you have children who will be going to either Children’s Camp or Youth Camp this summer\, plan to attend this meeting.
URL:https://cbc-roysecity.com/event/falls-creek-registration-meeting-both-children-and-youth-camps/
LOCATION:Community Baptist Church – Royse City\, 6012 State Highway 276\, Royse City\, TX\, 75189\, United States
END:VEVENT
BEGIN:VEVENT
DTSTART;TZID=UTC:20260329T094500
DTEND;TZID=UTC:20260329T104500
DTSTAMP:20260421T180002
CREATED:20260125T210104Z
LAST-MODIFIED:20260125T210104Z
UID:4967-1774777500-1774781100@cbc-roysecity.com
SUMMARY:Sunday School
DESCRIPTION:We have Sunday Schools available for all ages and groups. \nChildren \nStudents \nAdults
URL:https://cbc-roysecity.com/event/sunday-school-150/
LOCATION:Community Baptist Church – Royse City\, 6012 State Highway 276\, Royse City\, TX\, 75189\, United States
END:VEVENT
BEGIN:VEVENT
DTSTART;TZID=UTC:20260329T104500
DTEND;TZID=UTC:20260329T114500
DTSTAMP:20260421T180002
CREATED:20260125T210128Z
LAST-MODIFIED:20260125T210128Z
UID:4969-1774781100-1774784700@cbc-roysecity.com
SUMMARY:Church Service
DESCRIPTION:We would love to have you join us this Sunday for our church service. \nHere is a link for what to expect.
URL:https://cbc-roysecity.com/event/church-service-156/
LOCATION:Community Baptist Church – Royse City\, 6012 State Highway 276\, Royse City\, TX\, 75189\, United States
END:VEVENT
BEGIN:VEVENT
DTSTART;TZID=UTC:20260329T180000
DTEND;TZID=UTC:20260329T190000
DTSTAMP:20260421T180002
CREATED:20260125T210152Z
LAST-MODIFIED:20260126T181645Z
UID:4971-1774807200-1774810800@cbc-roysecity.com
SUMMARY:Sunday Night Bible Studies
DESCRIPTION:  \nWomen’s Bible Study \nMen’s Bible Study \n 
URL:https://cbc-roysecity.com/event/sunday-night-bible-studies-110/
LOCATION:Community Baptist Church – Royse City\, 6012 State Highway 276\, Royse City\, TX\, 75189\, United States
END:VEVENT
END:VCALENDAR