BEGIN:VCALENDAR
VERSION:2.0
PRODID:-//CBC-roysecity - ECPv6.15.6//NONSGML v1.0//EN
CALSCALE:GREGORIAN
METHOD:PUBLISH
X-WR-CALNAME:CBC-roysecity
X-ORIGINAL-URL:https://cbc-roysecity.com
X-WR-CALDESC:Events for CBC-roysecity
REFRESH-INTERVAL;VALUE=DURATION:PT1H
X-Robots-Tag:noindex
X-PUBLISHED-TTL:PT1H
BEGIN:VTIMEZONE
TZID:UTC
BEGIN:STANDARD
TZOFFSETFROM:+0000
TZOFFSETTO:+0000
TZNAME:UTC
DTSTART:20250101T000000
END:STANDARD
END:VTIMEZONE
BEGIN:VEVENT
DTSTART;VALUE=DATE:20260328
DTEND;VALUE=DATE:20260329
DTSTAMP:20260421T202432
CREATED:20260125T210020Z
LAST-MODIFIED:20260125T210020Z
UID:4965-1774656000-1774742399@cbc-roysecity.com
SUMMARY:Spring Cleaning Day at the Church
DESCRIPTION:Women will provide breakfast. \nCome help do some yard work\, some cleaning\, and make the church ready for Easter Sunday.
URL:https://cbc-roysecity.com/event/spring-cleaning-day-at-the-church/
END:VEVENT
END:VCALENDAR