BEGIN:VCALENDAR
VERSION:2.0
PRODID:-//CBC-roysecity - ECPv6.15.6//NONSGML v1.0//EN
CALSCALE:GREGORIAN
METHOD:PUBLISH
X-WR-CALNAME:CBC-roysecity
X-ORIGINAL-URL:https://cbc-roysecity.com
X-WR-CALDESC:Events for CBC-roysecity
REFRESH-INTERVAL;VALUE=DURATION:PT1H
X-Robots-Tag:noindex
X-PUBLISHED-TTL:PT1H
BEGIN:VTIMEZONE
TZID:UTC
BEGIN:STANDARD
TZOFFSETFROM:+0000
TZOFFSETTO:+0000
TZNAME:UTC
DTSTART:20250101T000000
END:STANDARD
END:VTIMEZONE
BEGIN:VEVENT
DTSTART;TZID=UTC:20260301T094500
DTEND;TZID=UTC:20260301T104500
DTSTAMP:20260420T105212
CREATED:20251229T160753Z
LAST-MODIFIED:20251229T160753Z
UID:4848-1772358300-1772361900@cbc-roysecity.com
SUMMARY:Sunday School
DESCRIPTION:We have Sunday Schools available for all ages and groups. \nChildren \nStudents \nAdults
URL:https://cbc-roysecity.com/event/sunday-school-146/
LOCATION:Community Baptist Church – Royse City\, 6012 State Highway 276\, Royse City\, TX\, 75189\, United States
END:VEVENT
BEGIN:VEVENT
DTSTART;TZID=UTC:20260301T104500
DTEND;TZID=UTC:20260301T114500
DTSTAMP:20260420T105212
CREATED:20251229T160817Z
LAST-MODIFIED:20251229T160817Z
UID:4850-1772361900-1772365500@cbc-roysecity.com
SUMMARY:Church Service
DESCRIPTION:We would love to have you join us this Sunday for our church service. \nHere is a link for what to expect.
URL:https://cbc-roysecity.com/event/church-service-152/
LOCATION:Community Baptist Church – Royse City\, 6012 State Highway 276\, Royse City\, TX\, 75189\, United States
END:VEVENT
BEGIN:VEVENT
DTSTART;TZID=UTC:20260301T120000
DTEND;TZID=UTC:20260301T133000
DTSTAMP:20260420T105212
CREATED:20260125T202836Z
LAST-MODIFIED:20260202T172149Z
UID:4909-1772366400-1772371800@cbc-roysecity.com
SUMMARY:Women's Tea
DESCRIPTION:Afternoon Tea at the Church\nSunday\, March 1st\, 12-1:30pm \nYou’re warmly invited to a lovely Afternoon Tea filled with fellowship\, conversation\, and a good cup of tea. \nWhat to bring & wear: \n👒 A hat or favorite tea-time flair (optional\, but encouraged!)\n \n☕ Your favorite tea cup\n \n🍰 A finger food to share (savory or sweet) \n \nTea will be provided—just bring yourself and a friend if you’d like. \nCome sip\, share\, and enjoy a cozy afternoon together.
URL:https://cbc-roysecity.com/event/womens-tea/
LOCATION:Community Baptist Church – Royse City\, 6012 State Highway 276\, Royse City\, TX\, 75189\, United States
END:VEVENT
BEGIN:VEVENT
DTSTART;TZID=UTC:20260301T180000
DTEND;TZID=UTC:20260301T190000
DTSTAMP:20260420T105212
CREATED:20251229T160841Z
LAST-MODIFIED:20260126T182232Z
UID:4852-1772388000-1772391600@cbc-roysecity.com
SUMMARY:Sunday Night Bible Studies
DESCRIPTION:  \nWomen’s Bible Study \nMen’s Bible Study \n 
URL:https://cbc-roysecity.com/event/sunday-night-bible-studies-106/
LOCATION:Community Baptist Church – Royse City\, 6012 State Highway 276\, Royse City\, TX\, 75189\, United States
END:VEVENT
END:VCALENDAR